BEGIN:VCALENDAR
VERSION:2.0
PRODID:-//edih-hamburg - ECPv6.15.20//NONSGML v1.0//EN
CALSCALE:GREGORIAN
METHOD:PUBLISH
X-ORIGINAL-URL:https://edih-hamburg.de
X-WR-CALDESC:Veranstaltungen für edih-hamburg
REFRESH-INTERVAL;VALUE=DURATION:PT1H
X-Robots-Tag:noindex
X-PUBLISHED-TTL:PT1H
BEGIN:VTIMEZONE
TZID:Europe/Berlin
BEGIN:DAYLIGHT
TZOFFSETFROM:+0100
TZOFFSETTO:+0200
TZNAME:CEST
DTSTART:20250330T010000
END:DAYLIGHT
BEGIN:STANDARD
TZOFFSETFROM:+0200
TZOFFSETTO:+0100
TZNAME:CET
DTSTART:20251026T010000
END:STANDARD
BEGIN:DAYLIGHT
TZOFFSETFROM:+0100
TZOFFSETTO:+0200
TZNAME:CEST
DTSTART:20260329T010000
END:DAYLIGHT
BEGIN:STANDARD
TZOFFSETFROM:+0200
TZOFFSETTO:+0100
TZNAME:CET
DTSTART:20261025T010000
END:STANDARD
BEGIN:DAYLIGHT
TZOFFSETFROM:+0100
TZOFFSETTO:+0200
TZNAME:CEST
DTSTART:20270328T010000
END:DAYLIGHT
BEGIN:STANDARD
TZOFFSETFROM:+0200
TZOFFSETTO:+0100
TZNAME:CET
DTSTART:20271031T010000
END:STANDARD
END:VTIMEZONE
BEGIN:VEVENT
DTSTART;TZID=Europe/Berlin:20260303T120000
DTEND;TZID=Europe/Berlin:20260303T123000
DTSTAMP:20260420T083106
CREATED:20260206T064805Z
LAST-MODIFIED:20260206T064805Z
UID:10000344-1772539200-1772541000@edih-hamburg.de
SUMMARY:ARIC Brown Bag Session: AI & Digital Methods for Smart Mobility
DESCRIPTION:Austausch und Einblicke in KI-Projekte – Praxisnah aus der Community\n\n\nVortragssprache: Englisch \n\n\nAI & Digital Methods is the new working group at HafenCity University Hamburg. We research human-centered AI methods\, hybrid digital twins\, agentic systems\, and innovative sensing technologies to understand complex architectural use cases and design livable cities. The presentation will dive into the Smart Mobility case FPOplus\, focusing on real-time flow prediction and advanced network data integration to optimize passenger mobility. The project is funded by the German Federal Ministry of Transport and contributes to making German railways on time. \n\n\nWichtige Information: Ab Januar 2026 findet Ihr unsere ARIC Brown Bag Ankündigungen auf Eventbrite. Ihr wollt nichts verpassen? Dann folgt uns über Eventbrite oder schaut regelmäßig auf unsere Website vorbei. \n\n\nDieses Format wird im Rahmen des EDIH Hamburg\, mit Unterstützung durch die Europäische Union und der Hamburgischen Investitions- und Förderbank angeboten. #EDIHHamburg
URL:https://edih-hamburg.de/event/aric-brown-bag-session-ai-digital-methods-for-smart-mobility/
LOCATION:HH
ATTACH;FMTTYPE=image/jpeg:https://edih-hamburg.de/wp-content/uploads/2026/02/9bacfda3e98684520c733618c4ab65df.jpg
END:VEVENT
BEGIN:VEVENT
DTSTART;TZID=Europe/Berlin:20260305T090000
DTEND;TZID=Europe/Berlin:20260305T180000
DTSTAMP:20260420T083106
CREATED:20260205T234821Z
LAST-MODIFIED:20260205T234821Z
UID:10000339-1772701200-1772733600@edih-hamburg.de
SUMMARY:KI-Sprechstunde
DESCRIPTION:KI kann Energiekosten senken\, Ihre Angestellten entlasten und vieles mehr. Finden Sie mit uns heraus\, wo Ihr Unternehmen profitieren kann.\n\n\nÜberall ist zu hören\, wie KI in allen Bereichen optimieren kann\, doch Sie wollen konkret an Ihrem Unternehmen herausfinden\, was das heißt? \nDamit Sie eine Vorstellung haben\, wie KI erfolgreich genutzt wird\, hier zwei Beispiele: \n\nQualitätssicherung (QS): QS wird in vielen Fällen bildlich betrieben. Sei es durch die Betrachtung des Produkts oder mithilfe von Röntgenbildern. KI erkennt Anomalien auf demselben Niveau wie studierte Experten\, aber deutlich schneller. KI kann unbedenkliche Fälle daher blitzschnell herausfiltern\, womit Ihren Angestellten mehr Zeit zur Verfügung steht\, um die unklaren Fälle zu beurteilen. Dies erhöht die Performance und entlastet Ihre Fachkräfte\, die nun für andere Aufgaben bereitstehen.\nLieferkettenmanagement: Ein wichtiger Bereich des Lieferkettenmanagements ist die Beurteilung der Liefertreue von Zulieferern. KI kann die Zuverlässigkeit von Lieferungen mit ca. 80%iger Wahrscheinlichkeit vorhersagen\, was eine vorausschauende Planung ermöglicht: egal\, ob Sie den Auftrag anderweitig vergeben oder Ihre Produktion anweisen\, andere Aufträge vorzuziehen – Sie werden vorbereitet sein.\n\nSie haben ein anderes Problem oder möchten Genaueres erfahren? Dann buchen Sie eine Stunde mit unserem KI-Trainer Christian Bruss. Egal\, ob Sie bereits einen ausgearbeiteten Plan zur Umsetzung Ihres KI-Konzepts haben oder gerade zum ersten Mal die Buchstaben KI lesen.Unser KI-Trainer hilft Ihnen gern weiter! \nAblauf: Mit Ihrer Anmeldung stimmen Sie einem Zeitslot in dem Zeitraum von 9:00 – 18:00 Uhr zu. Ihr finaler Zeitslot für die KI-Sprechstunde wird Ihnen von unserem KI-Trainer zugeteilt. Absender der E-Mail mit den Informationen zu Ihrem persönlichen Zeitslot und Ihren Zugangsdaten ist die Technische Universität Hamburg (TUHH). Darüber hinaus wird sich unser KI-Trainer vorab mit Ihnen in Verbindung setzen\, um individuelle Wünsche in Bezug auf die Inhalte der KI-Sprechstunde mit Ihnen zu definieren. \nSuchen Sie sich aus den folgende Zeitslots den passenden aus: \n\n9:00 bis 10:00 Uhr\n10:30 bis 11:30 Uhr\n12:00 bis 13:00 Uhr\n14:00 bis 15:00 Uhr\n15:30 bis 16:30 Uhr\n17:00 bis 18:00 Uhr\n\n \nZielgruppe: Kleine und mittlere Unternehmen (KMU) mit und ohne Vorkenntnissen \nOrt: Diese Veranstaltung findet virtuell per Webinar/Videokonferenz statt. Nach Bestätigung Ihrer Anmeldung\, erhalten Sie spätestens einen Tag vor der Veranstaltung die Zugangsdaten und weitere Hinweise zum Login von der Technischen Universität Hamburg (TUHH) per E-Mail. Achten Sie bitte auf die korrekte Schreibweise Ihrer Mailadresse! \n————— \nBitte beachten Sie folgende Hinweise: \n\nMit Ihrer Anmeldung bestätigen Sie\, dass Sie die Datenschutzerklärung (Datenschutzerklärung – 2024 (digitalzentrum-hamburg.de) und rechtlichen Hinweise (Impressum – Mittelstand-Digital Zentrum Hamburg 2024 (digitalzentrum-hamburg.de) zur Kenntnis genommen haben. Ihre Daten werden nicht zu Werbezwecken genutzt. Die Daten werden zur Durchführung der Veranstaltung und zu Zwecken der Evaluation für die Projektlaufzeit gespeichert.\n\n \nDie Förderung durch das BMWK ermöglicht es uns\, Ihnen diese Veranstaltung kostenfrei anzubieten. \n \n \nMit freundlichen Grüßen \nIhr Mittelstand-Digital Zentrum Hamburg-Team
URL:https://edih-hamburg.de/event/ki-sprechstunde-12/
LOCATION:HH
ATTACH;FMTTYPE=image/jpeg:https://edih-hamburg.de/wp-content/uploads/2026/02/813c9909e9593581ac3e5f6d87943f9b.jpg
END:VEVENT
BEGIN:VEVENT
DTSTART;TZID=Europe/Berlin:20260305T120000
DTEND;TZID=Europe/Berlin:20260305T123000
DTSTAMP:20260420T083106
CREATED:20260217T110845Z
LAST-MODIFIED:20260217T110845Z
UID:10000353-1772712000-1772713800@edih-hamburg.de
SUMMARY:ARIC Brown Bag Session: Innovationsland Deutschland
DESCRIPTION:Austausch und Einblicke in KI-Projekte – Praxisnah aus der Community\n\n\nDeutschland steht am Scheideweg. Unsere Wirtschaft steckt in der Rezession\, gleichzeitig liefert unser Forschungssystem Spitzenleistungen. Innovationen\, vor allem in Zukunftstechnologien wie Künstlicher Intelligenz\, könnten unseren Wohlstand sichern\, doch aus den meisten Erfindungen erfolgt keine Weiterentwicklung zur vollen Innovation. Was braucht es\, damit aus Erfindungen Innovationen werden und was müssen einzelnen Player\, sei es in der Wissenschaft\, Wirtschaft und Politik\, tun\, um Deutschland wieder auf Wachstumskurs zu bringen? \n\n\nWichtige Information: Ab Januar 2026 findet Ihr unsere ARIC Brown Bag Ankündigungen auf Eventbrite. Ihr wollt nichts verpassen? Dann folgt uns über Eventbrite oder schaut regelmäßig auf unsere Website vorbei. \n\n\nDieses Format wird im Rahmen des EDIH Hamburg\, mit Unterstützung durch die Europäische Union und der Hamburgischen Investitions- und Förderbank angeboten. #EDIHHamburg
URL:https://edih-hamburg.de/event/aric-brown-bag-session-innovationsland-deutschland/
LOCATION:HH
ATTACH;FMTTYPE=image/jpeg:https://edih-hamburg.de/wp-content/uploads/2026/02/ea2b29a963bd6bad1e4cbb6db10a379b.jpg
END:VEVENT
BEGIN:VEVENT
DTSTART;TZID=Europe/Berlin:20260310T120000
DTEND;TZID=Europe/Berlin:20260310T123000
DTSTAMP:20260420T083106
CREATED:20260217T110846Z
LAST-MODIFIED:20260217T110846Z
UID:10000354-1773144000-1773145800@edih-hamburg.de
SUMMARY:ARIC Brown Bag Session: Souveränität: Vom Buzzword zur Datenhoheit
DESCRIPTION:Austausch und Einblicke in KI-Projekte – Praxisnah aus der Community\n\n\nDer Vortrag beleuchtet\, was Souveränität im rechtlichen und technologischen Kontext wirklich bedeutet und welche Rahmenbedingungen dabei eine Rolle spielen. Er zeigt\, welche Herausforderungen entstehen können\, wenn Daten oder KI Systeme nicht unter eigener Hoheit betrieben werden. Zudem wird skizziert\, welche Ansätze Unternehmen unterstützen können\, um echte technologische Unabhängigkeit zu erreichen. \n\n\nWichtige Information: Ab Januar 2026 findet Ihr unsere ARIC Brown Bag Ankündigungen auf Eventbrite. Ihr wollt nichts verpassen? Dann folgt uns über Eventbrite oder schaut regelmäßig auf unsere Website vorbei. \n\n\nDieses Format wird im Rahmen des EDIH Hamburg\, mit Unterstützung durch die Europäische Union und der Hamburgischen Investitions- und Förderbank angeboten. #EDIHHamburg
URL:https://edih-hamburg.de/event/aric-brown-bag-session-souveraenitaet-vom-buzzword-zur-datenhoheit/
LOCATION:HH
ATTACH;FMTTYPE=image/jpeg:https://edih-hamburg.de/wp-content/uploads/2026/02/4ab261a4d9f58ccc6bc9cc0e0f1569db.jpg
END:VEVENT
BEGIN:VEVENT
DTSTART;TZID=Europe/Berlin:20260312T120000
DTEND;TZID=Europe/Berlin:20260312T123000
DTSTAMP:20260420T083106
CREATED:20260203T015252Z
LAST-MODIFIED:20260203T015252Z
UID:10000332-1773316800-1773318600@edih-hamburg.de
SUMMARY:ARIC Brown Bag Session:  AI Adoption Best Practices for KMU/SMEs
DESCRIPTION:Austausch und Einblicke in KI-Projekte – Praxisnah aus der Community\n\n\nVortragssprache: Englisch \n\n\nBased on expert insights and case studies\, this talk presents eight themes of organisational best practices for small and medium enterprises adopting AI — ranging from selecting first use cases to leveraging external resources. The aim is to provide SMEs with a practical roadmap to explore and implement AI confidently and strategically. \n\n\nWichtige Information: Ab Januar 2026 findet Ihr unsere ARIC Brown Bag Ankündigungen auf Eventbrite. Ihr wollt nichts verpassen? Dann folgt uns über Eventbrite oder schaut regelmäßig auf unsere Website vorbei. \n\n\nDieses Format wird im Rahmen des EDIH Hamburg\, mit Unterstützung durch die Europäische Union und der Hamburgischen Investitions- und Förderbank angeboten. #EDIHHamburg
URL:https://edih-hamburg.de/event/aric-brown-bag-session-ai-adoption-best-practices-for-kmu-smes/
LOCATION:HH
ATTACH;FMTTYPE=image/jpeg:https://edih-hamburg.de/wp-content/uploads/2026/02/45d6077d5d033a70506e1d7ef3510405.jpg
END:VEVENT
BEGIN:VEVENT
DTSTART;TZID=Europe/Berlin:20260312T133000
DTEND;TZID=Europe/Berlin:20260312T170000
DTSTAMP:20260420T083106
CREATED:20260209T234013Z
LAST-MODIFIED:20260209T234013Z
UID:10000346-1773322200-1773334800@edih-hamburg.de
SUMMARY:So gelingt die KI-Transformation: Schritt für Schritt zum Erfolg
DESCRIPTION:Der Workshop zeigt\, wie KI im Unternehmen eingeführt wird\, und bietet einen Fahrplan basierend auf dem Forschungsprojekt „KI-Navigator“.\n\n\nKünstliche Intelligenz kann in vielen Unternehmensbereichen Mehrwerte schaffen – von der Effizienzsteigerung durch Automatisierung zeitintensiver Prozesse über den Einsatz generativer KI als Assistent für tägliche Aufgaben bis hin zur Erschließung neuer Geschäftsfelder. Die entscheidende Frage lautet längst nicht mehr wann\, sondern wie KI im eigenen Unternehmen eingeführt werden sollte. Um diese Frage zu beantworten\, wird in diesem Workshop ein Fahrplan zur Einführung von KI vorgestellt. Dabei werden Ergebnisse aus dem Forschungsprojekt „KI-Navigator“ aufbereitet und auf die spezifischen Anforderungen der Teilnehmenden abgestimmt. \nDer Fokus liegt darauf\, Ihre individuellen Bedürfnisse zu berücksichtigen und praktische Lösungen anzubieten. \nDas erwartet Sie: \n\nAnwendungsfälle: Konkrete Beispiele verdeutlichen\, wie KI genutzt werden kann\, um Unternehmensprozesse effizienter zu gestalten.\n\n\nStrategien zur KI-Einführung: Wir stellen Ihnen ein praxisorientiertes Einführungskonzept vor\, das speziell für kleine und mittlere Unternehmen entwickelt wurde. Sie lernen Schritt für Schritt wie Sie KI einführen können.\n\n\nDiskussion: Bringen Sie Ihre Fragen und Ideen ein\, um gemeinsam Lösungen zu entwickeln.\n\nBitte beachten Sie folgende Hinweise: \nMit Ihrer Anmeldung bestätigen Sie\, dass Sie die Datenschutzerklärung (Datenschutzerklärung – 2024 (digitalzentrum-hamburg.de) und rechtlichen Hinweise (Impressum – Mittelstand-Digital Zentrum Hamburg 2024 (digitalzentrum-hamburg.de) zur Kenntnis genommen haben. Ihre Daten werden nicht zu Werbezwecken genutzt. Die Daten werden zur Durchführung der Veranstaltung und zu Zwecken der Evaluation für die Projektlaufzeit gespeichert. \nDie Förderung durch das BMWK ermöglicht es uns\, Ihnen diese Veranstaltung kostenfrei anzubieten.Diese Veranstaltung findet in Kooperation mit dem EDIH Hamburg statt. \n \nMit freundlichen Grüßen  \nIhr Mittelstand-Digital Zentrum Hamburg-Team
URL:https://edih-hamburg.de/event/so-gelingt-die-ki-transformation-schritt-fuer-schritt-zum-erfolg/
LOCATION:Digital Hub Logistics & Commerce\, Am Sandtorkai 32\, Hamburg\, HH\, 20457\, Germany
ATTACH;FMTTYPE=image/jpeg:https://edih-hamburg.de/wp-content/uploads/2026/02/198d5489c83b719a5fa63ab2c326a8ee.jpg
END:VEVENT
BEGIN:VEVENT
DTSTART;TZID=Europe/Berlin:20260316T150000
DTEND;TZID=Europe/Berlin:20260316T170000
DTSTAMP:20260420T083106
CREATED:20260123T231750Z
LAST-MODIFIED:20260126T152403Z
UID:10000321-1773673200-1773680400@edih-hamburg.de
SUMMARY:Grundlagen der IT-Sicherheit in KMU
DESCRIPTION:Lerne ganz ohne Vorkenntnisse wie du dein Unternehmen im Digitalen schützen kannst.\n\n\n💡Schütze dein Unternehmen mit einfachen IT-Sicherheitsmaßnahmen💡 \nDer Workshop von 3S – Solution Support Service bietet dir eine praktische Einführung in den Schutz vor Cyberangriffen für kleine und mittelständische Unternehmen (KMU). \nWas dich erwartet: \n• Einblick in die Bedrohungslage für KMU \n• Live-Hacking erleben – wie Angreifer vorgehen \n• Verständliche Erklärungen zu IT-Sicherheit und richtigen Reaktionen \n• Tipps zu E-Mail-\, Download- und Web-Management \n• Bedeutung und Funktion eines Backups \n• Praxisnahe Alltagstipps\, um Ihr Unternehmen zu schützen \n  \n🗣️ Referenten:Bernd Hennig – IT-Spezialist – HITeC e.V. – Hamburger Informatik Technologie-Center \nPhillip Warczak – IT-Spezialist – HITeC e.V. – Hamburger Informatik Technologie-Center \nAlexander Steffens – IT-Spezialist – HITeC e.V. – Hamburger Informatik Technologie-Center \nMatthias Kruspe – IT-Spezialist – HITeC e.V. – Hamburger Informatik Technologie-Center \n  \n🇩🇪 Sprache: Deutsch \n  \n🫵 Sichern Sie sich jetzt Ihren Platz! Die Plätze sind begrenzt. \n  \nWir freuen uns darauf\, Sie bei unserem Workshop zu begrüßen und gemeinsam die wichtigsten Schutzmaßnahmen kennenzulernen! 🌟 \n  \nDisclaimer: Dieses Event wird von HITeC e.V. im Rahmen von EDIH Hamburg angeboten. \nEDIH Hamburg ist Teil des European Digital Innovation Hub (EDIH)-Programms. Ziel des Programms ist es\, insbesondere kleine und mittlere Unternehmen (KMU)\, mittelständische Unternehmen sowie öffentliche Verwaltungen (PSO) in der Metropolregion Hamburg für die Herausforderungen von Morgen zu rüsten. Die Anforderungen an kritische Infrastrukturen ändern sich\, neue Lösungen müssen evaluiert und umgesetzt werden – von allgemeinen Digitalisierungsthemen über Fragen der Cybersecurity\, der künstlichen Intelligenz\, der verteilten Infrastruktur bis hin zum High Performance Computing.
URL:https://edih-hamburg.de/event/grundlagen-der-it-sicherheit-in-kmu-7/
LOCATION:Digital Hub Logistics Hamburg\, Am Sandtorkai 32\, Hamburg\, HH\, 20457\, Germany
ATTACH;FMTTYPE=image/png:https://edih-hamburg.de/wp-content/uploads/2026/01/IT-Sicherheit-in-KMU.png
END:VEVENT
BEGIN:VEVENT
DTSTART;TZID=Europe/Berlin:20260317T120000
DTEND;TZID=Europe/Berlin:20260317T123000
DTSTAMP:20260420T083106
CREATED:20260225T113252Z
LAST-MODIFIED:20260225T113252Z
UID:10000369-1773748800-1773750600@edih-hamburg.de
SUMMARY:ARIC Brown Bag: Wenn KI schützt: Maya gegen häusliche Gewalt
DESCRIPTION:Austausch und Einblicke in KI-Projekte – Praxisnah aus der Community\n\n\nNicht jede Person\, die Gewalt in ihrer Beziehung erlebt\, erkennt sie sofort als solche – und viele suchen zunächst online nach Orientierung\, bevor sie sich an Beratungsstellen oder ihr persönliches Umfeld wenden. Maya bietet als KI-Hilfe-Chat einen geschützten digitalen Raum zur Reflexion\, Einordnung und Stärkung der eigenen Handlungssicherheit. In 30 Minuten zeigen wir\, wie Technologie und soziale Wirkung in einem AI-for-Good-Produkt für eine besonders sensible Zielgruppe zusammenkommen. \n\n\nWichtige Information: Ab Januar 2026 findet Ihr unsere ARIC Brown Bag Ankündigungen auf Eventbrite. Ihr wollt nichts verpassen? Dann folgt uns über Eventbrite oder schaut regelmäßig auf unsere Website vorbei. \n\n\nDieses Format wird im Rahmen des EDIH Hamburg\, mit Unterstützung durch die Europäische Union und der Hamburgischen Investitions- und Förderbank angeboten. #EDIHHamburg
URL:https://edih-hamburg.de/event/aric-brown-bag-wenn-ki-schuetzt-maya-gegen-haeusliche-gewalt/
LOCATION:HH
ATTACH;FMTTYPE=image/jpeg:https://edih-hamburg.de/wp-content/uploads/2026/02/71211fb35f0b6dca890f9b0e4e95111b.jpg
END:VEVENT
BEGIN:VEVENT
DTSTART;TZID=Europe/Berlin:20260319T120000
DTEND;TZID=Europe/Berlin:20260319T123000
DTSTAMP:20260420T083106
CREATED:20260217T110905Z
LAST-MODIFIED:20260217T110905Z
UID:10000359-1773921600-1773923400@edih-hamburg.de
SUMMARY:ARIC Brown Bag Session: Nachhaltig wirtschaften mit KI
DESCRIPTION:Austausch und Einblicke in KI-Projekte – Praxisnah aus der Community\n\n\nDie Session gibt Einblicke in den Green AI Hub Mittelstand und zeigt anhand von ausgewählten Pilotprojekten über verschiedene Branchen\, wie KI-Anwendungen Ressourceneffizienz in Unternehmen unterstützen. Vorgestellt werden zentrale Anwendungsfelder und messbare Wirkungen wie Material- und CO₂-Einsparungen. Ergänzend werden die Green AI Guidelines vorgestellt: was sie sind\, wofür sie entwickelt wurden und wie sie die Umsetzung ressourceneffizienter KI strukturieren. \n\n\nWichtige Information: Ab Januar 2026 findet Ihr unsere ARIC Brown Bag Ankündigungen auf Eventbrite. Ihr wollt nichts verpassen? Dann folgt uns über Eventbrite oder schaut regelmäßig auf unsere Website vorbei. \n\n\nDieses Format wird im Rahmen des EDIH Hamburg\, mit Unterstützung durch die Europäische Union und der Hamburgischen Investitions- und Förderbank angeboten. #EDIHHamburg
URL:https://edih-hamburg.de/event/aric-brown-bag-session-nachhaltig-wirtschaften-mit-ki/
LOCATION:HH
ATTACH;FMTTYPE=image/jpeg:https://edih-hamburg.de/wp-content/uploads/2026/02/62d6cf6d415a7a2f1d8e25a547530aaa.jpg
END:VEVENT
BEGIN:VEVENT
DTSTART;TZID=Europe/Berlin:20260319T170000
DTEND;TZID=Europe/Berlin:20260319T183000
DTSTAMP:20260420T083106
CREATED:20260114T161310Z
LAST-MODIFIED:20260114T161310Z
UID:10000294-1773939600-1773945000@edih-hamburg.de
SUMMARY:Führung durch den ARIC-Showroom für Künstliche Intelligenz
DESCRIPTION:Bei den geführten Besichtigung des ARIC-Showrooms erfahrt ihr\, wie Künstliche Intelligenz in der Praxis eingesetzt wird.\n\n\nIm ARIC KI-Showroom wird KI niedrigschwellig zugänglich und erlebbar. Interaktiv und verständlich zeigen wir anhand von unterschiedlichen KI-Anwendungen\, wie vielfältig KI bereits eingesetzt wird. \nAls KI-Kompetenzzentrum legen wir besonderen Wert auf die Vermittlung der grundlegenden technischen Funktionsweisen. Wir erklären beispielhaft verschiedene Machine Learning Algorithmen und demonstrieren diese anhand unserer Exponate. \nOb am Flughafen\, an der S-Bahn-Station\, beim Antirassismus Training oder in einem Bienenstock – KI unterstützt bei ganz unterschiedlichen Aufgaben. Bei einer Showroom-Führung erwartet euch eine Mischung aus technischem Theoriewissen und der Demonstration der KI-Exponate. \n \nDie öffentliche Showroom Führung ist ab 16 Jahren. Für Kinder bieten wir regelmäßig gesonderte Showroom Führungen an. \nMehr über unseren Showroom erfahrt ihr auf der ARIC-Website: https://aric-hamburg.de/aric-universum/ki-showroom/ \nRäumlichkeiten: \nDer Showroom befindet sich im fünften Stock des Dockland\, van-der-Smissen-Str. 9\, Altona. Bitte kommt pünktlich und klingelt im Erdgeschoss bei aric. Ein Fahrstuhl ist vorhanden. \nMailadresse für Rückfragen: showroom-booking@aric-hamburg.de \n\n\nDieses Format wird im Rahmen des EDIH Hamburg mit Unterstützung durch die EU und die IFB Hamburg angeboten. #EDIHhamburg
URL:https://edih-hamburg.de/event/fuehrung-durch-den-aric-showroom-fuer-kuenstliche-intelligenz-2/
LOCATION:Artificial Intelligence Center Hamburg (ARIC) e.V.\, Van-der-Smissen-Straße 9\, Hamburg\, HH\, 22767\, Germany
ATTACH;FMTTYPE=image/jpeg:https://edih-hamburg.de/wp-content/uploads/2026/01/8d8e98fdf99ef869403bead6b9fd77b0.jpg
END:VEVENT
BEGIN:VEVENT
DTSTART;TZID=Europe/Berlin:20260324T120000
DTEND;TZID=Europe/Berlin:20260324T123000
DTSTAMP:20260420T083106
CREATED:20260317T110251Z
LAST-MODIFIED:20260317T110251Z
UID:10000383-1774353600-1774355400@edih-hamburg.de
SUMMARY:ARIC Brown Bag: Insight: Neuromorphes Computing Teil 1
DESCRIPTION:Austausch und Einblicke in KI-Projekte – Praxisnah aus der Community\n\n\nNeuromorphe Prinzipien in der Entwicklung künstlicher Intelligenz – Diese Brown Bag Session gibt grundlegende Orientierung zum Thema Neuromorphes Computing und dessen Einflüsse auf KI; Was ist Neuromorphes Computing? Wo steht die Technologie? Was macht deren Prinzipien für KI-Anwendungen interessant? \n\n\nWichtige Information: Ab Januar 2026 findet Ihr unsere ARIC Brown Bag Ankündigungen auf Eventbrite. Ihr wollt nichts verpassen? Dann folgt uns über Eventbrite oder schaut regelmäßig auf unsere Website vorbei. \n\n\nDieses Format wird im Rahmen des EDIH Hamburg\, mit Unterstützung durch die Europäische Union und der Hamburgischen Investitions- und Förderbank angeboten. #EDIHHamburg
URL:https://edih-hamburg.de/event/aric-brown-bag-insight-neuromorphes-computing-teil-1/
LOCATION:HH
ATTACH;FMTTYPE=image/jpeg:https://edih-hamburg.de/wp-content/uploads/2026/03/0d36d242e94835c5c56d57c8ff917414.jpg
END:VEVENT
BEGIN:VEVENT
DTSTART;TZID=Europe/Berlin:20260326T120000
DTEND;TZID=Europe/Berlin:20260326T123000
DTSTAMP:20260420T083106
CREATED:20260217T110907Z
LAST-MODIFIED:20260217T110907Z
UID:10000360-1774526400-1774528200@edih-hamburg.de
SUMMARY:ARIC Brown Bag Session: Hire or Fire: Wer bleibt in der KI-Ära?
DESCRIPTION:Austausch und Einblicke in KI-Projekte – Praxisnah aus der Community\n\n\nIn KI-Projekten geht es längst nicht mehr nur um Technologie\, sondern um Entscheidungen über Menschen\, Rollen und Skills. \nIch teile Einblicke aus der Praxis und zeige\, wie man Veränderungen von Rollen einordnet\, Weiterentwicklung sinnvoll angeht und fundierte Entscheidungen für sich selbst und für Teams trifft. \n\n\nWichtige Information: Ab Januar 2026 findet Ihr unsere ARIC Brown Bag Ankündigungen auf Eventbrite. Ihr wollt nichts verpassen? Dann folgt uns über Eventbrite oder schaut regelmäßig auf unsere Website vorbei. \n\n\nDieses Format wird im Rahmen des EDIH Hamburg\, mit Unterstützung durch die Europäische Union und der Hamburgischen Investitions- und Förderbank angeboten. #EDIHHamburg
URL:https://edih-hamburg.de/event/aric-brown-bag-session-hire-or-fire-wer-bleibt-in-der-ki-aera/
LOCATION:HH
ATTACH;FMTTYPE=image/jpeg:https://edih-hamburg.de/wp-content/uploads/2026/02/bfbae721f343be1cd93126dc72b6b6f2.jpg
END:VEVENT
BEGIN:VEVENT
DTSTART;TZID=Europe/Berlin:20260326T150000
DTEND;TZID=Europe/Berlin:20260326T170000
DTSTAMP:20260420T083106
CREATED:20260305T113321Z
LAST-MODIFIED:20260305T113321Z
UID:10000377-1774537200-1774544400@edih-hamburg.de
SUMMARY:ARIC Insights: LLMs and Agentic Coding
DESCRIPTION:This session is part of the ARIC Insights series\, in which ARIC offers in-depth perspectives on current AI topics.\n\n\nBackground Large language models (LLMs) are increasingly being used not only as conversational systems but also as agents that can plan and execute tasks in pursuit of a defined goal. In software development\, this development is particularly visible: instead of merely generating code suggestions\, LLMs can write\, modify\, test\, and refactor code\, and interact with external tools and environments. \nThese capabilities lower the barrier to creating small\, task-specific applications\, accelerate prototyping\, and enable more individualized software solutions. At the same time\, they raise questions about how software development practices\, roles\, and quality standards may evolve. \n\n\nContent of the event The talk will begin with a brief conceptual framing of how large language models work and how tool integration enables agent-like behavior. Building on this foundation\, Pascal will discuss practical examples from software development and reflect on broader implications for the field. \n\n\nTopics include: \n\nA short conceptual overview of LLMs\, tool use\, and LLM-based agents\n\n\nThe spectrum of AI support in coding: from autocomplete to agentic workflows\n\n\nPractical experiences and observed limitations\n\n\nPossible implications for software engineering processes and roles\nOpen discussion and exchange of experiences\n\n\n\nTarget audience This session is primarily aimed at technically inclined participants and practitioners who are interested in the practical use of AI in software development. No programming knowledge is required\, but a general familiarity with technical concepts will be helpful. \n\n\nAbout the speaker Dr. Pascal Wichmann is AI Manager at ARIC and Head of AI at Caps & Collars \n\n\nThis event This session is part of the ARIC Insights series\, in which ARIC offers in-depth perspectives on current AI topics. The event will take place online and participation is free of charge. \n\n\nThe webinar will be conducted in English.
URL:https://edih-hamburg.de/event/aric-insights-llms-and-agentic-coding/
LOCATION:HH
ATTACH;FMTTYPE=image/jpeg:https://edih-hamburg.de/wp-content/uploads/2026/03/91d7f0841e9b9933deb4250a68a5be30.jpg
END:VEVENT
BEGIN:VEVENT
DTSTART;TZID=Europe/Berlin:20260331T120000
DTEND;TZID=Europe/Berlin:20260331T123000
DTSTAMP:20260420T083106
CREATED:20260226T113358Z
LAST-MODIFIED:20260226T113358Z
UID:10000373-1774958400-1774960200@edih-hamburg.de
SUMMARY:ARIC Brown Bag: Beyond Quantum Resilience: Embedded Security with & for PQC
DESCRIPTION:Austausch und Einblicke in KI-Projekte – Praxisnah aus der Community\n\n\nVortragssprache: Englisch \n\n\nPost-Quantum Cryptography (PQC) is being standardized and guidance for migration is available. This talk explains what PQC means for embedded devices and what to consider when moving from today’s crypto to PQC\, including resource constraints and secure implementations. \n\n\nWichtige Information: Ab Januar 2026 findet Ihr unsere ARIC Brown Bag Ankündigungen auf Eventbrite. Ihr wollt nichts verpassen? Dann folgt uns über Eventbrite oder schaut regelmäßig auf unsere Website vorbei. \n\n\nDieses Format wird im Rahmen des EDIH Hamburg\, mit Unterstützung durch die Europäische Union und der Hamburgischen Investitions- und Förderbank angeboten. #EDIHHamburg
URL:https://edih-hamburg.de/event/aric-brown-bag-beyond-quantum-resilience-embedded-security-with-for-pqc/
LOCATION:HH
ATTACH;FMTTYPE=image/jpeg:https://edih-hamburg.de/wp-content/uploads/2026/02/4775a154b4621211c7cc498d1f5f5b21.jpg
END:VEVENT
END:VCALENDAR