BEGIN:VCALENDAR
VERSION:2.0
PRODID:-//edih-hamburg - ECPv6.15.20//NONSGML v1.0//EN
CALSCALE:GREGORIAN
METHOD:PUBLISH
X-WR-CALNAME:edih-hamburg
X-ORIGINAL-URL:https://edih-hamburg.de
X-WR-CALDESC:Veranstaltungen für edih-hamburg
REFRESH-INTERVAL;VALUE=DURATION:PT1H
X-Robots-Tag:noindex
X-PUBLISHED-TTL:PT1H
BEGIN:VTIMEZONE
TZID:Europe/Berlin
BEGIN:DAYLIGHT
TZOFFSETFROM:+0100
TZOFFSETTO:+0200
TZNAME:CEST
DTSTART:20250330T010000
END:DAYLIGHT
BEGIN:STANDARD
TZOFFSETFROM:+0200
TZOFFSETTO:+0100
TZNAME:CET
DTSTART:20251026T010000
END:STANDARD
BEGIN:DAYLIGHT
TZOFFSETFROM:+0100
TZOFFSETTO:+0200
TZNAME:CEST
DTSTART:20260329T010000
END:DAYLIGHT
BEGIN:STANDARD
TZOFFSETFROM:+0200
TZOFFSETTO:+0100
TZNAME:CET
DTSTART:20261025T010000
END:STANDARD
BEGIN:DAYLIGHT
TZOFFSETFROM:+0100
TZOFFSETTO:+0200
TZNAME:CEST
DTSTART:20270328T010000
END:DAYLIGHT
BEGIN:STANDARD
TZOFFSETFROM:+0200
TZOFFSETTO:+0100
TZNAME:CET
DTSTART:20271031T010000
END:STANDARD
END:VTIMEZONE
BEGIN:VEVENT
DTSTART;TZID=Europe/Berlin:20260512T170000
DTEND;TZID=Europe/Berlin:20260512T200000
DTSTAMP:20260420T083025
CREATED:20260205T234822Z
LAST-MODIFIED:20260205T234822Z
UID:10000340-1778605200-1778616000@edih-hamburg.de
SUMMARY:Prompt-a-thon: KI im Handwerk verstehen und ausprobieren
DESCRIPTION:Generative KI praxisnah erleben und für den eigenen Betrieb nutzen\n\n\nWas kann Künstliche Intelligenz im Handwerksalltag wirklich leisten – zwischen Werkstatt\, Baustelle und Büro? \nIn diesem Prompt-a-thon probieren Sie Generative KI ganz praktisch aus. Ohne Vorwissen und ohne Technik-Blabla. Sie arbeiten in kleinen Teams an typischen Aufgaben aus Handwerksbetrieben und testen\, wie KI bei Angeboten\, Kundenkommunikation\, Organisation oder Ideenfindung unterstützen kann. \n \nWas ist ein Prompt-a-thon? \nEin Prompt-a-thon ist angelehnt an einen Hackathon – nur ohne Programmieren. Statt Maschinen oder Code geht es um die richtigen Eingaben („Prompts“) für KI-Tools wie bekannte Sprachmodelle. Sie erleben\, wie sich Ergebnisse verändern\, wie zuverlässig KI ist und wo man im Handwerk genau hinschauen muss. \n \nInhalte & Ablauf \n\nKurze Einführung in generative KI\nPraxisphase in kleinen\, moderierten Gruppen\nAufgaben aus dem Handwerksalltag bearbeiten\nKI testen\, Prompts verbessern und Ergebnisse vergleichen\nGemeinsamer Austausch und Transfer in den eigenen Betrieb\n\n \nDas nehmen Sie mit \n\nGrundverständnis für Generative KI\nSicherheit im Umgang mit KI-Tools\nKonkrete Ideen für den Einsatz im eigenen Betrieb\nEin realistisches Bild von Chancen und Grenzen\nAustausch mit anderen Betrieben aus dem Handwerk\n\n \n \nZielgruppe \nInhaberinnen und Inhaber von Handwerksbetrieben sowie Mitarbeitende aus Büro\, Bauleitung\, Planung oder Kundenkontakt. \n \nReferenten \n\nConstantin von Brackel\, Universität Hamburg – IT-Management & -Consulting (ITMC)\nEmir Kučević\, Universität Hamburg – IT-Management & -Consulting (ITMC)\nNiklas Soldwedel – KI Trainer\, Mittelstand-Digital Zentrum Hamburg\n\nModeration \nSandra Holm\, Mittelstand-Digital Zentrum Hamburg \n \n \nVeranstaltungsortTeilnahme nur nach bestätigter Anmeldung! Die Teilnehmerzahl ist begrenzt. \nFür das leibliche Wohl mit einem kleinen Imbiss und Getränken ist gesorgt. \n \nDie Veranstaltung wird in Kooperation durchgeführt: EDIH HH \nFragen zur Veranstaltung? Handwerk4.0@hwk-hamburg.de \n \nBitte beachten Sie folgende Hinweise: \n\nMit Ihrer Anmeldung bestätigen Sie\, dass Sie die Datenschutzerklärung (Datenschutzerklärung – 2024 (digitalzentrum-hamburg.de) und rechtlichen Hinweise (Impressum – Mittelstand-Digital Zentrum Hamburg 2024 (digitalzentrum-hamburg.de) zur Kenntnis genommen haben. Ihre Daten werden nicht zu Werbezwecken genutzt. Die Daten werden zur Durchführung der Veranstaltung und zu Zwecken der Evaluation für die Projektlaufzeit gespeichert.\n\n \nDie Förderung durch das BMWK ermöglicht es uns\, Ihnen diese Veranstaltung kostenfrei anzubieten. \n \n \nMit freundlichen Grüßen \nIhr Mittelstand-Digital Zentrum Hamburg-Team
URL:https://edih-hamburg.de/event/prompt-a-thon-ki-im-handwerk-verstehen-und-ausprobieren/
LOCATION:Digital Hub Logistics & Commerce\, Am Sandtorkai 32\, Hamburg\, HH\, 20457\, Germany
ATTACH;FMTTYPE=image/jpeg:https://edih-hamburg.de/wp-content/uploads/2026/02/f61b1facc910bec760e7f3f9e90a951d.jpg
END:VEVENT
BEGIN:VEVENT
DTSTART;TZID=Europe/Berlin:20260519T111500
DTEND;TZID=Europe/Berlin:20260519T120000
DTSTAMP:20260420T083025
CREATED:20260315T234745Z
LAST-MODIFIED:20260315T234745Z
UID:10000379-1779189300-1779192000@edih-hamburg.de
SUMMARY:Erfolgsfaktoren in KI-Projekten: Umgang mit Widerständen
DESCRIPTION:Praxisimpuls für erfolgreiche KI-Change-Projekte\n\n\nKünstliche Intelligenz bietet große Chancen für kleine und mittlere Unternehmen – doch viele Projekte scheitern nicht an der Technik\, sondern an menschlichen Widerständen. In dieser Online-Session erfahren Sie\, warum solche Widerstände entstehen und wie Unternehmen konstruktiv damit umgehen können. \n \nDie Veranstaltung zeigt praxisnah\, welche Faktoren den Erfolg von KI-Projekten im Unternehmen beeinflussen. Neben fachlichem Input aus dem Mittelstand-Digital Zentrum Hamburg berichtet eine KI-Managerin aus der Praxis von ihren Erfahrungen bei der Einführung eines KI-Projekts – inklusive der Herausforderungen durch menschliche Widerstände und den wichtigsten Learnings. \n \nDas erwartet Sie \n\nFachlicher Input zum Erfolgsfaktor Umgang mit Widerständen in KI-Change-Projekten\nPraxisbericht aus einem realen KI-Projekt im Mittelstand\nErfahrungswissen zu typischen menschlichen Widerständen bei der Einführung von KI\nAustausch und Diskussion mit allen Teilnehmenden\n\n \n \nZielgruppe \nAlle KI-Interessierten aus kleinen und mittleren Unternehmen\, die sich mit der Einführung von KI beschäftigen – ohne dass tiefgehende technische Vorkenntnisse erforderlich sind. \n \nReferenten \n\nNiklas Soldwedel\, KI-Trainer\, Mittelstand-Digital Zentrum Hamburg\nChristine Mish\, Projektreferentin\, Mittelstand-Digital Zentrum Hamburg\n\n \nHinweis zur Veranstaltungsreihe \nDie Veranstaltung ist Teil der Reihe „Ausgewählte Erfolgsfaktoren in KI-Change-Projekten“\, konzipiert von den Mittelstand-Digital Zentren Hamburg\, Kaiserslautern und Saarbrücken. \n \nBitte beachten Sie folgende Hinweise: \n\nMit Ihrer Anmeldung bestätigen Sie\, dass Sie die Datenschutzerklärung (Datenschutzerklärung – 2024 (digitalzentrum-hamburg.de) und rechtlichen Hinweise (Impressum – Mittelstand-Digital Zentrum Hamburg 2024 (digitalzentrum-hamburg.de) zur Kenntnis genommen haben. Ihre Daten werden nicht zu Werbezwecken genutzt. Die Daten werden zur Durchführung der Veranstaltung und zu Zwecken der Evaluation für die Projektlaufzeit gespeichert.\n\n \nDie Förderung durch das BMWK ermöglicht es uns\, Ihnen diese Veranstaltung kostenfrei anzubieten. \n \nDie Veranstaltung wird in Kooperation durchgeführt: EDIH HH \nFragen zur Veranstaltung? Handwerk4.0@hwk-hamburg.de \n \nMit freundlichen Grüßen \nIhr Mittelstand-Digital Zentrum Hamburg-Team
URL:https://edih-hamburg.de/event/erfolgsfaktoren-in-ki-projekten-umgang-mit-widerstaenden/
LOCATION:HH
ATTACH;FMTTYPE=image/jpeg:https://edih-hamburg.de/wp-content/uploads/2026/03/3bab87988899a9e207d857a6582d7f8d.jpg
END:VEVENT
BEGIN:VEVENT
DTSTART;TZID=Europe/Berlin:20260519T183000
DTEND;TZID=Europe/Berlin:20260519T210000
DTSTAMP:20260420T083025
CREATED:20260114T161312Z
LAST-MODIFIED:20260114T161312Z
UID:10000296-1779215400-1779224400@edih-hamburg.de
SUMMARY:AI Mix & Mingle Women's Edition
DESCRIPTION:KI-Stammtisch exklusiv für Frauen &  FLINTA*.  Vernetzen\, austauschen inspirieren!\n\n\n(english below) \nDer AI Mix & Mingle – Women Edition bietet euch die perfekte Gelegenheit\, in entspannter Atmosphäre mit anderen KI-Interessierten ins Gespräch zu kommen\, euch auszutauschen und zu vernetzen. Egal\, ob ihr bereits tief in der Materie steckt oder einfach neugierig seid – hier ist jede willkommen\, die sich für Künstliche Intelligenz interessiert! \n👩‍💻 Was euch erwartet: \n✨ Inspirierende Gespräche rund um KI & Technologie🤝 Networking mit Gleichgesinnten☕ Lockeres Get-Together in angenehmer Atmosphäre \nLasst uns gegenseitig empowern und die Zukunft der KI mitgestalten. \n🔗 Meldet euch jetzt an und seid dabei! \nWir freuen uns auf euch! 💜 \nDieses Format wird im Rahmen des EDIH Hamburg mit Unterstützung durch die Europäische Union und der Hamburgischen Investitions- und Förderbank angeboten. #EDIHHamburg \n—————– \nThe AI Mix & Mingle – WomenEdition offers you the perfect opportunity to get into conversation\, exchange ideas and network with other AI enthusiasts in a relaxed atmosphere. Regardless of whether you are already deeply involved in the subject or are simply curious – everyone interested in artificial intelligence is welcome here! \n👩‍💻 What you can expect: \n✨ Inspiring talks about AI & technology \n🤝 Networking with like-minded people \n☕ Relaxed get-together in a pleasant atmosphere \nLet’s empower each other and help shape the future of AI \n🔗 Register now and join us! \nWe look forward to seeing you! 💜 \nThis event is offered as a part of EDIH Hamburg\, supported by the EU and IFB Hamburg. #EDIHhamburg
URL:https://edih-hamburg.de/event/ai-mix-mingle-womens-edition-2/
LOCATION:Zoë II – Sofabar\, Neuer Pferdemarkt 17\, Hamburg\, HH\, 20359\, Germany
ATTACH;FMTTYPE=image/jpeg:https://edih-hamburg.de/wp-content/uploads/2026/01/153374fc22ba0cf4cfe7def7c9b5f67f.jpg
END:VEVENT
BEGIN:VEVENT
DTSTART;TZID=Europe/Berlin:20260521T120000
DTEND;TZID=Europe/Berlin:20260521T123000
DTSTAMP:20260420T083025
CREATED:20260317T110311Z
LAST-MODIFIED:20260317T110311Z
UID:10000388-1779364800-1779366600@edih-hamburg.de
SUMMARY:ARIC Brown Bag: Insight: Bildkompetenz\, Fake News und KI
DESCRIPTION:Austausch und Einblicke in KI-Projekte – Praxisnah aus der Community\n\n\nBildkompetenz war schon immer ein wichtiger Bestandteil von Medienkompetenz. Mit der zunehmenden gesellschaftlichen Durchdringung von KI-Technologien und im Kontext von Fake News und Desinformation gewinnt dieser Bereich an Brisanz. Da sehr viele politische Informationen auch über Bilder kommuniziert und rezipiert werden\, leistet Bildkompetenz auch einen wichtigen Beitrag zum Erhalt von Demokratien. \n\n\nWichtige Information: Ab Januar 2026 findet Ihr unsere ARIC Brown Bag Ankündigungen auf Eventbrite. Ihr wollt nichts verpassen? Dann folgt uns über Eventbrite oder schaut regelmäßig auf unsere Website vorbei. \n\n\nDieses Format wird im Rahmen des EDIH Hamburg\, mit Unterstützung durch die Europäische Union und der Hamburgischen Investitions- und Förderbank angeboten. #EDIHHamburg
URL:https://edih-hamburg.de/event/aric-brown-bag-insight-bildkompetenz-fake-news-und-ki/
LOCATION:HH
ATTACH;FMTTYPE=image/jpeg:https://edih-hamburg.de/wp-content/uploads/2026/03/db159af364b5ce73a4f44a9dca75202d.jpg
END:VEVENT
BEGIN:VEVENT
DTSTART;TZID=Europe/Berlin:20260526T183000
DTEND;TZID=Europe/Berlin:20260526T210000
DTSTAMP:20260420T083025
CREATED:20260114T161314Z
LAST-MODIFIED:20260114T161314Z
UID:10000297-1779820200-1779829200@edih-hamburg.de
SUMMARY:AI Mix & Mingle in May| KI-Stammtisch im Mai
DESCRIPTION:We are calling in all AI enthusiasts in Hamburg. Let’s talk and exchange thoughts and ideas!\n\n\n(english below) \nWir laden euch herzlich ein\, uns jeden letzten Dienstag im Monat von 18:30– 21 Uhr im ZOË („Sofabar“\, Neuer Pferdemarkt 17\, Hamburg Sternschanze\, linker Eingang) zu treffen. \nTrefft andere KI- und Technikinteressierte bei unserem etablierten KI-Stammtisch\, der seit mehr als drei Jahren die Hamburger KI-Szene zusammenbringt. Beim AI Mix & Mingle in der Sofabar könnt ihr in lockerer Atmosphäre Gedanken austauschen oder über eure KI-Projekte sprechen. Es gibt keine Vorträge. Der Fokus liegt auf dem Austausch und dem Knüpfen von Kontakten. \nEure Anmeldung ist nicht zwingend erforderlich\, aber sehr willkommen: Für eine bessere Planung würden wir uns freuen\, wenn ihr euch vorher über Eventbrite anmeldet. Ihr dürft aber auch spontan vorbeischauen\, um mit uns und anderen Netzwerke schmieden und interessante Gespräche über KI und die Welt zu führen! \nWir freuen uns auf euch! \nSchreibt eure Fragen\, Anmerkungen und euer Feedback gern per Mail an: cm@aric-hamburg.de \nWeitere Informationen auch auf unserer Website: https://aric-hamburg.de/veranstaltungen/ai-mix-mingle-ki-stammtisch-hamburg/ \nKommende Daten: \n\nJuni: 30.06.2026\nJuli: Sommerpause\nAugust: Sommerpause\nSeptember: 29.09.2026\nOktober: Herbstpause\nNovember: 24.11.2026\nDezember: Winterpause\n\nDieses Format wird im Rahmen des EDIH Hamburg mit Unterstützung durch die Europäische Union und der Hamburgischen Investitions- und Förderbank angeboten. #EDIHHamburg \n—————– \nWe meet every last tuesday of the month for our AI Mix and Mingle. We meet 6:30–9 pm at ZOË (Neuer Pferdemarkt 10\, Hamburg Sternschanze). \nMeet other AI and tech enthusiasts at our well-established AI Meetup\, bringing together the Hamburg AI scene for more than three years. Join us for the AI Mix & Mingle at Sofabar\, where you can chat casually\, exchange ideas\, or discuss your AI projects. There are no presentations—the focus is on networking and open conversation. \nWhile your registration is not mandatory\, it is appreciated. You would make our reporting easier if you sign up on Eventbrite. But feel free to drop by spontaneously\, too\, to connect with us and others\, build networks\, and dive into interesting conversations about AI and beyond! \nWe are lookimg forward to seeing you there!For any questions\, comments\, or feedback\, please email us at: cm@aric-hamburg.deMore information on our website: [https://aric-hamburg.de/veranstaltungen/ai-mix-mingle \nUpcoming dates: \n\nJune: 30.06.2026\nJuly: Holiday Break\nAugust: Holiday Break\nSeptember: 29.09.2026\nOctober: Holiday Break\nNovember: 24.11.2026\nDecember: Holiday Break\n\nThis event is offered as a part of EDIH Hamburg\, supported by the EU and IFB Hamburg. #EDIHhamburg
URL:https://edih-hamburg.de/event/ai-mix-mingle-in-may-ki-stammtisch-im-mai/
LOCATION:Zoë II – Sofabar\, Neuer Pferdemarkt 17\, Hamburg\, HH\, 20359\, Germany
ATTACH;FMTTYPE=image/jpeg:https://edih-hamburg.de/wp-content/uploads/2026/01/ffa797b32bbca4b3a1366fd637371c2b.jpg
END:VEVENT
END:VCALENDAR