BEGIN:VCALENDAR
VERSION:2.0
PRODID:-//edih-hamburg - ECPv6.15.20//NONSGML v1.0//EN
CALSCALE:GREGORIAN
METHOD:PUBLISH
X-ORIGINAL-URL:https://edih-hamburg.de
X-WR-CALDESC:Veranstaltungen für edih-hamburg
REFRESH-INTERVAL;VALUE=DURATION:PT1H
X-Robots-Tag:noindex
X-PUBLISHED-TTL:PT1H
BEGIN:VTIMEZONE
TZID:Europe/Berlin
BEGIN:DAYLIGHT
TZOFFSETFROM:+0100
TZOFFSETTO:+0200
TZNAME:CEST
DTSTART:20250330T010000
END:DAYLIGHT
BEGIN:STANDARD
TZOFFSETFROM:+0200
TZOFFSETTO:+0100
TZNAME:CET
DTSTART:20251026T010000
END:STANDARD
BEGIN:DAYLIGHT
TZOFFSETFROM:+0100
TZOFFSETTO:+0200
TZNAME:CEST
DTSTART:20260329T010000
END:DAYLIGHT
BEGIN:STANDARD
TZOFFSETFROM:+0200
TZOFFSETTO:+0100
TZNAME:CET
DTSTART:20261025T010000
END:STANDARD
BEGIN:DAYLIGHT
TZOFFSETFROM:+0100
TZOFFSETTO:+0200
TZNAME:CEST
DTSTART:20270328T010000
END:DAYLIGHT
BEGIN:STANDARD
TZOFFSETFROM:+0200
TZOFFSETTO:+0100
TZNAME:CET
DTSTART:20271031T010000
END:STANDARD
END:VTIMEZONE
BEGIN:VEVENT
DTSTART;TZID=Europe/Berlin:20260422T160000
DTEND;TZID=Europe/Berlin:20260422T180000
DTSTAMP:20260422T151100
CREATED:20260217T233247Z
LAST-MODIFIED:20260217T233247Z
UID:10000363-1776873600-1776880800@edih-hamburg.de
SUMMARY:Einführung in die Bildgenerierung mit KI
DESCRIPTION:Erhalte einen Einblick in das Erzeugen von Bildern mit generativer KI\n\n\n💡Erhalte einen Einblick in das Generieren von Bildern mit KI💡 \nDer Workshop bietet eine Einführung in die Erzeugung von Bildern mit generativer KI. \n \nWas dich erwartet: \n\nEinführung in die Grundlagen\npraktische Workflows\nPrompting für Erzeugung von und Tranformation bestehender Bilder\nAuswahl neuronaler Modelle\nErzeugung von Videos\n\n \n🗣️ Referent: Dr. Matthias Kerzel – Knowledge Technology Engineer\, Arbeitsbereich Wissenstechnologie und Wissensmanagement (WTM)\, Fachbereich Informatik\, Universität Hamburg. \n \n🇩🇪 Sprache: Deutsch \n \n🫵 Sichere dir deinen Platz! Die Plätze sind begrenzt. \n \nWir freuen uns darauf\, dich bei unserem Workshop zu sehen und zusammen in die Welt der KI-generierten Bilderzeugung einzutauchen! 🌟 \n \nDisclaimer: Dieses Event wird von HITeC e.V. im Rahmen von EDIH Hamburg angeboten. \nEDIH Hamburg ist Teil des European Digital Innovation Hub (EDIH)-Programms. Ziel des Programms ist es\, insbesondere kleine und mittlere Unternehmen (KMU)\, mittelständische Unternehmen sowie öffentliche Verwaltungen (PSO) in der Metropolregion Hamburg für die Herausforderungen von Morgen zu rüsten. Die Anforderungen an kritische Infrastrukturen ändern sich\, neue Lösungen müssen evaluiert und umgesetzt werden – von allgemeinen Digitalisierungsthemen über Fragen der Cybersecurity\, der künstlichen Intelligenz\, der verteilten Infrastruktur bis hin zum High Performance Computing.
URL:https://edih-hamburg.de/event/einfuehrung-in-die-bildgenerierung-mit-ki-4/
LOCATION:Digital Hub Logistics Hamburg\, Am Sandtorkai 32\, Hamburg\, HH\, 20457\, Germany
ATTACH;FMTTYPE=image/jpeg:https://edih-hamburg.de/wp-content/uploads/2025/05/4033d2e34ec5b1229b0655f76f4509e3.jpg
END:VEVENT
BEGIN:VEVENT
DTSTART;TZID=Europe/Berlin:20260423T140000
DTEND;TZID=Europe/Berlin:20260423T180000
DTSTAMP:20260422T151100
CREATED:20260226T233359Z
LAST-MODIFIED:20260226T233359Z
UID:10000375-1776952800-1776967200@edih-hamburg.de
SUMMARY:Frischer Wind für Abläufe & Prozesse
DESCRIPTION:Digitalisierung trifft Prozessoptimierung: Wie Handwerksbetriebe mit KI smarter arbeiten.\n\n\nZwischen Werkstatt\, Kunden und Zeitfressern: Digitalisierung angehen heißt oft bestehende Abläufe und Prozesse anpassen. Warum nicht gleich die Potenziale der Ablauf-/Prozessoptimierung im Handwerk entdecken und optimieren? Steigern Sie die Effizienz und Qualität in Ihrem Handwerksbetrieb nachhaltig. \nZiel des Workshops ist es\, Ihnen praktische Werkzeuge und Methoden an die Hand zu geben\, mit denen Sie Ihre Abläufe und Arbeitsprozesse effizienter gestalten können. Künstliche Intelligenz kann dabei ein hilfreiches Werkzeug sein. \n \n \nIn interaktiven Sessions werden wir gemeinsam: \n\nAbläufe/Prozesse analysieren und Optimierungspotenziale identifizieren\,\nMethoden zur Verbesserung von Abläufen kennenlernen und anhand von Fallbeispielen praktische Lösungen erarbeiten.\nanhand von Fallbeispielen praktische Lösungen erarbeiten.\nKI Werkzeuge einsetzen: Ergebnisse dokumentieren\, Fehleranalysen durchführen und zu einer klaren Kommunikation kommen.\nEinen einfachen Ablauf als Automation erstellen\, um die Potenziale von digitaler und KI-gestützter Prozessautomatisierung erlebbar zu machen.\n\n \n \nDer Workshop bietet Ihnen zudem eine großartige Gelegenheit zum Netzwerken und Erfahrungsaustausch mit anderen Handwerksprofis. \n \n \nInhalte \n\nDigitalisierung und Abläufe\, warum gehört das zusammen?\nProzessoptimierungs-Grundlagen\, Methoden und Ziele\nIdentifikation von Engpässen und Verschwendungen\nAnalyse und Verbesserung eigener Arbeitsprozesse\nUmsetzungsstrategien für Veränderungen\nEinsatz von KI Werkzeugen in der Prozessoptimierung\n\n \n \nAusblick: Im Rahmen des Workshops bieten wir für einen Handwerksbetrieb eine kostenfreie Umsetzungsbegleitung durch einen halbtägigen Workshop an. \n \n \nReferent \n\nDaniel Pieper\, Tischler & Prozessmanager\nNiklas Soldwedel\, Mittelstand-Digital Zentrum Hamburg\n\n \n \nModeration \n\nSandra Holm\, Mittelstand-Digital Zentrum Hamburg\n\n \n \nVeranstaltungsort ELBCAMPUS Hamburg\, Zum Handwerkszentrum 1\, 21079 Hamburg.  \nTeilnahme nur nach bestätigter Anmeldung. Die Teilnehmerzahl ist begrenzt. \n \n \nFür das leibliche Wohl mit einem Imbiss und Getränken ist gesorgt. \n \n \nZielgruppe: Mitarbeitende\, Geschäftsführer*innen\, Inhaber*innen\, Handwerker*innen aus dem Handwerk \n \n \nDie Veranstaltung wird in Kooperation durchgeführt: EDIH HH \nFragen zur Veranstaltung? Handwerk4.0@hwk-hamburg.de \n \n \n \n \nBitte beachten Sie folgende Hinweise: \n\nMit Ihrer Anmeldung bestätigen Sie\, dass Sie die Datenschutzerklärung (Datenschutzerklärung – 2024 (digitalzentrum-hamburg.de) und rechtlichen Hinweise (Impressum – Mittelstand-Digital Zentrum Hamburg 2024 (digitalzentrum-hamburg.de) zur Kenntnis genommen haben. Ihre Daten werden nicht zu Werbezwecken genutzt. Die Daten werden zur Durchführung der Veranstaltung und zu Zwecken der Evaluation für die Projektlaufzeit gespeichert.\n\n \n \nDie Förderung durch das BMWK ermöglicht es uns\, Ihnen diese Veranstaltung kostenfrei anzubieten. \n \n \n \n \nMit freundlichen Grüßen \nIhr Mittelstand-Digital Zentrum Hamburg-Team
URL:https://edih-hamburg.de/event/frischer-wind-fuer-ablaeufe-prozesse-3/
LOCATION:ELBCAMPUS Hamburg\, Zum Handwerkszentrum 1\, Hamburg\, HH\, 21079\, Germany
ATTACH;FMTTYPE=image/jpeg:https://edih-hamburg.de/wp-content/uploads/2025/05/bd8997bd8b0d30e7ee6e5f3f7c136c42.jpg
END:VEVENT
BEGIN:VEVENT
DTSTART;TZID=Europe/Berlin:20260428T183000
DTEND;TZID=Europe/Berlin:20260428T210000
DTSTAMP:20260422T151100
CREATED:20260114T161312Z
LAST-MODIFIED:20260114T161312Z
UID:10000295-1777401000-1777410000@edih-hamburg.de
SUMMARY:AI Mix & Mingle in April| KI-Stammtisch im April
DESCRIPTION:We are calling in all AI enthusiasts in Hamburg. Let’s talk and exchange thoughts and ideas!\n\n\n(english below) \nWir laden euch herzlich ein\, uns jeden letzten Dienstag im Monat von 18:30– 21 Uhr im ZOË („Sofabar“\, Neuer Pferdemarkt 17\, Hamburg Sternschanze\, linker Eingang) zu treffen. \nTrefft andere KI- und Technikinteressierte bei unserem etablierten KI-Stammtisch\, der seit mehr als drei Jahren die Hamburger KI-Szene zusammenbringt. Beim AI Mix & Mingle in der Sofabar könnt ihr in lockerer Atmosphäre Gedanken austauschen oder über eure KI-Projekte sprechen. Es gibt keine Vorträge. Der Fokus liegt auf dem Austausch und dem Knüpfen von Kontakten. \nEure Anmeldung ist nicht zwingend erforderlich\, aber sehr willkommen: Für eine bessere Planung würden wir uns freuen\, wenn ihr euch vorher über Eventbrite anmeldet. Ihr dürft aber auch spontan vorbeischauen\, um mit uns und anderen Netzwerke schmieden und interessante Gespräche über KI und die Welt zu führen! \nWir freuen uns auf euch! \nSchreibt eure Fragen\, Anmerkungen und euer Feedback gern per Mail an: cm@aric-hamburg.de \nWeitere Informationen auch auf unserer Website: https://aric-hamburg.de/veranstaltungen/ai-mix-mingle-ki-stammtisch-hamburg/ \nKommende Daten: \n\nMai: 26.05.2026\nJuni: 30.06.2026\nJuli: Sommerpause\nAugust: Sommerpause\nSeptember: 29.09.2026\nOktober: Herbstpause\nNovember: 24.11.2026\nDezember: Winterpause\n\nDieses Format wird im Rahmen des EDIH Hamburg mit Unterstützung durch die Europäische Union und der Hamburgischen Investitions- und Förderbank angeboten. #EDIHHamburg \n—————– \nWe meet every last tuesday of the month for our AI Mix and Mingle. We meet 6:30–9 pm at ZOË (Neuer Pferdemarkt 10\, Hamburg Sternschanze). \nMeet other AI and tech enthusiasts at our well-established AI Meetup\, bringing together the Hamburg AI scene for more than three years. Join us for the AI Mix & Mingle at Sofabar\, where you can chat casually\, exchange ideas\, or discuss your AI projects. There are no presentations—the focus is on networking and open conversation. \nWhile your registration is not mandatory\, it is appreciated. You would make our reporting easier if you sign up on Eventbrite. But feel free to drop by spontaneously\, too\, to connect with us and others\, build networks\, and dive into interesting conversations about AI and beyond! \nWe are lookimg forward to seeing you there!For any questions\, comments\, or feedback\, please email us at: cm@aric-hamburg.deMore information on our website: [https://aric-hamburg.de/veranstaltungen/ai-mix-mingle \nUpcoming dates: \n\nMay: 26.05.2026\nJune: 30.06.2026\nJuly: Holiday Break\nAugust: Holiday Break\nSeptember: 29.09.2026\nOctober: Holiday Break\nNovember: 24.11.2026\nDecember: Holiday Break\n\nThis event is offered as a part of EDIH Hamburg\, supported by the EU and IFB Hamburg. #EDIHhamburg
URL:https://edih-hamburg.de/event/ai-mix-mingle-in-april-ki-stammtisch-im-april-3/
LOCATION:Zoë II – Sofabar\, Neuer Pferdemarkt 17\, Hamburg\, HH\, 20359\, Germany
ATTACH;FMTTYPE=image/jpeg:https://edih-hamburg.de/wp-content/uploads/2026/01/ffa797b32bbca4b3a1366fd637371c2b.jpg
END:VEVENT
END:VCALENDAR