BEGIN:VCALENDAR
VERSION:2.0
PRODID:-//edih-hamburg - ECPv6.15.20//NONSGML v1.0//EN
CALSCALE:GREGORIAN
METHOD:PUBLISH
X-WR-CALNAME:edih-hamburg
X-ORIGINAL-URL:https://edih-hamburg.de
X-WR-CALDESC:Veranstaltungen für edih-hamburg
REFRESH-INTERVAL;VALUE=DURATION:PT1H
X-Robots-Tag:noindex
X-PUBLISHED-TTL:PT1H
BEGIN:VTIMEZONE
TZID:Europe/Berlin
BEGIN:DAYLIGHT
TZOFFSETFROM:+0100
TZOFFSETTO:+0200
TZNAME:CEST
DTSTART:20240331T010000
END:DAYLIGHT
BEGIN:STANDARD
TZOFFSETFROM:+0200
TZOFFSETTO:+0100
TZNAME:CET
DTSTART:20241027T010000
END:STANDARD
BEGIN:DAYLIGHT
TZOFFSETFROM:+0100
TZOFFSETTO:+0200
TZNAME:CEST
DTSTART:20250330T010000
END:DAYLIGHT
BEGIN:STANDARD
TZOFFSETFROM:+0200
TZOFFSETTO:+0100
TZNAME:CET
DTSTART:20251026T010000
END:STANDARD
BEGIN:DAYLIGHT
TZOFFSETFROM:+0100
TZOFFSETTO:+0200
TZNAME:CEST
DTSTART:20260329T010000
END:DAYLIGHT
BEGIN:STANDARD
TZOFFSETFROM:+0200
TZOFFSETTO:+0100
TZNAME:CET
DTSTART:20261025T010000
END:STANDARD
END:VTIMEZONE
BEGIN:VEVENT
DTSTART;TZID=Europe/Berlin:20250721T150000
DTEND;TZID=Europe/Berlin:20250721T170000
DTSTAMP:20260425T153712
CREATED:20250604T093650Z
LAST-MODIFIED:20250604T093650Z
UID:10000184-1753110000-1753117200@edih-hamburg.de
SUMMARY:Grundlagen der IT-Sicherheit in KMU
DESCRIPTION:Lerne ganz ohne Vorkenntnisse wie du dein Unternehmen im Digitalen schützen kannst.\n\n\n💡Schütze dein Unternehmen mit einfachen IT-Sicherheitsmaßnahmen💡 \nDer Workshop von 3S – Solution Support Service bietet dir eine praktische Einführung in den Schutz vor Cyberangriffen für kleine und mittelständische Unternehmen (KMU). \nWas dich erwartet:\n• Einblick in die Bedrohungslage für KMU \n• Live-Hacking erleben – wie Angreifer vorgehen \n• Verständliche Erklärungen zu IT-Sicherheit und richtigen Reaktionen \n• Tipps zu E-Mail-\, Download- und Web-Management \n• Bedeutung und Funktion eines Backups \n• Praxisnahe Alltagstipps\, um Ihr Unternehmen zu schützen \n  \n🗣️ Referenten:\nBernd Hennig – IT-Spezialist – HITeC e.V. – Hamburger Informatik Technologie-Center \nPhillip Warczak – IT-Spezialist – HITeC e.V. – Hamburger Informatik Technologie-Center \nAlexander Steffens – IT-Spezialist – HITeC e.V. – Hamburger Informatik Technologie-Center \nMatthias Kruspe – IT-Spezialist – HITeC e.V. – Hamburger Informatik Technologie-Center \n  \n🇩🇪 Sprache: Deutsch \n  \n🫵 Sichern Sie sich jetzt Ihren Platz! Die Plätze sind begrenzt. \n  \nWir freuen uns darauf\, Sie bei unserem Workshop zu begrüßen und gemeinsam die wichtigsten Schutzmaßnahmen kennenzulernen! 🌟 \n  \nDisclaimer: Dieses Event wird von HITeC e.V. im Rahmen von EDIH Hamburg angeboten. \nEDIH Hamburg ist Teil des European Digital Innovation Hub (EDIH)-Programms. Ziel des Programms ist es\, insbesondere kleine und mittlere Unternehmen (KMU)\, mittelständische Unternehmen sowie öffentliche Verwaltungen (PSO) in der Metropolregion Hamburg für die Herausforderungen von Morgen zu rüsten. Die Anforderungen an kritische Infrastrukturen ändern sich\, neue Lösungen müssen evaluiert und umgesetzt werden – von allgemeinen Digitalisierungsthemen über Fragen der Cybersecurity\, der künstlichen Intelligenz\, der verteilten Infrastruktur bis hin zum High Performance Computing.
URL:https://edih-hamburg.de/event/grundlagen-der-it-sicherheit-in-kmu-2/
LOCATION:Digital Hub Logistics Hamburg\, Am Sandtorkai 32\, Hamburg\, HH\, 20457\, Germany
ATTACH;FMTTYPE=image/png:https://edih-hamburg.de/wp-content/uploads/2025/05/IT-Sicherheit-in-KMU.png
END:VEVENT
BEGIN:VEVENT
DTSTART;TZID=Europe/Berlin:20250723T150000
DTEND;TZID=Europe/Berlin:20250723T180000
DTSTAMP:20260425T153712
CREATED:20250605T161145Z
LAST-MODIFIED:20250702T200426Z
UID:10000188-1753282800-1753293600@edih-hamburg.de
SUMMARY:Embedded AI: Creating More Efficient Deep Learning Models
DESCRIPTION:Learn how to use AI models efficiently on embedded systems and small devices\n\n\nEmbedded AI has many applications in healthcare\, the automotive industry\, and smart homes. One issue is finding suitable embedded hardware for a particular application. This workshop offers fundamentals of embeddded AI and gets you started applying models on small hardware devices! \n  \nWhat to Expect: \n\nIntroduction to embedded AI and its applications 🚀\nLearn about Decision-Making Factors like accuracy\, cost\, memory\, programming efforts\, and power consumption 🔍\nTry out different models in hands-on sessions using Colab 🛠️\n\n  \n🗣️ Speaker: Mohammad Ali Zamani – Senior Machine Learning Applied Scientist & Research Associate at HITeC\, University of Hamburg \n🇬🇧 Language: This workshop will be held in English. \n  \n❗Disclaimer: This workshop is offered by HITeC e.V. within the EDIH Hamburg initiative. \nEDIH Hamburg part of the European Digital Innovation Hub (EDIH) program aimed at equipping small and medium-sized enterprises (SMEs)\, mid-caps as well public sector administrations (PSO) in the Hamburg metropolitan area for tomorrow’s challenges. Requirements for critical infrastructure are changing as we speak\, and new solutions must be evaluated and implemented – ranging from general digitalization topics\, matters of cybersecurity\, artificial intelligence\, distributed infrastructure\, or high-performance computing.
URL:https://edih-hamburg.de/event/embedded-ai-creating-more-efficient-deep-learning-models/
LOCATION:HH
ATTACH;FMTTYPE=image/png:https://edih-hamburg.de/wp-content/uploads/2025/06/embedded_AI_25.png
END:VEVENT
BEGIN:VEVENT
DTSTART;TZID=Europe/Berlin:20250724T090000
DTEND;TZID=Europe/Berlin:20250724T180000
DTSTAMP:20260425T153712
CREATED:20250523T130324Z
LAST-MODIFIED:20250523T130324Z
UID:10000135-1753347600-1753380000@edih-hamburg.de
SUMMARY:KI-Sprechstunde
DESCRIPTION:KI kann Energiekosten senken\, Ihre Angestellten entlasten und vieles mehr. Finden Sie mit uns heraus\, wo Ihr Unternehmen profitieren kann.\n\n\nÜberall ist zu hören\, wie KI in allen Bereichen optimieren kann\, doch Sie wollen konkret an Ihrem Unternehmen herausfinden\, was das heißt? \nDamit Sie eine Vorstellung haben\, wie KI erfolgreich genutzt wird\, hier zwei Beispiele: \n\nQualitätssicherung (QS):QS wird in vielen Fällen bildlich betrieben. Sei es durch die Betrachtung des Produkts oder mithilfe von Röntgenbildern. KI erkennt Anomalien auf demselben Niveau wie studierte Experten\, aber deutlich schneller. KI kann unbedenkliche Fälle daher blitzschnell herausfiltern\, womit Ihren Angestellten mehr Zeit zur Verfügung steht\, um die unklaren Fälle zu beurteilen. Dies erhöht die Performance und entlastet Ihre Fachkräfte\, die nun für andere Aufgaben bereitstehen.\nLieferkettenmanagement:Ein wichtiger Bereich des Lieferkettenmanagements ist die Beurteilung der Liefertreue von Zulieferern. KI kann die Zuverlässigkeit von Lieferungen mit ca. 80%iger Wahrscheinlichkeit vorhersagen\, was eine vorausschauende Planung ermöglicht: egal\, ob Sie den Auftrag anderweitig vergeben oder Ihre Produktion anweisen\, andere Aufträge vorzuziehen – Sie werden vorbereitet sein.\n\nSie haben ein anderes Problem oder möchten Genaueres erfahren? Dann buchen Sie eine Stunde mit unserem KI-Trainer Christian Bruss. Egal\, ob Sie bereits einen ausgearbeiteten Plan zur Umsetzung Ihres KI-Konzepts haben oder gerade zum ersten Mal die Buchstaben KI lesen. \nUnser KI-Trainer hilft Ihnen gern weiter! \nAblauf:Mit Ihrer Anmeldung stimmen Sie einem Zeitslot in dem Zeitraum von 9:00 – 18:00 Uhr zu. Ihr finaler Zeitslot für die KI-Sprechstunde wird Ihnen von unserem KI-Trainer zugeteilt. Absender der E-Mail mit den Informationen zu Ihrem persönlichen Zeitslot und Ihren Zugangsdaten ist die Technische Universität Hamburg (TUHH). Darüber hinaus wird sich unser KI-Trainer vorab mit Ihnen in Verbindung setzen\, um individuelle Wünsche in Bezug auf die Inhalte der KI-Sprechstunde mit Ihnen zu definieren. \nSuchen Sie sich aus den folgende Zeitslots den passenden aus: \n\n9:00 bis 10:00 Uhr\n10:30 bis 11:30 Uhr\n12:00 bis 13:00 Uhr\n14:00 bis 15:00 Uhr\n15:30 bis 16:30 Uhr\n17:00 bis 18:00 Uhr\n\n \nZielgruppe:Kleine und mittlere Unternehmen (KMU) mit und ohne Vorkenntnissen \nOrt:Diese Veranstaltung findet virtuell per Webinar/Videokonferenz statt. Nach Bestätigung Ihrer Anmeldung\, erhalten Sie spätestens einen Tag vor der Veranstaltung die Zugangsdaten und weitere Hinweise zum Login von der Technischen Universität Hamburg (TUHH) per E-Mail. Achten Sie bitte auf die korrekte Schreibweise Ihrer Mailadresse! \n————— \nBitte beachten Sie folgende Hinweise: \n\nMit Ihrer Anmeldung bestätigen Sie\, dass Sie die Datenschutzerklärung (Datenschutzerklärung – 2024 (digitalzentrum-hamburg.de) und rechtlichen Hinweise (Impressum – Mittelstand-Digital Zentrum Hamburg 2024 (digitalzentrum-hamburg.de) zur Kenntnis genommen haben. Ihre Daten werden nicht zu Werbezwecken genutzt. Die Daten werden zur Durchführung der Veranstaltung und zu Zwecken der Evaluation für die Projektlaufzeit gespeichert.\n\n \nDie Förderung durch das BMWK ermöglicht es uns\, Ihnen diese Veranstaltung kostenfrei anzubieten. \n \n \nMit freundlichen Grüßen \nIhr Mittelstand-Digital Zentrum Hamburg-Team
URL:https://edih-hamburg.de/event/ki-sprechstunde/
LOCATION:HH
ATTACH;FMTTYPE=image/jpeg:https://edih-hamburg.de/wp-content/uploads/2025/05/b66da9893d932ace647bb64954e9b342.jpg
END:VEVENT
END:VCALENDAR