BEGIN:VCALENDAR
VERSION:2.0
PRODID:-//edih-hamburg - ECPv6.15.20//NONSGML v1.0//EN
CALSCALE:GREGORIAN
METHOD:PUBLISH
X-WR-CALNAME:edih-hamburg
X-ORIGINAL-URL:https://edih-hamburg.de
X-WR-CALDESC:Veranstaltungen für edih-hamburg
REFRESH-INTERVAL;VALUE=DURATION:PT1H
X-Robots-Tag:noindex
X-PUBLISHED-TTL:PT1H
BEGIN:VTIMEZONE
TZID:Europe/Berlin
BEGIN:DAYLIGHT
TZOFFSETFROM:+0100
TZOFFSETTO:+0200
TZNAME:CEST
DTSTART:20250330T010000
END:DAYLIGHT
BEGIN:STANDARD
TZOFFSETFROM:+0200
TZOFFSETTO:+0100
TZNAME:CET
DTSTART:20251026T010000
END:STANDARD
BEGIN:DAYLIGHT
TZOFFSETFROM:+0100
TZOFFSETTO:+0200
TZNAME:CEST
DTSTART:20260329T010000
END:DAYLIGHT
BEGIN:STANDARD
TZOFFSETFROM:+0200
TZOFFSETTO:+0100
TZNAME:CET
DTSTART:20261025T010000
END:STANDARD
BEGIN:DAYLIGHT
TZOFFSETFROM:+0100
TZOFFSETTO:+0200
TZNAME:CEST
DTSTART:20270328T010000
END:DAYLIGHT
BEGIN:STANDARD
TZOFFSETFROM:+0200
TZOFFSETTO:+0100
TZNAME:CET
DTSTART:20271031T010000
END:STANDARD
END:VTIMEZONE
BEGIN:VEVENT
DTSTART;TZID=Europe/Berlin:20260224T120000
DTEND;TZID=Europe/Berlin:20260224T123000
DTSTAMP:20260420T100533
CREATED:20260223T113252Z
LAST-MODIFIED:20260223T113252Z
UID:10000367-1771934400-1771936200@edih-hamburg.de
SUMMARY:ARIC Brown Bag: Algorithmische Verzerrungen\, Fake News und Filterblasen.
DESCRIPTION:Austausch und Einblicke in KI-Projekte – Praxisnah aus der Community\n\n\nWichtige Information: Ab Januar 2026 findet Ihr unsere ARIC Brown Bag Ankündigungen auf Eventbrite. Ihr wollt nichts verpassen? Dann folgt uns über Eventbrite oder schaut regelmäßig auf unsere Website vorbei. \n\n\nDieses Format wird im Rahmen des EDIH Hamburg\, mit Unterstützung durch die Europäische Union und der Hamburgischen Investitions- und Förderbank angeboten. #EDIHHamburg
URL:https://edih-hamburg.de/event/aric-brown-bag-algorithmische-verzerrungen-fake-news-und-filterblasen/
LOCATION:HH
ATTACH;FMTTYPE=image/jpeg:https://edih-hamburg.de/wp-content/uploads/2026/02/cf008e0d2f776d4150a53ab4b844cdf5.jpg
END:VEVENT
BEGIN:VEVENT
DTSTART;TZID=Europe/Berlin:20260224T183000
DTEND;TZID=Europe/Berlin:20260224T210000
DTSTAMP:20260420T100533
CREATED:20260114T161310Z
LAST-MODIFIED:20260114T161310Z
UID:10000293-1771957800-1771966800@edih-hamburg.de
SUMMARY:AI Mix & Mingle in February| KI-Stammtisch im Februar
DESCRIPTION:We are calling in all AI enthusiasts in Hamburg. Let’s talk and exchange thoughts and ideas!\n\n\n(english below) \nWir laden euch herzlich ein\, uns jeden letzten Dienstag im Monat von 18:30– 21 Uhr im ZOË („Sofabar“\, Neuer Pferdemarkt 17\, Hamburg Sternschanze\, linker Eingang) zu treffen. \nTrefft andere KI- und Technikinteressierte bei unserem etablierten KI-Stammtisch\, der seit mehr als drei Jahren die Hamburger KI-Szene zusammenbringt. Beim AI Mix & Mingle in der Sofabar könnt ihr in lockerer Atmosphäre Gedanken austauschen oder über eure KI-Projekte sprechen. Es gibt keine Vorträge. Der Fokus liegt auf dem Austausch und dem Knüpfen von Kontakten. \nEure Anmeldung ist nicht zwingend erforderlich\, aber sehr willkommen: Für eine bessere Planung würden wir uns freuen\, wenn ihr euch vorher über Eventbrite anmeldet. Ihr dürft aber auch spontan vorbeischauen\, um mit uns und anderen Netzwerke schmieden und interessante Gespräche über KI und die Welt zu führen! \nWir freuen uns auf euch! \nSchreibt eure Fragen\, Anmerkungen und euer Feedback gern per Mail an: cm@aric-hamburg.de \nWeitere Informationen auch auf unserer Website: https://aric-hamburg.de/veranstaltungen/ai-mix-mingle-ki-stammtisch-hamburg/ \nKommende Daten: \n\nMärz: Frühlingspause\nApril: 28.04.2026\nMai: 26.05.2026\nJuni: 30.06.2026\nJuli: Sommerpause\nAugust: Sommerpause\nSeptember: 29.09.2026\nOktober: Herbstpause\nNovember: 24.11.2026\nDezember: Winterpause\n\nDieses Format wird im Rahmen des EDIH Hamburg mit Unterstützung durch die Europäische Union und der Hamburgischen Investitions- und Förderbank angeboten. #EDIHHamburg \n—————– \nWe meet every last tuesday of the month for our AI Mix and Mingle. We meet 6:30–9 pm at ZOË (Neuer Pferdemarkt 10\, Hamburg Sternschanze). \nMeet other AI and tech enthusiasts at our well-established AI Meetup\, bringing together the Hamburg AI scene for more than three years. Join us for the AI Mix & Mingle at Sofabar\, where you can chat casually\, exchange ideas\, or discuss your AI projects. There are no presentations—the focus is on networking and open conversation. \nWhile your registration is not mandatory\, it is appreciated. You would make our reporting easier if you sign up on Eventbrite. But feel free to drop by spontaneously\, too\, to connect with us and others\, build networks\, and dive into interesting conversations about AI and beyond! \nWe are lookimg forward to seeing you there!For any questions\, comments\, or feedback\, please email us at: cm@aric-hamburg.deMore information on our website: [https://aric-hamburg.de/veranstaltungen/ai-mix-mingle \nUpcoming dates: \n\nMarch: Holiday Break\nApril: 28.04.2026\nMay: 26.05.2026\nJune: 30.06.2026\nJuly: Holiday Break\nAugust: Holiday Break\nSeptember: 29.09.2026\nOctober: Holiday Break\nNovember: 24.11.2026\nDecember: Holiday Break\n\nThis event is offered as a part of EDIH Hamburg\, supported by the EU and IFB Hamburg. #EDIHhamburg
URL:https://edih-hamburg.de/event/ai-mix-mingle-in-february-ki-stammtisch-im-februar-2/
LOCATION:Zoë II – Sofabar\, Neuer Pferdemarkt 17\, Hamburg\, HH\, 20359\, Germany
ATTACH;FMTTYPE=image/jpeg:https://edih-hamburg.de/wp-content/uploads/2026/01/ffa797b32bbca4b3a1366fd637371c2b.jpg
END:VEVENT
BEGIN:VEVENT
DTSTART;TZID=Europe/Berlin:20260225T170000
DTEND;TZID=Europe/Berlin:20260225T183000
DTSTAMP:20260420T100533
CREATED:20260211T114304Z
LAST-MODIFIED:20260211T114304Z
UID:10000349-1772038800-1772044200@edih-hamburg.de
SUMMARY:Introduction to the EU AI Act
DESCRIPTION:Key Concepts\, Requirements & Timelines Explained\n\n\n💡Find out why the EU AI Act matters for your company !💡 \nThe workshop provides an introduction to the EU AI Act\, which has been mandatory for companies since February 2025. \n \nWhat to expect: \n\nWhy the EU AI Act matters – background and goals of the regulation\nOverview of the key elements of the EU AI Act\nUnderstanding the risk categories and what they mean\nImplications for AI development and deployment\nFocus on technical and organizational impact\n\n \n🗣️ Speaker: Abir Bouraffa – research assistant at HITeC e.V. \n🇬🇧 Language: English \n \n⚠️ Please note:This session is led by computer scientists and does not constitute legal advice. \nThis session will be held online\, the link will be shared with registered participants a day prior to the event date. \n \nDisclaimer: This event is offered by HITeC e.V. as part of EDIH Hamburg.EDIH Hamburg is part of the European Digital Innovation Hub (EDIH) program. The goal of the program is to prepare small and medium-sized enterprises (SMEs)\, mid-sized companies\, and public sector organizations (PSOs) in the Hamburg metropolitan region for the challenges of tomorrow. The demands on critical infrastructure are evolving\, and new solutions need to be evaluated and implemented — ranging from general digitalization topics and cybersecurity to artificial intelligence\, distributed infrastructure\, and high-performance computing.
URL:https://edih-hamburg.de/event/introduction-to-the-eu-ai-act-4/
LOCATION:HH
ATTACH;FMTTYPE=image/jpeg:https://edih-hamburg.de/wp-content/uploads/2025/04/d05a2b45c86ed8410cd4423f996807fa.jpg
END:VEVENT
BEGIN:VEVENT
DTSTART;TZID=Europe/Berlin:20260225T170000
DTEND;TZID=Europe/Berlin:20260225T193000
DTSTAMP:20260420T100533
CREATED:20260121T234803Z
LAST-MODIFIED:20260121T234803Z
UID:10000316-1772038800-1772047800@edih-hamburg.de
SUMMARY:#Werkstatt Talk: KI & Bilder – was heute schon geht
DESCRIPTION:Bilder sagen mehr als 1.000 Worte – und mit Künstlicher Intelligenz (KI) werden sie jetzt auch richtig praktisch fürs Handwerk.\n\n\nOb Dokumentation\, Website\, Social Media oder Qualitätskontrolle: Bild-KI können Ihnen Zeit sparen\, Abläufe verbessern und neue Möglichkeiten schaffen. \nIm #Werkstatt Talk geht’s um echte Praxis: Wir schauen gemeinsam\, was Ihnen Bild-KI im Betrieb wirklich bringt – und Sie können direkt mitmachen und erste Anwendungen ausprobieren. Am Ende wissen Sie\, was für Ihren Betrieb sinnvoll ist und wie Sie ohne großen Aufwand ins Tun kommen. \nAus Bild wird Werkzeug: KI macht’s möglich. \n \nInhalte \n\nWas ist Stand der Technik bei KI & Bildern (kurz\, verständlich\, praxisnah)\nKI-Quiz: Mitmachen\, ausprobieren\, Aha-Momente sammeln\nKI-Bildgenerierung und -bearbeitung: Anwendungsideen und Beispiele\nUmsetzungsprojekt: „Auf dem Weg zur smarten Qualitätskontrolle“\nKI selber trainieren: was Sie dafür brauchen (Daten\, Bilder\, Aufwand\, Tools)\nInterview & Talk mit dem gastgebenden Handwerksbetrieb: digitale KI-Vorhaben aus der Praxis\nErfahrungsaustausch: Was planen andere Betriebe? Was klappt schnell? Wo hakt’s?\n\nAlles kompakt\, verständlich und zugeschnitten auf kleine und mittlere Handwerksbetriebe. \n \nZielgruppe \nHandwerksbetriebe\, die Bild-KI praxisnah kennenlernen und direkt Ideen für den eigenen Betrieb mitnehmen möchten – von Marketing bis Qualitätskontrolle. \n \nReferenten \n\nNiklas Soldwedel – KI Trainer\, Mittelstand-Digital Zentrum Hamburg\nDennis Wohlers\, Mittelstand-Digital Zentrum Hamburg\n\nModeration \nSandra Holm\, Mittelstand-Digital Zentrum Hamburg \nVeranstaltungsortDie Veranstaltung findet am 25. Februar 2026 in einem Handwerksbetrieb in Hamburg-Groß Borstel statt. Teilnahme nur nach bestätigter Anmeldung. Die Teilnehmerzahl ist begrenzt. \nFür das leibliche Wohl mit einem Imbiss und Getränken ist gesorgt. \n \nDie Veranstaltung wird in Kooperation durchgeführt: EDIH HH \nFragen zur Veranstaltung? Handwerk4.0@hwk-hamburg.de \n \nBitte beachten Sie folgende Hinweise: \n\nMit Ihrer Anmeldung bestätigen Sie\, dass Sie die Datenschutzerklärung (Datenschutzerklärung – 2024 (digitalzentrum-hamburg.de) und rechtlichen Hinweise (Impressum – Mittelstand-Digital Zentrum Hamburg 2024 (digitalzentrum-hamburg.de) zur Kenntnis genommen haben. Ihre Daten werden nicht zu Werbezwecken genutzt. Die Daten werden zur Durchführung der Veranstaltung und zu Zwecken der Evaluation für die Projektlaufzeit gespeichert.\n\n \nDie Förderung durch das BMWK ermöglicht es uns\, Ihnen diese Veranstaltung kostenfrei anzubieten. \n \n \nMit freundlichen Grüßen \nIhr Mittelstand-Digital Zentrum Hamburg-Team
URL:https://edih-hamburg.de/event/werkstatt-talk-ki-bilder-was-heute-schon-geht/
LOCATION:Borsteler Chaussee\, Borsteler Chaussee\, Hamburg\, HH\, 22453\, Germany
ATTACH;FMTTYPE=image/jpeg:https://edih-hamburg.de/wp-content/uploads/2026/01/cdd8e1820a4d89a8de872939d30fcb21.jpg
END:VEVENT
BEGIN:VEVENT
DTSTART;TZID=Europe/Berlin:20260226T120000
DTEND;TZID=Europe/Berlin:20260226T123000
DTSTAMP:20260420T100533
CREATED:20260217T110843Z
LAST-MODIFIED:20260217T110843Z
UID:10000352-1772107200-1772109000@edih-hamburg.de
SUMMARY:ARIC Brown Bag Session: KI-Agenten – Überblick\, Chancen & Risiken
DESCRIPTION:Austausch und Einblicke in KI-Projekte – Praxisnah aus der Community\n\n\nDer Vortrag gibt einen kurzen Überblick darüber\, was heute unter KI-Agenten verstanden wird. Er vermittelt grundlegende technische Einblicke und zeigt Implementierungsbeispiele von einfachen bis hin zu komplexeren Agenten. Anschließend werden Einsatzmöglichkeiten im Arbeitsalltag sowie die damit verbundenen Chancen und Risiken dieser neuen Technologie vorgestellt. \n\n\nWichtige Information: Ab Januar 2026 findet Ihr unsere ARIC Brown Bag Ankündigungen auf Eventbrite. Ihr wollt nichts verpassen? Dann folgt uns über Eventbrite oder schaut regelmäßig auf unsere Website vorbei. \n\n\nDieses Format wird im Rahmen des EDIH Hamburg\, mit Unterstützung durch die Europäische Union und der Hamburgischen Investitions- und Förderbank angeboten. #EDIHHamburg
URL:https://edih-hamburg.de/event/aric-brown-bag-session-ki-agenten-ueberblick-chancen-risiken/
LOCATION:HH
ATTACH;FMTTYPE=image/jpeg:https://edih-hamburg.de/wp-content/uploads/2026/02/5d832acdbca2e748e347763c5a4d9e19.jpg
END:VEVENT
BEGIN:VEVENT
DTSTART;TZID=Europe/Berlin:20260226T120000
DTEND;TZID=Europe/Berlin:20260226T123000
DTSTAMP:20260420T100533
CREATED:20260217T110843Z
LAST-MODIFIED:20260217T110843Z
UID:10000357-1772107200-1772109000@edih-hamburg.de
SUMMARY:ARIC Brown Bag Session: AI Agents - Overview\, Opportunities & Risks
DESCRIPTION:Exchange and insights into AI projects – practical experience from the community\n\n\nThe presentation gives a brief overview of what is understood by AI agents today. It provides basic technical insights and shows implementation examples ranging from simple to more complex agents. It then presents possible applications in everyday working life and the associated opportunities and risks of this new technology.   \n\n\nImportant information: From January 2026 you will find our ARIC Brown Bag announcements on Eventbrite. Don’t want to miss anything? Then follow us on Eventbrite or check our website regularly.   \n\n\nThis format is offered as part of the EDIH Hamburg\, with support from the European Union and the Hamburgische Investitions- und Förderbank. #EDIHHamburg
URL:https://edih-hamburg.de/event/aric-brown-bag-session-ai-agents-overview-opportunities-risks/
LOCATION:HH
END:VEVENT
BEGIN:VEVENT
DTSTART;TZID=Europe/Berlin:20260226T150000
DTEND;TZID=Europe/Berlin:20260226T170000
DTSTAMP:20260420T100533
CREATED:20260203T015250Z
LAST-MODIFIED:20260203T015250Z
UID:10000331-1772118000-1772125200@edih-hamburg.de
SUMMARY:Öffentliche Finanzierung: Von der Strategie zur erfolgreichen Bewilligung
DESCRIPTION:Workshop über Förderprogramme und die effiziente Erstellung von Anträgen.\n\n\nEnglish version below \nDie Förderlandschaft ist komplex\, bietet aber enorme Chancen für Innovationen und Wachstum. Doch welches Programm passt zu Ihrem Vorhaben? Worauf achten Gutachter wirklich? Wie kann Künstliche Intelligenz bei der Erstellung von Projektskizzen helfen? \nAm 26. Februar organisiert der EDIH Hamburg einen Workshop zum Thema Förderprogramme\, Fördermittel\, Projekteinreichung und Hinweise zu Best Practices. In unserer zweistündigen Veranstaltung klären wir die wesentlichen Herausforderungen der öffentlichen Finanzierung und erläutern die Strategien zur optimalen Gestaltung von Anträgen. \nDer Workshop richtet sich an Unternehmen aller Größen\, an Startups\, an akademische oder Forschungseinrichtungen sowie an Vertreter der öffentlichen Verwaltung. Dies ist die erste Ausgabe einer Reihe von Workshops\, die wir für das Jahr 2026 geplant haben. \n\n\nDas lernt ihr im Workshop: \n\nWelche sind die zentralen Förderinstitutionen und -programme auf europäischer\, nationaler und lokaler Ebene?\nWie schafft Ihr die Basis für einen überzeugenden Antrag durch eine strukturierte Checkliste?\nWelche Vorteile und Herausforderungen ergeben sich aus der Nutzung von Künstlicher Intelligenz bei der Antragstellung?\nWie gestaltet sich eine erfolgreiche Projektskizze? Best Practices aus der Perspektive einer erfahrenen Gutachterin.\n\n\n\nTeilnahme Der Workshop dauert zwei Stunden und wird als Hybrid-Veranstaltung durchgeführt. Ihr habt die Möglichkeit\, sich entweder für die Präsenz- oder die Online-Teilnahme zu registrieren. \n\nGeeignet für Startups\, Unternehmen sowie Fachkräfte aus Wissenschaft\, Forschung und der öffentlichen Verwaltung.\n26. Februar 2026\, 15 – 17 Uhr\, Digital Hub\, Am Sandtorkai 32\, 20457\, 1. Boden\, Raum „Garage“. Der Link für die Online-Teilnahme wird nach der Registrierung zugeschickt.\nDie maximale Teilnahme für die Präsenzveranstaltung ist auf 15 Teilnehmer beschränkt.\nReferentin: Rumyana Al-Ubaydi (ARIC/EDIH Hamburg)\nGastreferentin: Dr. Susanne Svensdotter\, Promovierte Turbomaschineningenieurin mit einem MBA und über 25 Jahren Erfahrung in Forschung und Entwicklung in der Luft- und Raumfahrt sowie der Energiebranche. Derzeit tätig als unabhängige Gutachterin\, Aufsichtsratsvorsitzende und Beraterin.\nDer Workshop wird auf Deutsch und Englisch durchgeführt.\n\n\n\nDieses Format wird im Rahmen des EDIH Hamburg mit Unterstützung durch die EU und die IFB Hamburg angeboten. #EDIHhamburg \n\n\n_______________________________________________________________________________________________ \n \n\n\nThe funding landscape is complex\, but offers enormous opportunities for innovation and growth. But which program is right for your project? What do reviewers really look for? How can artificial intelligence help in creating project outlines? \nOn February 26\, EDIH Hamburg is organizing a workshop on funding programs\, grants\, project submissions\, and best practices. In our two-hour event\, we will clarify the key challenges of public funding and explain strategies for optimally structuring applications. \nThe workshop is suitable for companies of all sizes\, startups\, academic or research institutions\, as well as representatives of public administration. This is the first in a series of workshops planned for 2026. \n\n\nWhat you will learn in the workshop: \n• Which are the key funding institutions and programs at the European\, national\, and local levels? \n• How do you create the foundation for a convincing application using a structured checklist? \n• What are the advantages and challenges of using artificial intelligence in the grant application process? \n• How does a successful project outline look? Best practices from the perspective of an experienced reviewer. \n\n\nParticipationThe workshop lasts two hours and will be held as a hybrid event. You can register for either in-person or online participation. \n• Suitable for startups\, companies\, and representatives from academia\, research\, and public administration. \n• February 26\, 2026\, 3:00 p.m. – 5:00 p.m.\, Digital Hub\, Am Sandtorkai 32\, 20457 Hamburg\, 1st floor\, „Garage“ room. The link for online participation will be sent after registration. \n• Maximum participation for the in-person event is limited to 15 participants. \n• The workshop will be conducted in German and English. \n• Speaker: Rumyana Al-Ubaydi (ARIC/EDIH Hamburg) \n• Guest Speaker: Dr. Susanne Svensdotter (PhD in Turbomachinery Engineering with an MBA and over 25 years of experience in research and development in the aerospace and energy sectors. Currently an independent expert\, chair of supervisory boards\, and consultant.) \n\n\nThis format is offered by EDIH Hamburg with support from the EU and IFB Hamburg.
URL:https://edih-hamburg.de/event/oeffentliche-finanzierung-von-der-strategie-zur-erfolgreichen-bewilligung/
LOCATION:Digital Hub Logistics Hamburg\, Am Sandtorkai 32\, Hamburg\, HH\, 20457\, Germany
ATTACH;FMTTYPE=image/jpeg:https://edih-hamburg.de/wp-content/uploads/2026/02/0b2dcfa3598bf28550bfe57f99800b8b.jpg
END:VEVENT
BEGIN:VEVENT
DTSTART;TZID=Europe/Berlin:20260227T140000
DTEND;TZID=Europe/Berlin:20260227T153000
DTSTAMP:20260420T100533
CREATED:20260129T233401Z
LAST-MODIFIED:20260129T233401Z
UID:10000328-1772200800-1772206200@edih-hamburg.de
SUMMARY:Wie sag ich's meinem Chatbot - Effektive Prompting Techniken
DESCRIPTION:Erlernen Sie praxisnahe Prompting-Techniken: Verschiedene Techniken und Frameworks im Überblick – verständlich und ohne Vorkenntnisse.\n\n\nTauchen Sie ein in die Welt des effektiven Promptings – und holen Sie mehr aus Ihrem Chatbot heraus. In diesem Webinar zeigen wir Ihnen\, wie Sie mit einfachen\, klaren Formulierungen deutlich bessere Antworten erhalten – ohne dabei in „zu viel Technik“ abzutauchen. Im Mittelpunkt stehen praxiserprobte Prompting-Frameworks und unterstützende Tools\, die Ihnen helfen\, schneller zum Ziel zu kommen und Ergebnisse besser einschätzen zu können. \nGemeinsam schauen wir uns an\, was große Sprachmodelle grundsätzlich leisten können (und wo typische Stolperfallen liegen). Darauf aufbauend geht es darum\, wie gute Prompts entstehen: Wie Sie Ihre Aufgabe sauber beschreiben\, Kontext sinnvoll mitgeben\, den gewünschten Output klar machen und mit kleinen Anpassungen schnell bessere Resultate erzielen. \nEin Schwerpunkt sind leicht anwendbare Prompting-Frameworks wie R-U-F und K-O-N-S-T-R-U-K-T(-E). Sie lernen diese als „Denkschablonen“ kennen\, die Struktur geben\, wenn man nicht genau weiß\, wie man anfangen soll – und die helfen\, Prompts zuverlässiger und wiederholbarer zu machen. Dazu zeigen wir Beispiele\, Varianten und typische Muster\, die sich im Alltag bewährt haben. \n \nBitte beachten Sie folgende Hinweise: \n\nMit Ihrer Anmeldung bestätigen Sie\, dass Sie die Datenschutzerklärung (Datenschutzerklärung – 2024 (digitalzentrum-hamburg.de) und rechtlichen Hinweise (Impressum – Mittelstand-Digital Zentrum Hamburg 2024 (digitalzentrum-hamburg.de) zur Kenntnis genommen haben. Ihre Daten werden nicht zu Werbezwecken genutzt. Die Daten werden zur Durchführung der Veranstaltung und zu Zwecken der Evaluation für die Projektlaufzeit gespeichert.\n\n \nDie Förderung durch das BMWK ermöglicht es uns\, Ihnen diese Veranstaltung kostenfrei anzubieten. \n \n \nMit freundlichen Grüßen \nIhr Mittelstand-Digital Zentrum Hamburg-Team
URL:https://edih-hamburg.de/event/wie-sag-ichs-meinem-chatbot-effektive-prompting-techniken/
LOCATION:HH
ATTACH;FMTTYPE=image/jpeg:https://edih-hamburg.de/wp-content/uploads/2026/01/4e40a3ad262d84c106010b34854bdea1.jpg
END:VEVENT
END:VCALENDAR