BEGIN:VCALENDAR
VERSION:2.0
PRODID:-//edih-hamburg - ECPv6.15.20//NONSGML v1.0//EN
CALSCALE:GREGORIAN
METHOD:PUBLISH
X-ORIGINAL-URL:https://edih-hamburg.de
X-WR-CALDESC:Veranstaltungen für edih-hamburg
REFRESH-INTERVAL;VALUE=DURATION:PT1H
X-Robots-Tag:noindex
X-PUBLISHED-TTL:PT1H
BEGIN:VTIMEZONE
TZID:Europe/Berlin
BEGIN:DAYLIGHT
TZOFFSETFROM:+0100
TZOFFSETTO:+0200
TZNAME:CEST
DTSTART:20250330T010000
END:DAYLIGHT
BEGIN:STANDARD
TZOFFSETFROM:+0200
TZOFFSETTO:+0100
TZNAME:CET
DTSTART:20251026T010000
END:STANDARD
BEGIN:DAYLIGHT
TZOFFSETFROM:+0100
TZOFFSETTO:+0200
TZNAME:CEST
DTSTART:20260329T010000
END:DAYLIGHT
BEGIN:STANDARD
TZOFFSETFROM:+0200
TZOFFSETTO:+0100
TZNAME:CET
DTSTART:20261025T010000
END:STANDARD
BEGIN:DAYLIGHT
TZOFFSETFROM:+0100
TZOFFSETTO:+0200
TZNAME:CEST
DTSTART:20270328T010000
END:DAYLIGHT
BEGIN:STANDARD
TZOFFSETFROM:+0200
TZOFFSETTO:+0100
TZNAME:CET
DTSTART:20271031T010000
END:STANDARD
END:VTIMEZONE
BEGIN:VEVENT
DTSTART;TZID=Europe/Berlin:20260408T170000
DTEND;TZID=Europe/Berlin:20260408T183000
DTSTAMP:20260420T112357
CREATED:20260225T233256Z
LAST-MODIFIED:20260225T233256Z
UID:10000371-1775667600-1775673000@edih-hamburg.de
SUMMARY:Introduction to the EU AI Act
DESCRIPTION:Key Concepts\, Requirements & Timelines Explained\n\n\n💡Find out why the EU AI Act matters for your company !💡 \nThe workshop provides an introduction to the EU AI Act\, which has been mandatory for companies since February 2025. \n \nWhat to expect: \n\nWhy the EU AI Act matters – background and goals of the regulation\nOverview of the key elements of the EU AI Act\nUnderstanding the risk categories and what they mean\nImplications for AI development and deployment\nFocus on technical and organizational impact\n\n \n🗣️ Speaker: Abir Bouraffa – research assistant at HITeC e.V. \n🇬🇧 Language: English \n \n⚠️ Please note:This session is led by computer scientists and does not constitute legal advice. \nThis session will be held online\, the link will be shared with registered participants a day prior to the event date. \n \nDisclaimer: This event is offered by HITeC e.V. as part of EDIH Hamburg.EDIH Hamburg is part of the European Digital Innovation Hub (EDIH) program. The goal of the program is to prepare small and medium-sized enterprises (SMEs)\, mid-sized companies\, and public sector organizations (PSOs) in the Hamburg metropolitan region for the challenges of tomorrow. The demands on critical infrastructure are evolving\, and new solutions need to be evaluated and implemented — ranging from general digitalization topics and cybersecurity to artificial intelligence\, distributed infrastructure\, and high-performance computing.
URL:https://edih-hamburg.de/event/introduction-to-the-eu-ai-act-5/
LOCATION:HH
ATTACH;FMTTYPE=image/jpeg:https://edih-hamburg.de/wp-content/uploads/2025/04/d05a2b45c86ed8410cd4423f996807fa.jpg
END:VEVENT
BEGIN:VEVENT
DTSTART;TZID=Europe/Berlin:20260409T120000
DTEND;TZID=Europe/Berlin:20260409T123000
DTSTAMP:20260420T112357
CREATED:20260317T110253Z
LAST-MODIFIED:20260317T110253Z
UID:10000384-1775736000-1775737800@edih-hamburg.de
SUMMARY:ARIC Brown Bag: KI-Agenten – Überblick\, Chancen & Risiken
DESCRIPTION:Austausch und Einblicke in KI-Projekte – Praxisnah aus der Community\n\n\nDer Vortrag gibt einen kurzen Überblick darüber\, was heute unter KI-Agenten verstanden wird. Er vermittelt grundlegende technische Einblicke und zeigt Implementierungsbeispiele von einfachen bis hin zu komplexeren Agenten. Anschließend werden Einsatzmöglichkeiten im Arbeitsalltag sowie die damit verbundenen Chancen und Risiken dieser neuen Technologie vorgestellt. \n\n\nWichtige Information: Ab Januar 2026 findet Ihr unsere ARIC Brown Bag Ankündigungen auf Eventbrite. Ihr wollt nichts verpassen? Dann folgt uns über Eventbrite oder schaut regelmäßig auf unsere Website vorbei. \n\n\nDieses Format wird im Rahmen des EDIH Hamburg\, mit Unterstützung durch die Europäische Union und der Hamburgischen Investitions- und Förderbank angeboten. #EDIHHamburg
URL:https://edih-hamburg.de/event/aric-brown-bag-ki-agenten-ueberblick-chancen-risiken/
LOCATION:HH
ATTACH;FMTTYPE=image/jpeg:https://edih-hamburg.de/wp-content/uploads/2026/03/69eafacfffa66bf5f772759ef6f0068c.jpg
END:VEVENT
BEGIN:VEVENT
DTSTART;TZID=Europe/Berlin:20260409T120000
DTEND;TZID=Europe/Berlin:20260409T123000
DTSTAMP:20260420T112357
CREATED:20260317T110253Z
LAST-MODIFIED:20260317T110253Z
UID:10000386-1775736000-1775737800@edih-hamburg.de
SUMMARY:ARIC Brown Bag: AI agents - overview\, opportunities & risks
DESCRIPTION:Exchange and insights into AI projects – practical experience from the community\n\n\nThe presentation gives a brief overview of what is understood by AI agents today. It provides basic technical insights and shows implementation examples ranging from simple to more complex agents. It then presents possible applications in everyday working life and the associated opportunities and risks of this new technology.   \n\n\nImportant information: From January 2026 you will find our ARIC Brown Bag announcements on Eventbrite. Don’t want to miss anything? Then follow us on Eventbrite or check our website regularly.   \n\n\nThis format is offered as part of the EDIH Hamburg\, with support from the European Union and the Hamburgische Investitions- und Förderbank. #EDIHHamburg
URL:https://edih-hamburg.de/event/aric-brown-bag-ai-agents-overview-opportunities-risks/
LOCATION:HH
END:VEVENT
END:VCALENDAR