BEGIN:VCALENDAR
VERSION:2.0
PRODID:-//edih-hamburg - ECPv6.15.20//NONSGML v1.0//EN
CALSCALE:GREGORIAN
METHOD:PUBLISH
X-ORIGINAL-URL:https://edih-hamburg.de
X-WR-CALDESC:Veranstaltungen für edih-hamburg
REFRESH-INTERVAL;VALUE=DURATION:PT1H
X-Robots-Tag:noindex
X-PUBLISHED-TTL:PT1H
BEGIN:VTIMEZONE
TZID:Europe/Berlin
BEGIN:DAYLIGHT
TZOFFSETFROM:+0100
TZOFFSETTO:+0200
TZNAME:CEST
DTSTART:20250330T010000
END:DAYLIGHT
BEGIN:STANDARD
TZOFFSETFROM:+0200
TZOFFSETTO:+0100
TZNAME:CET
DTSTART:20251026T010000
END:STANDARD
BEGIN:DAYLIGHT
TZOFFSETFROM:+0100
TZOFFSETTO:+0200
TZNAME:CEST
DTSTART:20260329T010000
END:DAYLIGHT
BEGIN:STANDARD
TZOFFSETFROM:+0200
TZOFFSETTO:+0100
TZNAME:CET
DTSTART:20261025T010000
END:STANDARD
BEGIN:DAYLIGHT
TZOFFSETFROM:+0100
TZOFFSETTO:+0200
TZNAME:CEST
DTSTART:20270328T010000
END:DAYLIGHT
BEGIN:STANDARD
TZOFFSETFROM:+0200
TZOFFSETTO:+0100
TZNAME:CET
DTSTART:20271031T010000
END:STANDARD
END:VTIMEZONE
BEGIN:VEVENT
DTSTART;TZID=Europe/Berlin:20260512T170000
DTEND;TZID=Europe/Berlin:20260512T200000
DTSTAMP:20260422T110104
CREATED:20260205T234822Z
LAST-MODIFIED:20260205T234822Z
UID:10000340-1778605200-1778616000@edih-hamburg.de
SUMMARY:Prompt-a-thon: KI im Handwerk verstehen und ausprobieren
DESCRIPTION:Generative KI praxisnah erleben und für den eigenen Betrieb nutzen\n\n\nWas kann Künstliche Intelligenz im Handwerksalltag wirklich leisten – zwischen Werkstatt\, Baustelle und Büro? \nIn diesem Prompt-a-thon probieren Sie Generative KI ganz praktisch aus. Ohne Vorwissen und ohne Technik-Blabla. Sie arbeiten in kleinen Teams an typischen Aufgaben aus Handwerksbetrieben und testen\, wie KI bei Angeboten\, Kundenkommunikation\, Organisation oder Ideenfindung unterstützen kann. \n \nWas ist ein Prompt-a-thon? \nEin Prompt-a-thon ist angelehnt an einen Hackathon – nur ohne Programmieren. Statt Maschinen oder Code geht es um die richtigen Eingaben („Prompts“) für KI-Tools wie bekannte Sprachmodelle. Sie erleben\, wie sich Ergebnisse verändern\, wie zuverlässig KI ist und wo man im Handwerk genau hinschauen muss. \n \nInhalte & Ablauf \n\nKurze Einführung in generative KI\nPraxisphase in kleinen\, moderierten Gruppen\nAufgaben aus dem Handwerksalltag bearbeiten\nKI testen\, Prompts verbessern und Ergebnisse vergleichen\nGemeinsamer Austausch und Transfer in den eigenen Betrieb\n\n \nDas nehmen Sie mit \n\nGrundverständnis für Generative KI\nSicherheit im Umgang mit KI-Tools\nKonkrete Ideen für den Einsatz im eigenen Betrieb\nEin realistisches Bild von Chancen und Grenzen\nAustausch mit anderen Betrieben aus dem Handwerk\n\n \n \nZielgruppe \nInhaberinnen und Inhaber von Handwerksbetrieben sowie Mitarbeitende aus Büro\, Bauleitung\, Planung oder Kundenkontakt. \n \nReferenten \n\nConstantin von Brackel\, Universität Hamburg – IT-Management & -Consulting (ITMC)\nEmir Kučević\, Universität Hamburg – IT-Management & -Consulting (ITMC)\nNiklas Soldwedel – KI Trainer\, Mittelstand-Digital Zentrum Hamburg\n\nModeration \nSandra Holm\, Mittelstand-Digital Zentrum Hamburg \n \n \nVeranstaltungsortTeilnahme nur nach bestätigter Anmeldung! Die Teilnehmerzahl ist begrenzt. \nFür das leibliche Wohl mit einem kleinen Imbiss und Getränken ist gesorgt. \n \nDie Veranstaltung wird in Kooperation durchgeführt: EDIH HH \nFragen zur Veranstaltung? Handwerk4.0@hwk-hamburg.de \n \nBitte beachten Sie folgende Hinweise: \n\nMit Ihrer Anmeldung bestätigen Sie\, dass Sie die Datenschutzerklärung (Datenschutzerklärung – 2024 (digitalzentrum-hamburg.de) und rechtlichen Hinweise (Impressum – Mittelstand-Digital Zentrum Hamburg 2024 (digitalzentrum-hamburg.de) zur Kenntnis genommen haben. Ihre Daten werden nicht zu Werbezwecken genutzt. Die Daten werden zur Durchführung der Veranstaltung und zu Zwecken der Evaluation für die Projektlaufzeit gespeichert.\n\n \nDie Förderung durch das BMWK ermöglicht es uns\, Ihnen diese Veranstaltung kostenfrei anzubieten. \n \n \nMit freundlichen Grüßen \nIhr Mittelstand-Digital Zentrum Hamburg-Team
URL:https://edih-hamburg.de/event/prompt-a-thon-ki-im-handwerk-verstehen-und-ausprobieren/
LOCATION:Digital Hub Logistics & Commerce\, Am Sandtorkai 32\, Hamburg\, HH\, 20457\, Germany
ATTACH;FMTTYPE=image/jpeg:https://edih-hamburg.de/wp-content/uploads/2026/02/f61b1facc910bec760e7f3f9e90a951d.jpg
END:VEVENT
END:VCALENDAR