BEGIN:VCALENDAR
VERSION:2.0
PRODID:-//edih-hamburg - ECPv6.15.20//NONSGML v1.0//EN
CALSCALE:GREGORIAN
METHOD:PUBLISH
X-ORIGINAL-URL:https://edih-hamburg.de
X-WR-CALDESC:Veranstaltungen für edih-hamburg
REFRESH-INTERVAL;VALUE=DURATION:PT1H
X-Robots-Tag:noindex
X-PUBLISHED-TTL:PT1H
BEGIN:VTIMEZONE
TZID:Europe/Berlin
BEGIN:DAYLIGHT
TZOFFSETFROM:+0100
TZOFFSETTO:+0200
TZNAME:CEST
DTSTART:20240331T010000
END:DAYLIGHT
BEGIN:STANDARD
TZOFFSETFROM:+0200
TZOFFSETTO:+0100
TZNAME:CET
DTSTART:20241027T010000
END:STANDARD
BEGIN:DAYLIGHT
TZOFFSETFROM:+0100
TZOFFSETTO:+0200
TZNAME:CEST
DTSTART:20250330T010000
END:DAYLIGHT
BEGIN:STANDARD
TZOFFSETFROM:+0200
TZOFFSETTO:+0100
TZNAME:CET
DTSTART:20251026T010000
END:STANDARD
BEGIN:DAYLIGHT
TZOFFSETFROM:+0100
TZOFFSETTO:+0200
TZNAME:CEST
DTSTART:20260329T010000
END:DAYLIGHT
BEGIN:STANDARD
TZOFFSETFROM:+0200
TZOFFSETTO:+0100
TZNAME:CET
DTSTART:20261025T010000
END:STANDARD
END:VTIMEZONE
BEGIN:VEVENT
DTSTART;TZID=Europe/Berlin:20250319T160000
DTEND;TZID=Europe/Berlin:20250319T180000
DTSTAMP:20260425T023438
CREATED:20250221T130219Z
LAST-MODIFIED:20250224T171205Z
UID:10000076-1742400000-1742407200@edih-hamburg.de
SUMMARY:KI für Entscheider
DESCRIPTION:Lerne alles Grundlegende über KI und wie du KI-Projekte in dein Unternehmen erfolgreich umsetzen kannst.\n\n\n🔒Lerne die Grundlagen über KI für dein Unternehmen \nDu bist keine Entwicklerin und hast noch keine Erfahrung mit KI oder KI-Projekten\, willst aber an Diskussionen über die Verwendung von KI in deinem Unternehmen teilnehmen oder über KI-Projekte entscheiden? \nHier lernst du die Grundbegriffe der KI und des maschinellen Lernens kennen\, insbesondere wie maschinelles Lernen funktioniert\, was nötig ist\, um erfolgreiche KI-Projekte umzusetzen und was für Daten man braucht\, um gute Ergebnisse zu erzielen. Der Workshop vermittelt dir das nötige Vokabular\, um sich mit anderen auszutauschen und Probleme zu verstehen. \n \n🌍 Was dich erwartet \nDer Workshop bietet eine umfassende Einführung in die Welt der künstlichen Intelligenz\, ohne sich in technischen Details zu verlieren. Wir erklären das allgemeine Vorgehen und führen alle wichtigen Begriffe ein. \n \n\nBegriffe und Konzepte\nDatengetriebene KI (Maschine Learning)\nLernprozesse einer KI\nAnwendungsbereiche von KI\nAnforderungen an Daten\nErfolgreiche KI-Projekte\n\n \n⚡️Zielgruppe \nDer Workshop zielt explizit auf nicht-Informatiker*innen und vor allem Entscheider*innen\, CEOs\, Marketing Expert*innen\, oder allgemein zukünftige Anwender*innen\, die über die grundlegenden Prinzipien und Verfahren des maschinellen Lernens und der datenbasierten KI Bescheid wissen wollen. \n \n🗣️Referent*in: Dr. Sven Magg – Postdoctoral Teaching Associate\, Knowledge Technology\, Department of Informatics\, Universität Hamburg. \n \n🇩🇪 Sprache: Dieser Workshop wird in deutscher Sprache abgehalten. \n \n❗️Disclaimer: Dieses Event wird von HITeC e.V. im Rahmen von EDIH Hamburg angeboten. \nEDIH Hamburg ist Teil des European Digital Innovation Hub (EDIH)-Programms. Ziel des Programms ist es\, insbesondere kleine und mittlere Unternehmen (KMU)\, mittelständische Unternehmen sowie öffentliche Verwaltungen (PSO) in der Metropolregion Hamburg für die Herausforderungen von Morgen zu rüsten. Die Anforderungen an kritische Infrastrukturen ändern sich\, neue Lösungen müssen evaluiert und umgesetzt werden – von allgemeinen Digitalisierungsthemen über Fragen der Cybersecurity\, der künstlichen Intelligenz\, der verteilten Infrastruktur bis hin zum High Performance Computing.
URL:https://edih-hamburg.de/event/ki-fuer-entscheider/
LOCATION:Digital Hub Logistics & Commerce\, Am Sandtorkai 32\, Hamburg\, HH\, 20457\, Germany
ATTACH;FMTTYPE=image/jpeg:https://edih-hamburg.de/wp-content/uploads/2025/02/672f00ee10be3555e9cebc708ad16926-2.jpg
END:VEVENT
END:VCALENDAR