BEGIN:VCALENDAR
VERSION:2.0
PRODID:-//edih-hamburg - ECPv6.15.20//NONSGML v1.0//EN
CALSCALE:GREGORIAN
METHOD:PUBLISH
X-WR-CALNAME:edih-hamburg
X-ORIGINAL-URL:https://edih-hamburg.de
X-WR-CALDESC:Veranstaltungen für edih-hamburg
REFRESH-INTERVAL;VALUE=DURATION:PT1H
X-Robots-Tag:noindex
X-PUBLISHED-TTL:PT1H
BEGIN:VTIMEZONE
TZID:Europe/Berlin
BEGIN:DAYLIGHT
TZOFFSETFROM:+0100
TZOFFSETTO:+0200
TZNAME:CEST
DTSTART:20240331T010000
END:DAYLIGHT
BEGIN:STANDARD
TZOFFSETFROM:+0200
TZOFFSETTO:+0100
TZNAME:CET
DTSTART:20241027T010000
END:STANDARD
BEGIN:DAYLIGHT
TZOFFSETFROM:+0100
TZOFFSETTO:+0200
TZNAME:CEST
DTSTART:20250330T010000
END:DAYLIGHT
BEGIN:STANDARD
TZOFFSETFROM:+0200
TZOFFSETTO:+0100
TZNAME:CET
DTSTART:20251026T010000
END:STANDARD
BEGIN:DAYLIGHT
TZOFFSETFROM:+0100
TZOFFSETTO:+0200
TZNAME:CEST
DTSTART:20260329T010000
END:DAYLIGHT
BEGIN:STANDARD
TZOFFSETFROM:+0200
TZOFFSETTO:+0100
TZNAME:CET
DTSTART:20261025T010000
END:STANDARD
END:VTIMEZONE
BEGIN:VEVENT
DTSTART;TZID=Europe/Berlin:20251118T170000
DTEND;TZID=Europe/Berlin:20251118T193000
DTSTAMP:20260424T203132
CREATED:20251103T105705Z
LAST-MODIFIED:20251103T105705Z
UID:10000240-1763485200-1763494200@edih-hamburg.de
SUMMARY:#Werkstatt Talk Daten? Hab ich doch\, oder?
DESCRIPTION:KI fängt bei den Daten an – so geht’s im Handwerk los!\n\n\nViele Handwerksbetriebe sammeln bereits Daten – oft\, ohne es zu merken. Ob Auftragslisten\, Maschinendaten oder Kundendokumentation: Diese Informationen sind wertvoll und können zur Basis für digitale Anwendungen und Künstliche Intelligenz werden. \n  \nIm #Werkstatt Talk zeigen wir Dir praxisnah\, wie Du Daten aus Deinem Betrieb erkennst\, sinnvoll sammelst und strukturierst – und warum gerade gut organisierte Daten der Schlüssel für KI sind. Ergänzt wird der Austausch durch eine Live-Demonstration direkt aus dem Handwerk u. a. mit Sensorik\, Tracking\, Microcontrollern und Open-Source-Lösungen. \n  \nInhalte \n\nWarum gute Daten die Grundlage für KI sind\nWelche Daten im Handwerk bereits vorhanden sind\nWie Du Daten einfach strukturierst – auch ohne großes Vorwissen\nErste Schritte\, um Daten für digitale Lösungen nutzbar zu machen\nLive-Demonstration aus der Praxis\n\nAlles kompakt\, verständlich und zugeschnitten auf kleine und mittlere Handwerksbetriebe. \n  \nZielgruppe\nHandwerksbetriebe\, die ihre Daten nutzbar machen und Digitalisierung starten möchten. \n  \nReferenten \n\nSteffen Treske\, Mittelstand-Digital Zentrum Hamburg\n\n  \nModeration: \n\nSandra Holm\, Mittelstand-Digital Zentrum Hamburg\n\n  \nVeranstaltungsort\nDie Veranstaltung findet am 18. November 2025 in einem Handwerksbetrieb in Hamburg-Niendorf statt. Teilnahme nur nach bestätigter Anmeldung. Die Teilnehmerzahl ist begrenzt. \n  \nFür das leibliche Wohl mit einem Imbiss und Getränken ist gesorgt. \n  \nDie Veranstaltung wird in Kooperation durchgeführt: EDIH HH \nFragen zur Veranstaltung? Handwerk4.0@hwk-hamburg.de \n  \nBitte beachten Sie folgende Hinweise: \n\nMit Ihrer Anmeldung bestätigen Sie\, dass Sie die Datenschutzerklärung (Datenschutzerklärung – 2024 (digitalzentrum-hamburg.de) und rechtlichen Hinweise (Impressum – Mittelstand-Digital Zentrum Hamburg 2024 (digitalzentrum-hamburg.de) zur Kenntnis genommen haben. Ihre Daten werden nicht zu Werbezwecken genutzt. Die Daten werden zur Durchführung der Veranstaltung und zu Zwecken der Evaluation für die Projektlaufzeit gespeichert.\n\n  \nDie Förderung durch das BMWK ermöglicht es uns\, Ihnen diese Veranstaltung kostenfrei anzubieten. \n  \n  \nMit freundlichen Grüßen \nIhr Mittelstand-Digital Zentrum Hamburg-Team
URL:https://edih-hamburg.de/event/werkstatt-talk-daten-hab-ich-doch-oder/
LOCATION:Vierenkamp\, Vierenkamp\, Hamburg\, HH\, 22\, Germany
ATTACH;FMTTYPE=image/jpeg:https://edih-hamburg.de/wp-content/uploads/2025/10/8dc629b0cd2b9b00622fd1dd4e4bf306.jpg
END:VEVENT
END:VCALENDAR