BEGIN:VCALENDAR
VERSION:2.0
PRODID:-//edih-hamburg - ECPv6.15.20//NONSGML v1.0//EN
CALSCALE:GREGORIAN
METHOD:PUBLISH
X-WR-CALNAME:edih-hamburg
X-ORIGINAL-URL:https://edih-hamburg.de
X-WR-CALDESC:Veranstaltungen für edih-hamburg
REFRESH-INTERVAL;VALUE=DURATION:PT1H
X-Robots-Tag:noindex
X-PUBLISHED-TTL:PT1H
BEGIN:VTIMEZONE
TZID:Europe/Berlin
BEGIN:DAYLIGHT
TZOFFSETFROM:+0100
TZOFFSETTO:+0200
TZNAME:CEST
DTSTART:20250330T010000
END:DAYLIGHT
BEGIN:STANDARD
TZOFFSETFROM:+0200
TZOFFSETTO:+0100
TZNAME:CET
DTSTART:20251026T010000
END:STANDARD
BEGIN:DAYLIGHT
TZOFFSETFROM:+0100
TZOFFSETTO:+0200
TZNAME:CEST
DTSTART:20260329T010000
END:DAYLIGHT
BEGIN:STANDARD
TZOFFSETFROM:+0200
TZOFFSETTO:+0100
TZNAME:CET
DTSTART:20261025T010000
END:STANDARD
BEGIN:DAYLIGHT
TZOFFSETFROM:+0100
TZOFFSETTO:+0200
TZNAME:CEST
DTSTART:20270328T010000
END:DAYLIGHT
BEGIN:STANDARD
TZOFFSETFROM:+0200
TZOFFSETTO:+0100
TZNAME:CET
DTSTART:20271031T010000
END:STANDARD
END:VTIMEZONE
BEGIN:VEVENT
DTSTART;TZID=Europe/Berlin:20260428T183000
DTEND;TZID=Europe/Berlin:20260428T210000
DTSTAMP:20260420T095814
CREATED:20260114T161312Z
LAST-MODIFIED:20260114T161312Z
UID:10000295-1777401000-1777410000@edih-hamburg.de
SUMMARY:AI Mix & Mingle in April| KI-Stammtisch im April
DESCRIPTION:We are calling in all AI enthusiasts in Hamburg. Let’s talk and exchange thoughts and ideas!\n\n\n(english below) \nWir laden euch herzlich ein\, uns jeden letzten Dienstag im Monat von 18:30– 21 Uhr im ZOË („Sofabar“\, Neuer Pferdemarkt 17\, Hamburg Sternschanze\, linker Eingang) zu treffen. \nTrefft andere KI- und Technikinteressierte bei unserem etablierten KI-Stammtisch\, der seit mehr als drei Jahren die Hamburger KI-Szene zusammenbringt. Beim AI Mix & Mingle in der Sofabar könnt ihr in lockerer Atmosphäre Gedanken austauschen oder über eure KI-Projekte sprechen. Es gibt keine Vorträge. Der Fokus liegt auf dem Austausch und dem Knüpfen von Kontakten. \nEure Anmeldung ist nicht zwingend erforderlich\, aber sehr willkommen: Für eine bessere Planung würden wir uns freuen\, wenn ihr euch vorher über Eventbrite anmeldet. Ihr dürft aber auch spontan vorbeischauen\, um mit uns und anderen Netzwerke schmieden und interessante Gespräche über KI und die Welt zu führen! \nWir freuen uns auf euch! \nSchreibt eure Fragen\, Anmerkungen und euer Feedback gern per Mail an: cm@aric-hamburg.de \nWeitere Informationen auch auf unserer Website: https://aric-hamburg.de/veranstaltungen/ai-mix-mingle-ki-stammtisch-hamburg/ \nKommende Daten: \n\nMai: 26.05.2026\nJuni: 30.06.2026\nJuli: Sommerpause\nAugust: Sommerpause\nSeptember: 29.09.2026\nOktober: Herbstpause\nNovember: 24.11.2026\nDezember: Winterpause\n\nDieses Format wird im Rahmen des EDIH Hamburg mit Unterstützung durch die Europäische Union und der Hamburgischen Investitions- und Förderbank angeboten. #EDIHHamburg \n—————– \nWe meet every last tuesday of the month for our AI Mix and Mingle. We meet 6:30–9 pm at ZOË (Neuer Pferdemarkt 10\, Hamburg Sternschanze). \nMeet other AI and tech enthusiasts at our well-established AI Meetup\, bringing together the Hamburg AI scene for more than three years. Join us for the AI Mix & Mingle at Sofabar\, where you can chat casually\, exchange ideas\, or discuss your AI projects. There are no presentations—the focus is on networking and open conversation. \nWhile your registration is not mandatory\, it is appreciated. You would make our reporting easier if you sign up on Eventbrite. But feel free to drop by spontaneously\, too\, to connect with us and others\, build networks\, and dive into interesting conversations about AI and beyond! \nWe are lookimg forward to seeing you there!For any questions\, comments\, or feedback\, please email us at: cm@aric-hamburg.deMore information on our website: [https://aric-hamburg.de/veranstaltungen/ai-mix-mingle \nUpcoming dates: \n\nMay: 26.05.2026\nJune: 30.06.2026\nJuly: Holiday Break\nAugust: Holiday Break\nSeptember: 29.09.2026\nOctober: Holiday Break\nNovember: 24.11.2026\nDecember: Holiday Break\n\nThis event is offered as a part of EDIH Hamburg\, supported by the EU and IFB Hamburg. #EDIHhamburg
URL:https://edih-hamburg.de/event/ai-mix-mingle-in-april-ki-stammtisch-im-april-3/
LOCATION:Zoë II – Sofabar\, Neuer Pferdemarkt 17\, Hamburg\, HH\, 20359\, Germany
ATTACH;FMTTYPE=image/jpeg:https://edih-hamburg.de/wp-content/uploads/2026/01/ffa797b32bbca4b3a1366fd637371c2b.jpg
END:VEVENT
BEGIN:VEVENT
DTSTART;TZID=Europe/Berlin:20260519T183000
DTEND;TZID=Europe/Berlin:20260519T210000
DTSTAMP:20260420T095814
CREATED:20260114T161312Z
LAST-MODIFIED:20260114T161312Z
UID:10000296-1779215400-1779224400@edih-hamburg.de
SUMMARY:AI Mix & Mingle Women's Edition
DESCRIPTION:KI-Stammtisch exklusiv für Frauen &  FLINTA*.  Vernetzen\, austauschen inspirieren!\n\n\n(english below) \nDer AI Mix & Mingle – Women Edition bietet euch die perfekte Gelegenheit\, in entspannter Atmosphäre mit anderen KI-Interessierten ins Gespräch zu kommen\, euch auszutauschen und zu vernetzen. Egal\, ob ihr bereits tief in der Materie steckt oder einfach neugierig seid – hier ist jede willkommen\, die sich für Künstliche Intelligenz interessiert! \n👩‍💻 Was euch erwartet: \n✨ Inspirierende Gespräche rund um KI & Technologie🤝 Networking mit Gleichgesinnten☕ Lockeres Get-Together in angenehmer Atmosphäre \nLasst uns gegenseitig empowern und die Zukunft der KI mitgestalten. \n🔗 Meldet euch jetzt an und seid dabei! \nWir freuen uns auf euch! 💜 \nDieses Format wird im Rahmen des EDIH Hamburg mit Unterstützung durch die Europäische Union und der Hamburgischen Investitions- und Förderbank angeboten. #EDIHHamburg \n—————– \nThe AI Mix & Mingle – WomenEdition offers you the perfect opportunity to get into conversation\, exchange ideas and network with other AI enthusiasts in a relaxed atmosphere. Regardless of whether you are already deeply involved in the subject or are simply curious – everyone interested in artificial intelligence is welcome here! \n👩‍💻 What you can expect: \n✨ Inspiring talks about AI & technology \n🤝 Networking with like-minded people \n☕ Relaxed get-together in a pleasant atmosphere \nLet’s empower each other and help shape the future of AI \n🔗 Register now and join us! \nWe look forward to seeing you! 💜 \nThis event is offered as a part of EDIH Hamburg\, supported by the EU and IFB Hamburg. #EDIHhamburg
URL:https://edih-hamburg.de/event/ai-mix-mingle-womens-edition-2/
LOCATION:Zoë II – Sofabar\, Neuer Pferdemarkt 17\, Hamburg\, HH\, 20359\, Germany
ATTACH;FMTTYPE=image/jpeg:https://edih-hamburg.de/wp-content/uploads/2026/01/153374fc22ba0cf4cfe7def7c9b5f67f.jpg
END:VEVENT
BEGIN:VEVENT
DTSTART;TZID=Europe/Berlin:20260526T183000
DTEND;TZID=Europe/Berlin:20260526T210000
DTSTAMP:20260420T095814
CREATED:20260114T161314Z
LAST-MODIFIED:20260114T161314Z
UID:10000297-1779820200-1779829200@edih-hamburg.de
SUMMARY:AI Mix & Mingle in May| KI-Stammtisch im Mai
DESCRIPTION:We are calling in all AI enthusiasts in Hamburg. Let’s talk and exchange thoughts and ideas!\n\n\n(english below) \nWir laden euch herzlich ein\, uns jeden letzten Dienstag im Monat von 18:30– 21 Uhr im ZOË („Sofabar“\, Neuer Pferdemarkt 17\, Hamburg Sternschanze\, linker Eingang) zu treffen. \nTrefft andere KI- und Technikinteressierte bei unserem etablierten KI-Stammtisch\, der seit mehr als drei Jahren die Hamburger KI-Szene zusammenbringt. Beim AI Mix & Mingle in der Sofabar könnt ihr in lockerer Atmosphäre Gedanken austauschen oder über eure KI-Projekte sprechen. Es gibt keine Vorträge. Der Fokus liegt auf dem Austausch und dem Knüpfen von Kontakten. \nEure Anmeldung ist nicht zwingend erforderlich\, aber sehr willkommen: Für eine bessere Planung würden wir uns freuen\, wenn ihr euch vorher über Eventbrite anmeldet. Ihr dürft aber auch spontan vorbeischauen\, um mit uns und anderen Netzwerke schmieden und interessante Gespräche über KI und die Welt zu führen! \nWir freuen uns auf euch! \nSchreibt eure Fragen\, Anmerkungen und euer Feedback gern per Mail an: cm@aric-hamburg.de \nWeitere Informationen auch auf unserer Website: https://aric-hamburg.de/veranstaltungen/ai-mix-mingle-ki-stammtisch-hamburg/ \nKommende Daten: \n\nJuni: 30.06.2026\nJuli: Sommerpause\nAugust: Sommerpause\nSeptember: 29.09.2026\nOktober: Herbstpause\nNovember: 24.11.2026\nDezember: Winterpause\n\nDieses Format wird im Rahmen des EDIH Hamburg mit Unterstützung durch die Europäische Union und der Hamburgischen Investitions- und Förderbank angeboten. #EDIHHamburg \n—————– \nWe meet every last tuesday of the month for our AI Mix and Mingle. We meet 6:30–9 pm at ZOË (Neuer Pferdemarkt 10\, Hamburg Sternschanze). \nMeet other AI and tech enthusiasts at our well-established AI Meetup\, bringing together the Hamburg AI scene for more than three years. Join us for the AI Mix & Mingle at Sofabar\, where you can chat casually\, exchange ideas\, or discuss your AI projects. There are no presentations—the focus is on networking and open conversation. \nWhile your registration is not mandatory\, it is appreciated. You would make our reporting easier if you sign up on Eventbrite. But feel free to drop by spontaneously\, too\, to connect with us and others\, build networks\, and dive into interesting conversations about AI and beyond! \nWe are lookimg forward to seeing you there!For any questions\, comments\, or feedback\, please email us at: cm@aric-hamburg.deMore information on our website: [https://aric-hamburg.de/veranstaltungen/ai-mix-mingle \nUpcoming dates: \n\nJune: 30.06.2026\nJuly: Holiday Break\nAugust: Holiday Break\nSeptember: 29.09.2026\nOctober: Holiday Break\nNovember: 24.11.2026\nDecember: Holiday Break\n\nThis event is offered as a part of EDIH Hamburg\, supported by the EU and IFB Hamburg. #EDIHhamburg
URL:https://edih-hamburg.de/event/ai-mix-mingle-in-may-ki-stammtisch-im-mai/
LOCATION:Zoë II – Sofabar\, Neuer Pferdemarkt 17\, Hamburg\, HH\, 20359\, Germany
ATTACH;FMTTYPE=image/jpeg:https://edih-hamburg.de/wp-content/uploads/2026/01/ffa797b32bbca4b3a1366fd637371c2b.jpg
END:VEVENT
BEGIN:VEVENT
DTSTART;TZID=Europe/Berlin:20260630T183000
DTEND;TZID=Europe/Berlin:20260630T210000
DTSTAMP:20260420T095814
CREATED:20260114T161316Z
LAST-MODIFIED:20260114T161316Z
UID:10000299-1782844200-1782853200@edih-hamburg.de
SUMMARY:AI Mix & Mingle in June| KI-Stammtisch im Juni
DESCRIPTION:We are calling in all AI enthusiasts in Hamburg. Let’s talk and exchange thoughts and ideas!\n\n\n(english below) \nWir laden euch herzlich ein\, uns jeden letzten Dienstag im Monat von 18:30– 21 Uhr im ZOË („Sofabar“\, Neuer Pferdemarkt 17\, Hamburg Sternschanze\, linker Eingang) zu treffen. \nTrefft andere KI- und Technikinteressierte bei unserem etablierten KI-Stammtisch\, der seit mehr als drei Jahren die Hamburger KI-Szene zusammenbringt. Beim AI Mix & Mingle in der Sofabar könnt ihr in lockerer Atmosphäre Gedanken austauschen oder über eure KI-Projekte sprechen. Es gibt keine Vorträge. Der Fokus liegt auf dem Austausch und dem Knüpfen von Kontakten. \nEure Anmeldung ist nicht zwingend erforderlich\, aber sehr willkommen: Für eine bessere Planung würden wir uns freuen\, wenn ihr euch vorher über Eventbrite anmeldet. Ihr dürft aber auch spontan vorbeischauen\, um mit uns und anderen Netzwerke schmieden und interessante Gespräche über KI und die Welt zu führen! \nWir freuen uns auf euch! \nSchreibt eure Fragen\, Anmerkungen und euer Feedback gern per Mail an: cm@aric-hamburg.de \nWeitere Informationen auch auf unserer Website: https://aric-hamburg.de/veranstaltungen/ai-mix-mingle-ki-stammtisch-hamburg/ \nKommende Daten: \n\nJuli: Sommerpause\nAugust: Sommerpause\nSeptember: 29.09.2026\nOktober: Herbstpause\nNovember: 24.11.2026\nDezember: Winterpause\n\nDieses Format wird im Rahmen des EDIH Hamburg mit Unterstützung durch die Europäische Union und der Hamburgischen Investitions- und Förderbank angeboten. #EDIHHamburg \n—————– \nWe meet every last tuesday of the month for our AI Mix and Mingle. We meet 6:30–9 pm at ZOË (Neuer Pferdemarkt 10\, Hamburg Sternschanze). \nMeet other AI and tech enthusiasts at our well-established AI Meetup\, bringing together the Hamburg AI scene for more than three years. Join us for the AI Mix & Mingle at Sofabar\, where you can chat casually\, exchange ideas\, or discuss your AI projects. There are no presentations—the focus is on networking and open conversation. \nWhile your registration is not mandatory\, it is appreciated. You would make our reporting easier if you sign up on Eventbrite. But feel free to drop by spontaneously\, too\, to connect with us and others\, build networks\, and dive into interesting conversations about AI and beyond! \nWe are lookimg forward to seeing you there!For any questions\, comments\, or feedback\, please email us at: cm@aric-hamburg.deMore information on our website: [https://aric-hamburg.de/veranstaltungen/ai-mix-mingle \nUpcoming dates: \n\nJuly: Holiday Break\nAugust: Holiday Break\nSeptember: 29.09.2026\nOctober: Holiday Break\nNovember: 24.11.2026\nDecember: Holiday Break\n\nThis event is offered as a part of EDIH Hamburg\, supported by the EU and IFB Hamburg. #EDIHhamburg
URL:https://edih-hamburg.de/event/ai-mix-mingle-in-june-ki-stammtisch-im-juni-3/
LOCATION:Zoë II – Sofabar\, Neuer Pferdemarkt 17\, Hamburg\, HH\, 20359\, Germany
ATTACH;FMTTYPE=image/jpeg:https://edih-hamburg.de/wp-content/uploads/2026/01/ffa797b32bbca4b3a1366fd637371c2b.jpg
END:VEVENT
BEGIN:VEVENT
DTSTART;TZID=Europe/Berlin:20260929T183000
DTEND;TZID=Europe/Berlin:20260929T210000
DTSTAMP:20260420T095814
CREATED:20260114T161316Z
LAST-MODIFIED:20260114T161316Z
UID:10000300-1790706600-1790715600@edih-hamburg.de
SUMMARY:AI Mix & Mingle in September| KI-Stammtisch im September
DESCRIPTION:We are calling in all AI enthusiasts in Hamburg. Let’s talk and exchange thoughts and ideas!\n\n\n(english below) \nWir laden euch herzlich ein\, uns jeden letzten Dienstag im Monat von 18:30– 21 Uhr im ZOË („Sofabar“\, Neuer Pferdemarkt 17\, Hamburg Sternschanze\, linker Eingang) zu treffen. \nTrefft andere KI- und Technikinteressierte bei unserem etablierten KI-Stammtisch\, der seit mehr als drei Jahren die Hamburger KI-Szene zusammenbringt. Beim AI Mix & Mingle in der Sofabar könnt ihr in lockerer Atmosphäre Gedanken austauschen oder über eure KI-Projekte sprechen. Es gibt keine Vorträge. Der Fokus liegt auf dem Austausch und dem Knüpfen von Kontakten. \nEure Anmeldung ist nicht zwingend erforderlich\, aber sehr willkommen: Für eine bessere Planung würden wir uns freuen\, wenn ihr euch vorher über Eventbrite anmeldet. Ihr dürft aber auch spontan vorbeischauen\, um mit uns und anderen Netzwerke schmieden und interessante Gespräche über KI und die Welt zu führen! \nWir freuen uns auf euch! \nSchreibt eure Fragen\, Anmerkungen und euer Feedback gern per Mail an: cm@aric-hamburg.de \nWeitere Informationen auch auf unserer Website: https://aric-hamburg.de/veranstaltungen/ai-mix-mingle-ki-stammtisch-hamburg/ \nKommende Daten: \n\nOktober: Herbstpause\nNovember: 24.11.2026\nDezember: Winterpause\n\nDieses Format wird im Rahmen des EDIH Hamburg mit Unterstützung durch die Europäische Union und der Hamburgischen Investitions- und Förderbank angeboten. #EDIHHamburg \n—————– \nWe meet every last tuesday of the month for our AI Mix and Mingle. We meet 6:30–9 pm at ZOË (Neuer Pferdemarkt 10\, Hamburg Sternschanze). \nMeet other AI and tech enthusiasts at our well-established AI Meetup\, bringing together the Hamburg AI scene for more than three years. Join us for the AI Mix & Mingle at Sofabar\, where you can chat casually\, exchange ideas\, or discuss your AI projects. There are no presentations—the focus is on networking and open conversation. \nWhile your registration is not mandatory\, it is appreciated. You would make our reporting easier if you sign up on Eventbrite. But feel free to drop by spontaneously\, too\, to connect with us and others\, build networks\, and dive into interesting conversations about AI and beyond! \nWe are lookimg forward to seeing you there!For any questions\, comments\, or feedback\, please email us at: cm@aric-hamburg.deMore information on our website: [https://aric-hamburg.de/veranstaltungen/ai-mix-mingle \nUpcoming dates: \n\nOctober: Holiday Break\nNovember: 24.11.2026\nDecember: Holiday Break\n\nThis event is offered as a part of EDIH Hamburg\, supported by the EU and IFB Hamburg. #EDIHhamburg
URL:https://edih-hamburg.de/event/ai-mix-mingle-in-september-ki-stammtisch-im-september/
LOCATION:Zoë II – Sofabar\, Neuer Pferdemarkt 17\, Hamburg\, HH\, 20359\, Germany
ATTACH;FMTTYPE=image/jpeg:https://edih-hamburg.de/wp-content/uploads/2026/01/ffa797b32bbca4b3a1366fd637371c2b.jpg
END:VEVENT
BEGIN:VEVENT
DTSTART;TZID=Europe/Berlin:20261117T183000
DTEND;TZID=Europe/Berlin:20261117T210000
DTSTAMP:20260420T095814
CREATED:20260114T161317Z
LAST-MODIFIED:20260114T161317Z
UID:10000301-1794940200-1794949200@edih-hamburg.de
SUMMARY:AI Mix & Mingle Women's Edition
DESCRIPTION:KI-Stammtisch exklusiv für Frauen &  FLINTA*.  Vernetzen\, austauschen inspirieren!\n\n\n(english below) \nDer AI Mix & Mingle – Women Edition bietet euch die perfekte Gelegenheit\, in entspannter Atmosphäre mit anderen KI-Interessierten ins Gespräch zu kommen\, euch auszutauschen und zu vernetzen. Egal\, ob ihr bereits tief in der Materie steckt oder einfach neugierig seid – hier ist jede willkommen\, die sich für Künstliche Intelligenz interessiert! \n👩‍💻 Was euch erwartet: \n✨ Inspirierende Gespräche rund um KI & Technologie🤝 Networking mit Gleichgesinnten☕ Lockeres Get-Together in angenehmer Atmosphäre \nLasst uns gegenseitig empowern und die Zukunft der KI mitgestalten. \n🔗 Meldet euch jetzt an und seid dabei! \nWir freuen uns auf euch! 💜 \nDieses Format wird im Rahmen des EDIH Hamburg mit Unterstützung durch die Europäische Union und der Hamburgischen Investitions- und Förderbank angeboten. #EDIHHamburg \n—————– \nThe AI Mix & Mingle – WomenEdition offers you the perfect opportunity to get into conversation\, exchange ideas and network with other AI enthusiasts in a relaxed atmosphere. Regardless of whether you are already deeply involved in the subject or are simply curious – everyone interested in artificial intelligence is welcome here! \n👩‍💻 What you can expect: \n✨ Inspiring talks about AI & technology \n🤝 Networking with like-minded people \n☕ Relaxed get-together in a pleasant atmosphere \nLet’s empower each other and help shape the future of AI \n🔗 Register now and join us! \nWe look forward to seeing you! 💜 \nThis event is offered as a part of EDIH Hamburg\, supported by the EU and IFB Hamburg. #EDIHhamburg
URL:https://edih-hamburg.de/event/ai-mix-mingle-womens-edition-3/
LOCATION:Zoë II – Sofabar\, Neuer Pferdemarkt 17\, Hamburg\, HH\, 20359\, Germany
ATTACH;FMTTYPE=image/jpeg:https://edih-hamburg.de/wp-content/uploads/2026/01/5c0243e3032b9751dc7e24a63f13cda2.jpg
END:VEVENT
BEGIN:VEVENT
DTSTART;TZID=Europe/Berlin:20261124T183000
DTEND;TZID=Europe/Berlin:20261124T210000
DTSTAMP:20260420T095814
CREATED:20260114T161340Z
LAST-MODIFIED:20260114T161340Z
UID:10000312-1795545000-1795554000@edih-hamburg.de
SUMMARY:AI Mix & Mingle in November| KI-Stammtisch im November
DESCRIPTION:We are calling in all AI enthusiasts in Hamburg. Let’s talk and exchange thoughts and ideas!\n\n\n(english below) \nWir laden euch herzlich ein\, uns jeden letzten Dienstag im Monat von 18:30– 21 Uhr im ZOË („Sofabar“\, Neuer Pferdemarkt 17\, Hamburg Sternschanze\, linker Eingang) zu treffen. \nTrefft andere KI- und Technikinteressierte bei unserem etablierten KI-Stammtisch\, der seit mehr als drei Jahren die Hamburger KI-Szene zusammenbringt. Beim AI Mix & Mingle in der Sofabar könnt ihr in lockerer Atmosphäre Gedanken austauschen oder über eure KI-Projekte sprechen. Es gibt keine Vorträge. Der Fokus liegt auf dem Austausch und dem Knüpfen von Kontakten. \nEure Anmeldung ist nicht zwingend erforderlich\, aber sehr willkommen: Für eine bessere Planung würden wir uns freuen\, wenn ihr euch vorher über Eventbrite anmeldet. Ihr dürft aber auch spontan vorbeischauen\, um mit uns und anderen Netzwerke schmieden und interessante Gespräche über KI und die Welt zu führen! \nWir freuen uns auf euch! \nSchreibt eure Fragen\, Anmerkungen und euer Feedback gern per Mail an: cm@aric-hamburg.de \nWeitere Informationen auch auf unserer Website: https://aric-hamburg.de/veranstaltungen/ai-mix-mingle-ki-stammtisch-hamburg/ \nKommende Daten: \n\nDezember: Winterpause\n\nDieses Format wird im Rahmen des EDIH Hamburg mit Unterstützung durch die Europäische Union und der Hamburgischen Investitions- und Förderbank angeboten. #EDIHHamburg \n—————– \nWe meet every last tuesday of the month for our AI Mix and Mingle. We meet 6:30–9 pm at ZOË (Neuer Pferdemarkt 10\, Hamburg Sternschanze). \nMeet other AI and tech enthusiasts at our well-established AI Meetup\, bringing together the Hamburg AI scene for more than three years. Join us for the AI Mix & Mingle at Sofabar\, where you can chat casually\, exchange ideas\, or discuss your AI projects. There are no presentations—the focus is on networking and open conversation. \nWhile your registration is not mandatory\, it is appreciated. You would make our reporting easier if you sign up on Eventbrite. But feel free to drop by spontaneously\, too\, to connect with us and others\, build networks\, and dive into interesting conversations about AI and beyond! \nWe are lookimg forward to seeing you there!For any questions\, comments\, or feedback\, please email us at: cm@aric-hamburg.deMore information on our website: [https://aric-hamburg.de/veranstaltungen/ai-mix-mingle \nUpcoming dates: \n\nDecember: Holiday Break\n\nThis event is offered as a part of EDIH Hamburg\, supported by the EU and IFB Hamburg. #EDIHhamburg
URL:https://edih-hamburg.de/event/ai-mix-mingle-in-november-ki-stammtisch-im-november/
LOCATION:Zoë II – Sofabar\, Neuer Pferdemarkt 17\, Hamburg\, HH\, 20359\, Germany
ATTACH;FMTTYPE=image/jpeg:https://edih-hamburg.de/wp-content/uploads/2026/01/ffa797b32bbca4b3a1366fd637371c2b.jpg
END:VEVENT
END:VCALENDAR