BEGIN:VCALENDAR
VERSION:2.0
PRODID:-//edih-hamburg - ECPv6.15.20//NONSGML v1.0//EN
CALSCALE:GREGORIAN
METHOD:PUBLISH
X-WR-CALNAME:edih-hamburg
X-ORIGINAL-URL:https://edih-hamburg.de/en/
X-WR-CALDESC:Events for edih-hamburg
REFRESH-INTERVAL;VALUE=DURATION:PT1H
X-Robots-Tag:noindex
X-PUBLISHED-TTL:PT1H
BEGIN:VTIMEZONE
TZID:Europe/Berlin
BEGIN:DAYLIGHT
TZOFFSETFROM:+0100
TZOFFSETTO:+0200
TZNAME:CEST
DTSTART:20250330T010000
END:DAYLIGHT
BEGIN:STANDARD
TZOFFSETFROM:+0200
TZOFFSETTO:+0100
TZNAME:CET
DTSTART:20251026T010000
END:STANDARD
BEGIN:DAYLIGHT
TZOFFSETFROM:+0100
TZOFFSETTO:+0200
TZNAME:CEST
DTSTART:20260329T010000
END:DAYLIGHT
BEGIN:STANDARD
TZOFFSETFROM:+0200
TZOFFSETTO:+0100
TZNAME:CET
DTSTART:20261025T010000
END:STANDARD
BEGIN:DAYLIGHT
TZOFFSETFROM:+0100
TZOFFSETTO:+0200
TZNAME:CEST
DTSTART:20270328T010000
END:DAYLIGHT
BEGIN:STANDARD
TZOFFSETFROM:+0200
TZOFFSETTO:+0100
TZNAME:CET
DTSTART:20271031T010000
END:STANDARD
END:VTIMEZONE
BEGIN:VEVENT
DTSTART;TZID=Europe/Berlin:20260929T183000
DTEND;TZID=Europe/Berlin:20260929T210000
DTSTAMP:20260425T152303
CREATED:20260114T161316Z
LAST-MODIFIED:20260114T161316Z
UID:10000310-1790706600-1790715600@edih-hamburg.de
SUMMARY:AI Mix & Mingle in September| AI regulars' table in September
DESCRIPTION:We are calling in all AI enthusiasts in Hamburg. Let’s talk and exchange thoughts and ideas! \n\n\n(english below) \nWe cordially invite you to meet us every last Tuesday of the month from 6:30-9 pm at ZOË (“Sofabar”\, Neuer Pferdemarkt 17\, Hamburg Sternschanze\, left entrance). \nMeet other AI and technology enthusiasts at our established AI regulars’ table\, which has been bringing the Hamburg AI scene together for more than three years. At the AI Mix & Mingle in the Sofabar\, you can exchange ideas or talk about your AI projects in a relaxed atmosphere.   There are no lectures.  The focus is on exchanging ideas and making contacts. \nYour registration is not mandatory\, but very welcome: For better planning\, we would be happy if you register in advance via Eventbrite. You are also welcome to drop by spontaneously to network with us and others and have interesting conversations about AI and the world!  \nWe look forward to seeing you! \nPlease send your questions\, comments and feedback by e-mail to: cm@aric-hamburg.de \nFurther information can also be found on our website: https://aric-hamburg.de/veranstaltungen/ai-mix-mingle-ki-stammtisch-hamburg/ \nUpcoming dates: \n\nOctober: Fall break\nNovember: 24.11.2026\nDecember: Winter break\n\nThis format is used within the EDIH Hamburg  with the support of the European Union and the Hamburgische Investitions- und Förderbank. #EDIHHamburg \n—————– \nWe meet every last tuesday of the month for our AI Mix and Mingle. We meet 6:30-9 pm at ZOË (Neuer Pferdemarkt 10\, Hamburg Sternschanze).  \nMeet other AI and tech enthusiasts at our well-established AI Meetup\, bringing together the Hamburg AI scene for more than three years. Join us for the AI Mix & Mingle at Sofabar\, where you can chat casually\, exchange ideas\, or discuss your AI projects.  There are no presentations-the focus is on networking and open conversation. \nWhile your registration is not mandatory\, it is appreciated. You would make our reporting easier if you sign up on Eventbrite.  But feel free to drop by spontaneously\, too\, to connect with us and others\, build networks\, and dive into interesting conversations about AI and beyond! \nWe are lookimg forward to seeing you there!For any questions\, comments\, or feedback\, please email us at: cm@aric-hamburg.deMore information on our website:[https://aric-hamburg.de/veranstaltungen/ai-mix-mingle \nUpcoming dates: \n\nOctober: Holiday Break\nNovember: 24.11.2026\nDecember: Holiday Break\n\nThis event is offered as a part of EDIH Hamburg\, supported by the EU and IFB Hamburg. #EDIHhamburg
URL:https://edih-hamburg.de/en/event/ai-mix-mingle-in-september-ai-regulars-table-in-september-2/
LOCATION:Zoë II – Sofa bar\, New horse market 17\, Hamburg\, HH\, 20359\, Germany
ATTACH;FMTTYPE=image/jpeg:https://edih-hamburg.de/wp-content/uploads/2026/01/ffa797b32bbca4b3a1366fd637371c2b.jpg
END:VEVENT
BEGIN:VEVENT
DTSTART;TZID=Europe/Berlin:20261124T183000
DTEND;TZID=Europe/Berlin:20261124T210000
DTSTAMP:20260425T152303
CREATED:20260114T161340Z
LAST-MODIFIED:20260114T161340Z
UID:10000313-1795545000-1795554000@edih-hamburg.de
SUMMARY:AI Mix & Mingle in November| AI regulars' table in November
DESCRIPTION:We are calling in all AI enthusiasts in Hamburg. Let’s talk and exchange thoughts and ideas! \n\n\n(english below) \nWe cordially invite you to meet us every last Tuesday of the month from 6:30-9 pm at ZOË (“Sofabar”\, Neuer Pferdemarkt 17\, Hamburg Sternschanze\, left entrance). \nMeet other AI and technology enthusiasts at our established AI regulars’ table\, which has been bringing the Hamburg AI scene together for more than three years. At the AI Mix & Mingle in the Sofabar\, you can exchange ideas or talk about your AI projects in a relaxed atmosphere.   There are no lectures.  The focus is on exchanging ideas and making contacts. \nYour registration is not mandatory\, but very welcome: For better planning\, we would be happy if you register in advance via Eventbrite. You are also welcome to drop by spontaneously to network with us and others and have interesting conversations about AI and the world!  \nWe look forward to seeing you! \nPlease send your questions\, comments and feedback by e-mail to: cm@aric-hamburg.de \nFurther information can also be found on our website: https://aric-hamburg.de/veranstaltungen/ai-mix-mingle-ki-stammtisch-hamburg/ \nUpcoming dates: \n\nDecember: Winter break\n\nThis format is used within the EDIH Hamburg  with the support of the European Union and the Hamburgische Investitions- und Förderbank. #EDIHHamburg \n—————– \nWe meet every last tuesday of the month for our AI Mix and Mingle. We meet 6:30-9 pm at ZOË (Neuer Pferdemarkt 10\, Hamburg Sternschanze).  \nMeet other AI and tech enthusiasts at our well-established AI Meetup\, bringing together the Hamburg AI scene for more than three years. Join us for the AI Mix & Mingle at Sofabar\, where you can chat casually\, exchange ideas\, or discuss your AI projects.  There are no presentations-the focus is on networking and open conversation. \nWhile your registration is not mandatory\, it is appreciated. You would make our reporting easier if you sign up on Eventbrite.  But feel free to drop by spontaneously\, too\, to connect with us and others\, build networks\, and dive into interesting conversations about AI and beyond! \nWe are lookimg forward to seeing you there!For any questions\, comments\, or feedback\, please email us at: cm@aric-hamburg.deMore information on our website:[https://aric-hamburg.de/veranstaltungen/ai-mix-mingle \nUpcoming dates: \n\nDecember: Holiday Break\n\nThis event is offered as a part of EDIH Hamburg\, supported by the EU and IFB Hamburg. #EDIHhamburg
URL:https://edih-hamburg.de/en/event/ai-mix-mingle-in-november-ai-regulars-table-in-november-2/
LOCATION:Zoë II – Sofa bar\, New horse market 17\, Hamburg\, HH\, 20359\, Germany
ATTACH;FMTTYPE=image/jpeg:https://edih-hamburg.de/wp-content/uploads/2026/01/ffa797b32bbca4b3a1366fd637371c2b.jpg
END:VEVENT
END:VCALENDAR