BEGIN:VCALENDAR
VERSION:2.0
PRODID:-//edih-hamburg - ECPv6.15.20//NONSGML v1.0//EN
CALSCALE:GREGORIAN
METHOD:PUBLISH
X-WR-CALNAME:edih-hamburg
X-ORIGINAL-URL:https://edih-hamburg.de/en/
X-WR-CALDESC:Events for edih-hamburg
REFRESH-INTERVAL;VALUE=DURATION:PT1H
X-Robots-Tag:noindex
X-PUBLISHED-TTL:PT1H
BEGIN:VTIMEZONE
TZID:Europe/Berlin
BEGIN:DAYLIGHT
TZOFFSETFROM:+0100
TZOFFSETTO:+0200
TZNAME:CEST
DTSTART:20250330T010000
END:DAYLIGHT
BEGIN:STANDARD
TZOFFSETFROM:+0200
TZOFFSETTO:+0100
TZNAME:CET
DTSTART:20251026T010000
END:STANDARD
BEGIN:DAYLIGHT
TZOFFSETFROM:+0100
TZOFFSETTO:+0200
TZNAME:CEST
DTSTART:20260329T010000
END:DAYLIGHT
BEGIN:STANDARD
TZOFFSETFROM:+0200
TZOFFSETTO:+0100
TZNAME:CET
DTSTART:20261025T010000
END:STANDARD
BEGIN:DAYLIGHT
TZOFFSETFROM:+0100
TZOFFSETTO:+0200
TZNAME:CEST
DTSTART:20270328T010000
END:DAYLIGHT
BEGIN:STANDARD
TZOFFSETFROM:+0200
TZOFFSETTO:+0100
TZNAME:CET
DTSTART:20271031T010000
END:STANDARD
END:VTIMEZONE
BEGIN:VEVENT
DTSTART;TZID=Europe/Berlin:20260108T090000
DTEND;TZID=Europe/Berlin:20260108T180000
DTSTAMP:20260426T063240
CREATED:20260106T131442Z
LAST-MODIFIED:20260106T131442Z
UID:10000271-1767862800-1767895200@edih-hamburg.de
SUMMARY:AI consultation hour
DESCRIPTION:AI can reduce energy costs\, relieve your employees and much more. Find out with us where your company can benefit. \n\n\nYou hear everywhere how AI can optimize all areas\, but you want to find out what this means for your company? \nTo give you an idea of how AI is used successfully\, here are two examples: \n\nQuality assurance (QA): In many cases\, QA is carried out visually. Be it by looking at the product or with the help of X-ray images. AI recognizes anomalies at the same level as trained experts\, but much faster. AI can therefore filter out unobjectionable cases at lightning speed\, giving your employees more time to assess unclear cases. This increases performance and frees up your specialists\, who are now available for other tasks.    \nSupply chain management: An important area of supply chain management is assessing the delivery reliability of suppliers. AI can predict the reliability of deliveries with an approx. 80% probability\, which enables forward planning: regardless of whether you place the order elsewhere or instruct your production to bring forward other orders – you will be prepared. \n\nDo you have a different problem or would you like to find out more? Then book a lesson with our AI trainer Christian Bruss.  Whether you already have an elaborate plan for implementing your AI concept or are just reading the letters AI for the first time\, our AI trainer will be happy to help you! \nProcedure: By registering\, you agree to a time slot in the period from 9:00 – 18:00. Your final time slot for the AI consultation hour will be allocated to you by our AI trainer. The sender of the e-mail with the information about your personal time slot and your access data is the Hamburg University of Technology (TUHH). In addition\, our AI trainer will contact you in advance to define your individual wishes with regard to the content of the AI consultation hour.    \nChoose from the following time slots: \n\n9:00 to 10:00 a.m.\n10:30 to 11:30 a.m.\n12:00 to 13:00\n14:00 to 15:00\n15:30 to 16:30\n17:00 to 18:00\n\n \nTarget group: Small and medium-sized enterprises (SMEs) with and without prior knowledge \nLocation: This event will take place virtually via webinar/video conference. After confirmation of your registration\, you will receive at the latest   One day before the event\, you will receive the access data and further information on logging in from the Hamburg University of Technology (TUHH) by e-mail. Please make sure that your e-mail address is spelled correctly!  \n————— \nPlease note the following information: \n\nBy registering\, you confirm that you have taken note of the privacy policy(Privacy Policy – 2024 (digitalzentrum-hamburg.de) and legal information(Imprint – Mittelstand-Digital Zentrum Hamburg 2024 (digitalzentrum-hamburg.de)). Your data will not be used for advertising purposes. The data will be stored for the duration of the event and for evaluation purposes.  \n\n \nFunding from the BMWK enables us to offer you this event free of charge. \n \n \nYours sincerely \nYour Mittelstand Digital Center Hamburg team
URL:https://edih-hamburg.de/en/event/ai-consultation-hour-10/
LOCATION:HH
ATTACH;FMTTYPE=image/jpeg:https://edih-hamburg.de/wp-content/uploads/2025/02/5354a78d6fd189258c40e34ac39b4e00.jpg
END:VEVENT
BEGIN:VEVENT
DTSTART;TZID=Europe/Berlin:20260115T120000
DTEND;TZID=Europe/Berlin:20260115T123000
DTSTAMP:20260426T063240
CREATED:20260114T161230Z
LAST-MODIFIED:20260114T161230Z
UID:10000283-1768478400-1768480200@edih-hamburg.de
SUMMARY:ARIC Brown Bag Session: Graph AI vs LLMs - From Language to Logic
DESCRIPTION:Exchange and insights into AI projects – practical experience from the community\n\n\nLecture language: English \n\n\nI will explore why standard LLMs and vector search fall short in complex regulatory environments where relationships have consequences. I will demonstrate how to transition from “PDF Hell” to structured Knowledge Graphs using Neo4j\, enabling accurate\, auditable answers for government use cases. Attendees will learn how to implement a hybrid architecture combining Azure AI with sovereign\, air-gapped data layers\, and discover practical techniques for preserving document hierarchy using GraphRAG and NeoDash.   \n\n\nImportant information: From January 2026 you will find our ARIC Brown Bag announcements on Eventbrite. Don’t want to miss anything? Then follow us on Eventbrite or check our website regularly.   \n\n\nThis format is offered as part of the EDIH Hamburg\, with support from the European Union and the Hamburgische Investitions- und Förderbank. #EDIHHamburg
URL:https://edih-hamburg.de/en/event/aric-brown-bag-session-graph-ai-vs-llms-from-language-to-logic/
LOCATION:HH
ATTACH;FMTTYPE=image/jpeg:https://edih-hamburg.de/wp-content/uploads/2026/01/6b2e65c0413f2ccf2fd7b1067ec00b7b.jpg
END:VEVENT
BEGIN:VEVENT
DTSTART;TZID=Europe/Berlin:20260120T120000
DTEND;TZID=Europe/Berlin:20260120T123000
DTSTAMP:20260426T063240
CREATED:20260114T161231Z
LAST-MODIFIED:20260114T161231Z
UID:10000282-1768910400-1768912200@edih-hamburg.de
SUMMARY:ARIC Brown Bag Session: Return on AI - Realistically measuring the impact of GenAI
DESCRIPTION:Exchange and insights into AI projects – practical experience from the community\n\n\nGenerative AI is changing ways of working – but how do you measure its actual benefits? The impulse shows a tried-and-tested approach that organizations can use to systematically record the efficiency\, quality and acceptance effects of GenAI. Using real project examples\, measurement logic\, success factors and typical pitfalls are made tangible.   \n\n\nImportant information: From January 2026 you will find our ARIC Brown Bag announcements on Eventbrite. Don’t want to miss anything? Then follow us on Eventbrite or check our website regularly.   \n\n\nThis format is offered as part of the EDIH Hamburg\, with support from the European Union and the Hamburgische Investitions- und Förderbank. #EDIHHamburg
URL:https://edih-hamburg.de/en/event/aric-brown-bag-session-return-on-ai-realistically-measuring-the-impact-of-genai/
LOCATION:HH
ATTACH;FMTTYPE=image/jpeg:https://edih-hamburg.de/wp-content/uploads/2026/01/7143d3febd8ef6507e59516e951742d2.jpg
END:VEVENT
BEGIN:VEVENT
DTSTART;TZID=Europe/Berlin:20260122T090000
DTEND;TZID=Europe/Berlin:20260122T180000
DTSTAMP:20260426T063240
CREATED:20260106T131442Z
LAST-MODIFIED:20260106T131442Z
UID:10000270-1769072400-1769104800@edih-hamburg.de
SUMMARY:AI consultation hour
DESCRIPTION:AI can reduce energy costs\, relieve your employees and much more. Find out with us where your company can benefit. \n\n\nYou hear everywhere how AI can optimize all areas\, but you want to find out what this means for your company? \nTo give you an idea of how AI is used successfully\, here are two examples: \n\nQuality assurance (QA): In many cases\, QA is carried out visually. Be it by looking at the product or with the help of X-ray images. AI recognizes anomalies at the same level as trained experts\, but much faster. AI can therefore filter out unobjectionable cases at lightning speed\, giving your employees more time to assess unclear cases. This increases performance and frees up your specialists\, who are now available for other tasks.    \nSupply chain management: An important area of supply chain management is assessing the delivery reliability of suppliers. AI can predict the reliability of deliveries with an approx. 80% probability\, which enables forward planning: regardless of whether you place the order elsewhere or instruct your production to bring forward other orders – you will be prepared. \n\nDo you have a different problem or would you like to find out more? Then book a lesson with our AI trainer Christian Bruss.  Whether you already have an elaborate plan for implementing your AI concept or are just reading the letters AI for the first time\, our AI trainer will be happy to help you! \nProcedure: By registering\, you agree to a time slot in the period from 9:00 – 18:00. Your final time slot for the AI consultation hour will be allocated to you by our AI trainer. The sender of the e-mail with the information about your personal time slot and your access data is the Hamburg University of Technology (TUHH). In addition\, our AI trainer will contact you in advance to define your individual wishes with regard to the content of the AI consultation hour.    \nChoose from the following time slots: \n\n9:00 to 10:00 a.m.\n10:30 to 11:30 a.m.\n12:00 to 13:00\n14:00 to 15:00\n15:30 to 16:30\n17:00 to 18:00\n\n \nTarget group: Small and medium-sized enterprises (SMEs) with and without prior knowledge \nLocation: This event will take place virtually via webinar/video conference. After confirmation of your registration\, you will receive at the latest   One day before the event\, you will receive the access data and further information on logging in from the Hamburg University of Technology (TUHH) by e-mail. Please make sure that your e-mail address is spelled correctly!  \n————— \nPlease note the following information: \n\nBy registering\, you confirm that you have taken note of the privacy policy(Privacy Policy – 2024 (digitalzentrum-hamburg.de) and legal information(Imprint – Mittelstand-Digital Zentrum Hamburg 2024 (digitalzentrum-hamburg.de)). Your data will not be used for advertising purposes. The data will be stored for the duration of the event and for evaluation purposes.  \n\n \nFunding from the BMWK enables us to offer you this event free of charge. \n \n \nYours sincerely \nYour Mittelstand Digital Center Hamburg team
URL:https://edih-hamburg.de/en/event/ai-consultation-hour-9/
LOCATION:HH
ATTACH;FMTTYPE=image/jpeg:https://edih-hamburg.de/wp-content/uploads/2025/02/5354a78d6fd189258c40e34ac39b4e00.jpg
END:VEVENT
BEGIN:VEVENT
DTSTART;TZID=Europe/Berlin:20260122T120000
DTEND;TZID=Europe/Berlin:20260122T123000
DTSTAMP:20260426T063240
CREATED:20260114T161233Z
LAST-MODIFIED:20260114T161233Z
UID:10000284-1769083200-1769085000@edih-hamburg.de
SUMMARY:ARIC Brown Bag: Hype\, hope and statistics: GenAI from an ethical perspective
DESCRIPTION:Exchange and insights into AI projects – practical experience from the community\n\n\nEveryone is talking about GenAI: as a future technology\, as the Next Big Thing\, in the form of disappointed expectations\, or as a social dystopia. The session will sort through these perceptions and show where the use of Generative AI entails significant ethical challenges (and where it probably does not).  \n\n\nImportant information: From January 2026 you will find our ARIC Brown Bag announcements on Eventbrite. Don’t want to miss anything? Then follow us on Eventbrite or check our website regularly.   \n\n\nThis format is offered as part of the EDIH Hamburg\, with support from the European Union and the Hamburgische Investitions- und Förderbank. #EDIHHamburg
URL:https://edih-hamburg.de/en/event/aric-brown-bag-hype-hope-and-statistics-genai-from-an-ethical-perspective/
LOCATION:HH
ATTACH;FMTTYPE=image/jpeg:https://edih-hamburg.de/wp-content/uploads/2026/01/621f00099414058b4d77f424817fdd48.jpg
END:VEVENT
BEGIN:VEVENT
DTSTART;TZID=Europe/Berlin:20260127T120000
DTEND;TZID=Europe/Berlin:20260127T123000
DTSTAMP:20260426T063240
CREATED:20260114T161234Z
LAST-MODIFIED:20260114T161234Z
UID:10000285-1769515200-1769517000@edih-hamburg.de
SUMMARY:ARIC Brown Bag Session: Patents and Quantum Technology
DESCRIPTION:Exchange and insights into AI projects – practical experience from the community\n\n\nLecture language: English \n\n\nPatent applications are being filed in the field of quantum technology in an increasing number. The talk provides insights into the patent system with a strong connection to quantum technology and illustrates motivations for patent applicants and holders. In addition\, the patentability of quantum technology is discussed.   \n\n\nImportant information: From January 2026 you will find our ARIC Brown Bag announcements on Eventbrite. Don’t want to miss anything? Then follow us on Eventbrite or check our website regularly.   \n\n\nThis format is offered as part of the EDIH Hamburg\, with support from the European Union and the Hamburgische Investitions- und Förderbank. #EDIHHamburg
URL:https://edih-hamburg.de/en/event/aric-brown-bag-session-patents-and-quantum-technology/
LOCATION:HH
ATTACH;FMTTYPE=image/jpeg:https://edih-hamburg.de/wp-content/uploads/2026/01/2b9fcef56e1a5fa5c4e9dcb544b5da8a.jpg
END:VEVENT
BEGIN:VEVENT
DTSTART;TZID=Europe/Berlin:20260127T140000
DTEND;TZID=Europe/Berlin:20260127T180000
DTSTAMP:20260426T063240
CREATED:20260106T131443Z
LAST-MODIFIED:20260106T131443Z
UID:10000269-1769522400-1769536800@edih-hamburg.de
SUMMARY:4-part workshop series: On the way to your own AI telephone assistant
DESCRIPTION:We provide you with close and practical support in this interactive workshop format.\n\n\nDo you want to take the pressure off your company\, manage calls smarter and enter the world of AI step by step? Then our   4-part implementation series (27.01.\, 17.02.\, 24.03.\, 14.04.) in interactive workshop format just right for you! \nTogether\, we will develop your individual path to your own AI telephone assistant – from the initial idea to the first concrete solutions. You don’t get theory\, but a clear structure\, practical exercises and direct support at every step. The result is a roadmap that really suits your company and can be implemented immediately. Step by step\, you will find your own chosen solution.    \n \nExclusive offer \nWe will provide you with close and practical support: coaching\, exchange of experience\, consultation hours and tailored support to help you find the solution that really suits your company. The number of participants will be limited. We are provider-neutral and\, as always\, free of charge!   \nLet’s go! Get a seat and finally make your phone smarter – step by step.  \n \nWhat awaits you in the 4-part workshop series \n1. develop a project roadmapYou lay the foundations for your AI project: Clarify goals\, define benefits\, determine roles and create a suitable process for your company. \n2. requirements catalog & own GPT (optional with consultation hour)You understand the basic AI logic\, develop an initial requirements catalog and build an AI agent as a minimal version to make your requirements directly tangible. \n3. provider speed dating (optional with consultation hour)You get to know different providers and solutions – compact and comparable. Optionally\, you will receive support with organizational changes and open AI questions.  \n4th hackathon – first steps towards implementationYou’ll get down to practical work: Accompanied and supported by experts\, you’ll start setting up your AI telephone assistant. \n \nFrame \nEvery Tuesday from 2 – 6 pm: \nWorkshop 1 – Developing a project roadmap.  Tuesday 27.01.2026 \nWorkshop 2 – Requirements catalog & own GPT.  Tuesday 17.02.2026 \nWorkshop 3 – Supplier speed dating.  Tuesday 24.03.2026 \nWorkshop 4 – Hackathon – first steps towards implementation.  Tuesday 14.04.2026 \n \nWho is the series suitable for?For trade businesses that want to finally manage their telephone workload in a more relaxed way and enter the world of AI without technical gobbledygook. Perfect for anyone who is looking for smart telephone relief and wants to implement their own AI telephone assistant.  \n \nGoal \nThe four workshops build on each other logically and lead you step by step to the first concrete implementation steps for your own AI telephone assistant. At the end\, you will not only have a clear project roadmap and a list of requirements\, but you will also be ready to start implementing your AI telephone assistant. The prerequisite is that the conditions in the company allow for an introduction and that you are actively involved.   \n \nWhat do we expect from you? \n\nFirm commitment and participation in all four dates\nGladly two persons from one company\nThe genuine will to introduce an AI telephone assistant\nPlanning capacities for real implementation steps\, also between workshops\n\n \nRegister now!Get started with us in digital phone relief and secure your place in the workshop series. \n \nParticipation only after confirmed registration! \n \nThe event is organized in cooperation with EDIH HH \nQuestions about the event? Handwerk4.0@hwk-hamburg.de  \n \nPlease note the following information: \n\nBy registering\, you confirm that you have taken note of the privacy policy(Privacy Policy – 2024 (digitalzentrum-hamburg.de) and legal information(Imprint – Mittelstand-Digital Zentrum Hamburg 2024 (digitalzentrum-hamburg.de)). Your data will not be used for advertising purposes. The data will be stored for the duration of the event and for evaluation purposes.  \n\n \nFunding from the BMWK enables us to offer you this event free of charge. \n \n \nYours sincerely \nYour Mittelstand Digital Center Hamburg team
URL:https://edih-hamburg.de/en/event/4-part-workshop-series-on-the-way-to-your-own-ai-telephone-assistant/
LOCATION:Digital Hub Logistics & Commerce\, Am Sandtorkai 32\, Hamburg\, HH\, 20457\, Germany
ATTACH;FMTTYPE=image/jpeg:https://edih-hamburg.de/wp-content/uploads/2026/01/54dbb48b909ad67172e6ae28dbbafe30.jpg
END:VEVENT
BEGIN:VEVENT
DTSTART;TZID=Europe/Berlin:20260127T183000
DTEND;TZID=Europe/Berlin:20260127T210000
DTSTAMP:20260426T063240
CREATED:20260114T161235Z
LAST-MODIFIED:20260114T161235Z
UID:10000291-1769538600-1769547600@edih-hamburg.de
SUMMARY:AI Mix & Mingle in January| AI regulars' table in January
DESCRIPTION:We are calling in all AI enthusiasts in Hamburg. Let’s talk and exchange thoughts and ideas! \n\n\n(english below) \nWe cordially invite you to meet us every last Tuesday of the month from 6:30-9 pm at ZOË (“Sofabar”\, Neuer Pferdemarkt 17\, Hamburg Sternschanze\, left entrance). \nMeet other AI and technology enthusiasts at our established AI regulars’ table\, which has been bringing the Hamburg AI scene together for more than three years. At the AI Mix & Mingle in the Sofabar\, you can exchange ideas or talk about your AI projects in a relaxed atmosphere.   There are no lectures.  The focus is on exchanging ideas and making contacts. \nYour registration is not mandatory\, but very welcome: For better planning\, we would be happy if you register in advance via Eventbrite. You are also welcome to drop by spontaneously to network with us and others and have interesting conversations about AI and the world!  \nWe look forward to seeing you! \nPlease send your questions\, comments and feedback by e-mail to: cm@aric-hamburg.de \nFurther information can also be found on our website: https://aric-hamburg.de/veranstaltungen/ai-mix-mingle-ki-stammtisch-hamburg/ \nUpcoming dates: \n\nFebruary: 24.02.2026\nMarch: Spring break\nApril: 28.04.2026\nMay: 26.05.2026\nJune: 30.06.2026\nJuly: Summer break\nAugust: Summer break\nSeptember: 29.09.2026\nOctober: Fall break\nNovember: 24.11.2026\nDecember: Winter break\n\nThis format is used within the EDIH Hamburg  with the support of the European Union and the Hamburgische Investitions- und Förderbank. #EDIHHamburg \n—————– \nWe meet every last tuesday of the month for our AI Mix and Mingle. We meet 6:30-9 pm at ZOË (Neuer Pferdemarkt 10\, Hamburg Sternschanze).  \nMeet other AI and tech enthusiasts at our well-established AI Meetup\, bringing together the Hamburg AI scene for more than three years. Join us for the AI Mix & Mingle at Sofabar\, where you can chat casually\, exchange ideas\, or discuss your AI projects.  There are no presentations-the focus is on networking and open conversation. \nWhile your registration is not mandatory\, it is appreciated. You would make our reporting easier if you sign up on Eventbrite.  But feel free to drop by spontaneously\, too\, to connect with us and others\, build networks\, and dive into interesting conversations about AI and beyond! \nWe are lookimg forward to seeing you there!For any questions\, comments\, or feedback\, please email us at: cm@aric-hamburg.deMore information on our website:[https://aric-hamburg.de/veranstaltungen/ai-mix-mingle \nUpcoming dates: \n\nFebruary: 24.02.2026\nMarch: Holiday Break\nApril: 28.04.2026\nMay: 26.05.2026\nJune: 30.06.2026\nJuly: Holiday Break\nAugust: Holiday Break\nSeptember: 29.09.2026\nOctober: Holiday Break\nNovember: 24.11.2026\nDecember: Holiday Break\n\nThis event is offered as a part of EDIH Hamburg\, supported by the EU and IFB Hamburg. #EDIHhamburg
URL:https://edih-hamburg.de/en/event/ai-mix-mingle-in-january-ai-regulars-table-in-january/
LOCATION:Zoë II – Sofa bar\, New horse market 17\, Hamburg\, HH\, 20359\, Germany
ATTACH;FMTTYPE=image/jpeg:https://edih-hamburg.de/wp-content/uploads/2026/01/ffa797b32bbca4b3a1366fd637371c2b.jpg
END:VEVENT
BEGIN:VEVENT
DTSTART;TZID=Europe/Berlin:20260129T120000
DTEND;TZID=Europe/Berlin:20260129T123000
DTSTAMP:20260426T063240
CREATED:20260121T044808Z
LAST-MODIFIED:20260121T044808Z
UID:10000315-1769688000-1769689800@edih-hamburg.de
SUMMARY:ARIC Brown Bag Session: AI and Education
DESCRIPTION:Exchange and insights into AI projects – practical experience from the community\n\n\nWerner Bogula\, Head of AI at adult education provider Pinktum\, explores the question of how AI as a personal training coach can increase learning success in the long term instead of weakening one’s own learning by outsourcing thinking in the short term.   \n\n\nImportant information: From January 2026 you will find our ARIC Brown Bag announcements on Eventbrite. Don’t want to miss anything? Then follow us on Eventbrite or check our website regularly.   \n\n\nThis format is offered as part of the EDIH Hamburg\, with support from the European Union and the Hamburgische Investitions- und Förderbank. #EDIHHamburg
URL:https://edih-hamburg.de/en/event/aric-brown-bag-session-ai-and-education/
LOCATION:HH
ATTACH;FMTTYPE=image/jpeg:https://edih-hamburg.de/wp-content/uploads/2026/01/fe053367870ab0e78177fbc9f4813d36.jpg
END:VEVENT
BEGIN:VEVENT
DTSTART;TZID=Europe/Berlin:20260130T100000
DTEND;TZID=Europe/Berlin:20260130T113000
DTSTAMP:20260426T063240
CREATED:20260114T161237Z
LAST-MODIFIED:20260114T161237Z
UID:10000286-1769767200-1769772600@edih-hamburg.de
SUMMARY:Guided tour of the ARIC-KI showroom for children and young people
DESCRIPTION:During the guided tour of the ARIC showroom\, you will learn how artificial intelligence is used in practice.\n\n\nIn the ARIC showroom\, you can experience how artificial intelligence is already being used in many areas – for example in beekeeping or in local and long-distance public transport. \nIn this special tour just for children and young people aged between 8 and 16\, ARIC employees explain how the AI stations work and what they are used for. \nYou can watch\, ask questions and find out for yourself how AI systems work and support decisions. Whether you already know something about AI or are completely new to it – here you will get exciting insights into a technology that is changing our world.  \nYou can find out more about our showroom on the ARIC website: https://aric-hamburg.de/pressemeldung/ai-showroom/ \nPremises: \nThe showroom is located on the fifth floor of Dockland at Van-der-Smissen-Straße 9 in Altona. Please arrive on time and gather on the first floor in front of the main entrance of Dockland. We will pick you up there and take you to our showroom. An elevator is available.    \nRemember to cancel your appointment in good time if you cannot make it. \nIf not stated otherwise\, the tour will be conducted in german. Please let us know in advance if you want the tour to be conducted in english or if you need assistance with any special needs via info@aric-hamburg.de  \n\n\nThis format is used within the EDIH Hamburg  with the support of the EU and IFB Hamburg. #EDIHhamburg
URL:https://edih-hamburg.de/en/event/guided-tour-of-the-aric-ki-showroom-for-children-and-young-people/
LOCATION:Artificial Intelligence Center Hamburg (ARIC) e.V.\, Van-der-Smissen-Strasse 9\, Hamburg\, HH\, 22767\, Germany
ATTACH;FMTTYPE=image/jpeg:https://edih-hamburg.de/wp-content/uploads/2026/01/0c15d59604a3f767b40a698faf7d1706.jpg
END:VEVENT
END:VCALENDAR