BEGIN:VCALENDAR
VERSION:2.0
PRODID:-//edih-hamburg - ECPv6.15.20//NONSGML v1.0//EN
CALSCALE:GREGORIAN
METHOD:PUBLISH
X-ORIGINAL-URL:https://edih-hamburg.de/en/
X-WR-CALDESC:Events for edih-hamburg
REFRESH-INTERVAL;VALUE=DURATION:PT1H
X-Robots-Tag:noindex
X-PUBLISHED-TTL:PT1H
BEGIN:VTIMEZONE
TZID:Europe/Berlin
BEGIN:DAYLIGHT
TZOFFSETFROM:+0100
TZOFFSETTO:+0200
TZNAME:CEST
DTSTART:20230326T010000
END:DAYLIGHT
BEGIN:STANDARD
TZOFFSETFROM:+0200
TZOFFSETTO:+0100
TZNAME:CET
DTSTART:20231029T010000
END:STANDARD
BEGIN:DAYLIGHT
TZOFFSETFROM:+0100
TZOFFSETTO:+0200
TZNAME:CEST
DTSTART:20240331T010000
END:DAYLIGHT
BEGIN:STANDARD
TZOFFSETFROM:+0200
TZOFFSETTO:+0100
TZNAME:CET
DTSTART:20241027T010000
END:STANDARD
BEGIN:DAYLIGHT
TZOFFSETFROM:+0100
TZOFFSETTO:+0200
TZNAME:CEST
DTSTART:20250330T010000
END:DAYLIGHT
BEGIN:STANDARD
TZOFFSETFROM:+0200
TZOFFSETTO:+0100
TZNAME:CET
DTSTART:20251026T010000
END:STANDARD
END:VTIMEZONE
BEGIN:VEVENT
DTSTART;TZID=Europe/Berlin:20241211T140000
DTEND;TZID=Europe/Berlin:20241211T153000
DTSTAMP:20260425T161415
CREATED:20241127T142836Z
LAST-MODIFIED:20241127T142836Z
UID:10000086-1733925600-1733931000@edih-hamburg.de
SUMMARY:OKR compact: Promoting team focus\, achieving goals\, strengthening resilience
DESCRIPTION:Discover the power of OKRs! With the OKR management method\, you will learn how to set clear corporate goals in order to achieve them. \n\n\nIn this course\, you will learn how to use the OKR framework (Objectives and Key Results) to set clear and motivating goals and implement them in a measurable way. By using OKR\, you create more transparency and focus in the company and promote an agile way of working. Discover how OKR can make your corporate culture more resilient and team-oriented – and take away directly applicable strategies for your day-to-day work!   \nAdvantages of OKR \n\nClarity and focus: OKR creates a shared understanding of goals and helps teams to recognize what counts and how each individual contribution is valuable\nShared responsibility: The framework promotes collaboration and strengthens team cohesion by creating an environment in which every contribution counts\nFlexibility and adaptability: OKR allows the flexible adjustment of goals and strategies and is therefore particularly valuable in dynamic times\nStrengthening resilience: clear and transparent goals enable teams to develop more resilience and be better prepared to work together efficiently even in times of crisis\n\nContents of the workshop: \n\nOKRs for resilience and collaboration: introduction to the basics of OKRs and how to use them for personal and professional goals\nFormulate effective OKRs: Learn how to create concise and motivating OKRs that strengthen team focus\nPractical application: Work on a case study to apply the OKR framework in real-life scenarios and develop solutions for your own projects\n\nSpeaker and moderator: Lyn Luisa Zenner \nTarget group and level of knowledge \n\nThis workshop is aimed at anyone who wants to achieve goals together and at the same time strengthen the resilience of their team.\n\n\nNo previous knowledge required\n\nDate \nDate\, time: 11.12.2024 (14:00 – 15:30) \nDeadline\, registration deadline: 10.12.2024 (17:00) \nPlace: Online \nPlease note the following information: \nBy registering\, you confirm that you have taken note of the privacy policy (Privacy Policy – 2024 (digitalzentrum-hamburg.de) and legal information (Imprint – Mittelstand-Digitales Zentrum Hamburg 2024 (digitalzentrum-hamburg.de)). Your data will not be used for advertising purposes. The data will be stored for the duration of the event and for evaluation purposes.   \nFunding from the BMWK enables us to offer you this event free of charge. \nYours sincerely \nYour Mittelstand-Digitales Zentrum Hamburg team
URL:https://edih-hamburg.de/en/event/okr-compact-promoting-team-focus-achieving-goals-strengthening-resilience-2/
LOCATION:HH
ATTACH;FMTTYPE=image/jpeg:https://edih-hamburg.de/wp-content/uploads/2024/11/dee35e2bd62ae540501ac11f1871c830-1.jpg
END:VEVENT
BEGIN:VEVENT
DTSTART;TZID=Europe/Berlin:20241205T160000
DTEND;TZID=Europe/Berlin:20241205T170000
DTSTAMP:20260425T161415
CREATED:20241127T142834Z
LAST-MODIFIED:20241205T060954Z
UID:10000004-1733414400-1733418000@edih-hamburg.de
SUMMARY:Zeitmanagement & Produktivität im KMU-Alltag
DESCRIPTION:Es lohnt sich gerade jetzt zum Jahresende\, Zeit zu nehmen\, um die Weichen für noch mehr Produktivität in 2025 zu stellen.\n\n\nDie To-do-Liste hat mehr Punkte als der Tag Stunden und Ihre Mitarbeitenden und Kolleg:innen benötigen dringend Input. Ihr Zeitkonto ist tief im Minus. Diese Situation kennen wir alle! Daher lohnt es sich gerade jetzt zum Jahresende\, Zeit zu nehmen\, um die Weichen für noch mehr Produktivität in 2025 zu stellen: \n \nInhalte des Webinars: \n \n\nZiele setzen und erreichen\nAufgaben priorisieren\nHindernisse und Ablenkungen beseitigen\nE-Mail-Flut beherrschen\nDigitale Tools effektiv nutzen\n\n \nZiel: \nTipps und Methoden lernen\, damit Sie Ihre Arbeitszeit noch besser strukturieren\, Ihre Produktivität steigern und Freiraum für wichtige Themen gewinnen. \n \nZielgruppe: \nGeschäftsführer:innen und Mitarbeitende\, die häufig Entscheidungen treffen müssen \n \nAblauf: \nDie Referentin gibt Ihnen im Webinar Impulse. Im Anschluss haben Sie die Möglichkeit\, Fragen zu stellen und Ihre individuellen Herausforderungen einzubringen. \n \nReferentin: \nAls Produktivitäts-Expertin unterstützt Frauke Greiwe Geschäftsführer:innen und Teams dabei\, Strukturen zu hinterfragen und Freiraum für Themen wie Automatisierung und Nachhaltigkeit zu schaffen. Mit über 20 Jahren Erfahrung als Projekt- und Change-Managerin im Mittelstand und Startup zeigt sie\, wie strukturiertes Arbeiten und die Erreichung von Zielen gelingen und wie Sie mit einer lösungsorientierten Kultur Ihre Produktivität steigern. \n \nBitte beachten Sie folgende Hinweise: \n\nMit Ihrer Anmeldung bestätigen Sie\, dass Sie die Datenschutzerklärung (Datenschutzerklärung – 2024 (digitalzentrum-hamburg.de) und rechtlichen Hinweise (Impressum – Mittelstand-Digital Zentrum Hamburg 2024 (digitalzentrum-hamburg.de) zur Kenntnis genommen haben. Ihre Daten werden nicht zu Werbezwecken genutzt. Die Daten werden zur Durchführung der Veranstaltung und zu Zwecken der Evaluation für die Projektlaufzeit gespeichert.\n\n \nDie Förderung durch das BMWK ermöglicht es uns\, Ihnen diese Veranstaltung kostenfrei anzubieten. \n \n \nMit freundlichen Grüßen \nIhr Mittelstand-Digital Zentrum Hamburg-Team
URL:https://edih-hamburg.de/en/event/zeitmanagement-produktivitat-im-kmu-alltag/
LOCATION:HH
ATTACH;FMTTYPE=image/jpeg:https://edih-hamburg.de/wp-content/uploads/2024/11/130450644e41c44f63d10dc24a1f30de-1.jpg
END:VEVENT
BEGIN:VEVENT
DTSTART;TZID=Europe/Berlin:20241203T110000
DTEND;TZID=Europe/Berlin:20241203T120000
DTSTAMP:20260425T161415
CREATED:20241127T142830Z
LAST-MODIFIED:20241203T154145Z
UID:10000002-1733223600-1733227200@edih-hamburg.de
SUMMARY:Schnelle Betriebswiederherstellung nach einem Cyberangriff
DESCRIPTION:Praxisbeispiele einer erfolgreichen Datensicherungs- & -wiederherstellungsstrategie\n\n\nIhre Daten sind das Herzstück Ihres Unternehmens. In einer Welt\, die zunehmend von Cyberangriffen und Umweltkatastrophen heimgesucht wird\, ist es daher entscheidend\, eine robuste und ganzheitliche Datensicherungsstrategie zum Schutz Ihrer wertvollen Daten zu implementieren. \n \nErfahren Sie in diesem Praxis-Webinar mit Martin Batz (IONOS SE) und Stefan Utzinger (NovaStor GmbH)\, wie Sie Ihre Daten widerstandsfähig gegen Angriffe und Ausfälle machen und eine schnelle Betriebswiederherstellung im Notfall sicherstellen. \n \nInhalte des Webinars: \n\nWeshalb Datensicherung und Cloud-Lösungen die wirksamsten Maßnahmen gegen Cyberbedrohungen sind\nGrundlegende Konzepte der Datenwiederherstellung und Notfallplanung\nDer 10-Punkte-Leitfaden zur schnellen Betriebswiederherstellung im\nDesasterfall\n\n \n \nBitte beachten Sie folgende Hinweise: \n\nMit Ihrer Anmeldung bestätigen Sie\, dass Sie die Datenschutzerklärung (Datenschutzerklärung – 2024 (digitalzentrum-hamburg.de) und rechtlichen Hinweise (Impressum – Mittelstand-Digital Zentrum Hamburg 2024 (digitalzentrum-hamburg.de) zur Kenntnis genommen haben. Ihre Daten werden nicht zu Werbezwecken genutzt. Die Daten werden zur Durchführung der Veranstaltung und zu Zwecken der Evaluation für die Projektlaufzeit gespeichert.\n\n \nDie Förderung durch das BMWK ermöglicht es uns\, Ihnen diese Veranstaltung kostenfrei anzubieten. \n \n \nMit freundlichen Grüßen \nIhr Mittelstand-Digital Zentrum Hamburg-Team
URL:https://edih-hamburg.de/en/event/schnelle-betriebswiederherstellung-nach-einem-cyberangriff/
LOCATION:HH
ATTACH;FMTTYPE=image/jpeg:https://edih-hamburg.de/wp-content/uploads/2024/11/abfaffd283347262dae11c25f0c1a59c.jpg
END:VEVENT
BEGIN:VEVENT
DTSTART;TZID=Europe/Berlin:20241127T160000
DTEND;TZID=Europe/Berlin:20241127T180000
DTSTAMP:20260425T161415
CREATED:20241127T142828Z
LAST-MODIFIED:20241127T142834Z
UID:10000001-1732723200-1732730400@edih-hamburg.de
SUMMARY:KI-Werkstatt: Künstliche Intelligenz zum Anfassen
DESCRIPTION:Erfahren Sie ganz praxisnah\, wie Sie KI sinnvoll in Ihrem Betrieb einsetzen können.
URL:https://edih-hamburg.de/en/event/ki-werkstatt-kunstliche-intelligenz-zum-anfassen/
LOCATION:ELBCAMPUS Hamburg\, Zum Handwerkszentrum 1\, Hamburg\, HH\, 21079\, Germany
ATTACH;FMTTYPE=image/jpeg:https://edih-hamburg.de/wp-content/uploads/2024/11/71145d7512ec4d63d60952f32dcbe737.jpg
END:VEVENT
END:VCALENDAR