BEGIN:VCALENDAR
VERSION:2.0
PRODID:-//edih-hamburg - ECPv6.15.20//NONSGML v1.0//EN
CALSCALE:GREGORIAN
METHOD:PUBLISH
X-WR-CALNAME:edih-hamburg
X-ORIGINAL-URL:https://edih-hamburg.de/en/
X-WR-CALDESC:Events for edih-hamburg
REFRESH-INTERVAL;VALUE=DURATION:PT1H
X-Robots-Tag:noindex
X-PUBLISHED-TTL:PT1H
BEGIN:VTIMEZONE
TZID:Europe/Berlin
BEGIN:DAYLIGHT
TZOFFSETFROM:+0100
TZOFFSETTO:+0200
TZNAME:CEST
DTSTART:20250330T010000
END:DAYLIGHT
BEGIN:STANDARD
TZOFFSETFROM:+0200
TZOFFSETTO:+0100
TZNAME:CET
DTSTART:20251026T010000
END:STANDARD
BEGIN:DAYLIGHT
TZOFFSETFROM:+0100
TZOFFSETTO:+0200
TZNAME:CEST
DTSTART:20260329T010000
END:DAYLIGHT
BEGIN:STANDARD
TZOFFSETFROM:+0200
TZOFFSETTO:+0100
TZNAME:CET
DTSTART:20261025T010000
END:STANDARD
BEGIN:DAYLIGHT
TZOFFSETFROM:+0100
TZOFFSETTO:+0200
TZNAME:CEST
DTSTART:20270328T010000
END:DAYLIGHT
BEGIN:STANDARD
TZOFFSETFROM:+0200
TZOFFSETTO:+0100
TZNAME:CET
DTSTART:20271031T010000
END:STANDARD
END:VTIMEZONE
BEGIN:VEVENT
DTSTART;TZID=Europe/Berlin:20260108T090000
DTEND;TZID=Europe/Berlin:20260108T180000
DTSTAMP:20260422T140437
CREATED:20260106T131442Z
LAST-MODIFIED:20260106T131442Z
UID:10000271-1767862800-1767895200@edih-hamburg.de
SUMMARY:AI consultation hour
DESCRIPTION:AI can reduce energy costs\, relieve your employees and much more. Find out with us where your company can benefit. \n\n\nYou hear everywhere how AI can optimize all areas\, but you want to find out what this means for your company? \nTo give you an idea of how AI is used successfully\, here are two examples: \n\nQuality assurance (QA): In many cases\, QA is carried out visually. Be it by looking at the product or with the help of X-ray images. AI recognizes anomalies at the same level as trained experts\, but much faster. AI can therefore filter out unobjectionable cases at lightning speed\, giving your employees more time to assess unclear cases. This increases performance and frees up your specialists\, who are now available for other tasks.    \nSupply chain management: An important area of supply chain management is assessing the delivery reliability of suppliers. AI can predict the reliability of deliveries with an approx. 80% probability\, which enables forward planning: regardless of whether you place the order elsewhere or instruct your production to bring forward other orders – you will be prepared. \n\nDo you have a different problem or would you like to find out more? Then book a lesson with our AI trainer Christian Bruss.  Whether you already have an elaborate plan for implementing your AI concept or are just reading the letters AI for the first time\, our AI trainer will be happy to help you! \nProcedure: By registering\, you agree to a time slot in the period from 9:00 – 18:00. Your final time slot for the AI consultation hour will be allocated to you by our AI trainer. The sender of the e-mail with the information about your personal time slot and your access data is the Hamburg University of Technology (TUHH). In addition\, our AI trainer will contact you in advance to define your individual wishes with regard to the content of the AI consultation hour.    \nChoose from the following time slots: \n\n9:00 to 10:00 a.m.\n10:30 to 11:30 a.m.\n12:00 to 13:00\n14:00 to 15:00\n15:30 to 16:30\n17:00 to 18:00\n\n \nTarget group: Small and medium-sized enterprises (SMEs) with and without prior knowledge \nLocation: This event will take place virtually via webinar/video conference. After confirmation of your registration\, you will receive at the latest   One day before the event\, you will receive the access data and further information on logging in from the Hamburg University of Technology (TUHH) by e-mail. Please make sure that your e-mail address is spelled correctly!  \n————— \nPlease note the following information: \n\nBy registering\, you confirm that you have taken note of the privacy policy(Privacy Policy – 2024 (digitalzentrum-hamburg.de) and legal information(Imprint – Mittelstand-Digital Zentrum Hamburg 2024 (digitalzentrum-hamburg.de)). Your data will not be used for advertising purposes. The data will be stored for the duration of the event and for evaluation purposes.  \n\n \nFunding from the BMWK enables us to offer you this event free of charge. \n \n \nYours sincerely \nYour Mittelstand Digital Center Hamburg team
URL:https://edih-hamburg.de/en/event/ai-consultation-hour-10/
LOCATION:HH
ATTACH;FMTTYPE=image/jpeg:https://edih-hamburg.de/wp-content/uploads/2025/02/5354a78d6fd189258c40e34ac39b4e00.jpg
END:VEVENT
END:VCALENDAR