BEGIN:VCALENDAR
VERSION:2.0
PRODID:-//edih-hamburg - ECPv6.15.20//NONSGML v1.0//EN
CALSCALE:GREGORIAN
METHOD:PUBLISH
X-WR-CALNAME:edih-hamburg
X-ORIGINAL-URL:https://edih-hamburg.de/en/
X-WR-CALDESC:Events for edih-hamburg
REFRESH-INTERVAL;VALUE=DURATION:PT1H
X-Robots-Tag:noindex
X-PUBLISHED-TTL:PT1H
BEGIN:VTIMEZONE
TZID:Europe/Berlin
BEGIN:DAYLIGHT
TZOFFSETFROM:+0100
TZOFFSETTO:+0200
TZNAME:CEST
DTSTART:20250330T010000
END:DAYLIGHT
BEGIN:STANDARD
TZOFFSETFROM:+0200
TZOFFSETTO:+0100
TZNAME:CET
DTSTART:20251026T010000
END:STANDARD
BEGIN:DAYLIGHT
TZOFFSETFROM:+0100
TZOFFSETTO:+0200
TZNAME:CEST
DTSTART:20260329T010000
END:DAYLIGHT
BEGIN:STANDARD
TZOFFSETFROM:+0200
TZOFFSETTO:+0100
TZNAME:CET
DTSTART:20261025T010000
END:STANDARD
BEGIN:DAYLIGHT
TZOFFSETFROM:+0100
TZOFFSETTO:+0200
TZNAME:CEST
DTSTART:20270328T010000
END:DAYLIGHT
BEGIN:STANDARD
TZOFFSETFROM:+0200
TZOFFSETTO:+0100
TZNAME:CET
DTSTART:20271031T010000
END:STANDARD
END:VTIMEZONE
BEGIN:VEVENT
DTSTART;TZID=Europe/Berlin:20260310T120000
DTEND;TZID=Europe/Berlin:20260310T123000
DTSTAMP:20260425T141314
CREATED:20260217T110846Z
LAST-MODIFIED:20260217T110846Z
UID:10000355-1773144000-1773145800@edih-hamburg.de
SUMMARY:ARIC Brown Bag Session: Sovereignty: From buzzword to data sovereignty
DESCRIPTION:Exchange and insights into AI projects – practical experience from the community\n\n\nThe presentation sheds light on what sovereignty really means in a legal and technological context and which framework conditions play a role in this. It shows the challenges that can arise when data or AI systems are not operated under one’s own sovereignty. It also outlines the approaches that can support companies in achieving genuine technological independence.   \n\n\nImportant information: From January 2026 you will find our ARIC Brown Bag announcements on Eventbrite. Don’t want to miss anything? Then follow us on Eventbrite or check our website regularly.   \n\n\nThis format is offered as part of the EDIH Hamburg\, with support from the European Union and the Hamburgische Investitions- und Förderbank. #EDIHHamburg
URL:https://edih-hamburg.de/en/event/aric-brown-bag-session-sovereignty-from-buzzword-to-data-sovereignty/
LOCATION:HH
ATTACH;FMTTYPE=image/jpeg:https://edih-hamburg.de/wp-content/uploads/2026/02/4ab261a4d9f58ccc6bc9cc0e0f1569db.jpg
END:VEVENT
BEGIN:VEVENT
DTSTART;TZID=Europe/Berlin:20260312T120000
DTEND;TZID=Europe/Berlin:20260312T123000
DTSTAMP:20260425T141314
CREATED:20260203T015252Z
LAST-MODIFIED:20260203T015252Z
UID:10000335-1773316800-1773318600@edih-hamburg.de
SUMMARY:ARIC Brown Bag Session: AI Adoption Best Practices for SMEs/SMEs
DESCRIPTION:Exchange and insights into AI projects – practical experience from the community\n\n\nLecture language: English \n\n\nBased on expert insights and case studies\, this talk presents eight themes of organizational best practices for small and medium enterprises adopting AI – ranging from selecting first use cases to leveraging external resources. The aim is to provide SMEs with a practical roadmap to explore and implement AI confidently and strategically.  \n\n\nImportant information: From January 2026 you will find our ARIC Brown Bag announcements on Eventbrite. Don’t want to miss anything? Then follow us on Eventbrite or check our website regularly.   \n\n\nThis format is offered as part of the EDIH Hamburg\, with support from the European Union and the Hamburgische Investitions- und Förderbank. #EDIHHamburg
URL:https://edih-hamburg.de/en/event/aric-brown-bag-session-ai-adoption-best-practices-for-smes-smes/
LOCATION:HH
ATTACH;FMTTYPE=image/jpeg:https://edih-hamburg.de/wp-content/uploads/2026/02/45d6077d5d033a70506e1d7ef3510405.jpg
END:VEVENT
BEGIN:VEVENT
DTSTART;TZID=Europe/Berlin:20260312T133000
DTEND;TZID=Europe/Berlin:20260312T170000
DTSTAMP:20260425T141314
CREATED:20260209T234013Z
LAST-MODIFIED:20260209T234013Z
UID:10000347-1773322200-1773334800@edih-hamburg.de
SUMMARY:How to make the AI transformation a success: step by step to success
DESCRIPTION:The workshop shows how AI is introduced in the company and offers a roadmap based on the “AI Navigator” research project.\n\n\nArtificial intelligence can create added value in many areas of a company – from increasing efficiency by automating time-consuming processes to using generative AI as an assistant for daily tasks and opening up new business areas. The key question is no longer   when\, but  how AI should be introduced in your own company. To answer this question\, a roadmap for the introduction of AI will be presented in this workshop. Results from the “AI Navigator” research project will be presented and adapted to the specific requirements of the participants.   \nThe focus is on taking your individual needs into account and offering practical solutions. \nWhat you can expect: \n\nUse cases: Concrete examples illustrate how AI can be used to make company processes more efficient.\n\n\nStrategies for introducing AI: We present you with a practice-oriented introduction concept that has been specially developed for small and medium-sized companies. You will learn step by step how to introduce AI. \n\n\nDiscussion: Bring in your questions and ideas to develop solutions together.\n\nPlease note the following information: \nBy registering\, you confirm that you have taken note of the privacy policy(Privacy Policy – 2024 (digitalzentrum-hamburg.de) and legal information(Imprint – Mittelstand-Digital Zentrum Hamburg 2024 (digitalzentrum-hamburg.de)). Your data will not be used for advertising purposes. The data will be stored for the duration of the event and for evaluation purposes.   \nFunding from the BMWK enables us to offer you this event free of charge.This event is being held in cooperation with the EDIH Hamburg. \n \nYours sincerely   \nYour Mittelstand Digital Center Hamburg team
URL:https://edih-hamburg.de/en/event/how-to-make-the-ai-transformation-a-success-step-by-step-to-success/
LOCATION:Digital Hub Logistics & Commerce\, Am Sandtorkai 32\, Hamburg\, HH\, 20457\, Germany
ATTACH;FMTTYPE=image/jpeg:https://edih-hamburg.de/wp-content/uploads/2026/02/198d5489c83b719a5fa63ab2c326a8ee.jpg
END:VEVENT
END:VCALENDAR