BEGIN:VCALENDAR
VERSION:2.0
PRODID:-//edih-hamburg - ECPv6.15.20//NONSGML v1.0//EN
CALSCALE:GREGORIAN
METHOD:PUBLISH
X-WR-CALNAME:edih-hamburg
X-ORIGINAL-URL:https://edih-hamburg.de/en/
X-WR-CALDESC:Events for edih-hamburg
REFRESH-INTERVAL;VALUE=DURATION:PT1H
X-Robots-Tag:noindex
X-PUBLISHED-TTL:PT1H
BEGIN:VTIMEZONE
TZID:Europe/Berlin
BEGIN:DAYLIGHT
TZOFFSETFROM:+0100
TZOFFSETTO:+0200
TZNAME:CEST
DTSTART:20250330T010000
END:DAYLIGHT
BEGIN:STANDARD
TZOFFSETFROM:+0200
TZOFFSETTO:+0100
TZNAME:CET
DTSTART:20251026T010000
END:STANDARD
BEGIN:DAYLIGHT
TZOFFSETFROM:+0100
TZOFFSETTO:+0200
TZNAME:CEST
DTSTART:20260329T010000
END:DAYLIGHT
BEGIN:STANDARD
TZOFFSETFROM:+0200
TZOFFSETTO:+0100
TZNAME:CET
DTSTART:20261025T010000
END:STANDARD
BEGIN:DAYLIGHT
TZOFFSETFROM:+0100
TZOFFSETTO:+0200
TZNAME:CEST
DTSTART:20270328T010000
END:DAYLIGHT
BEGIN:STANDARD
TZOFFSETFROM:+0200
TZOFFSETTO:+0100
TZNAME:CET
DTSTART:20271031T010000
END:STANDARD
END:VTIMEZONE
BEGIN:VEVENT
DTSTART;TZID=Europe/Berlin:20260324T120000
DTEND;TZID=Europe/Berlin:20260324T123000
DTSTAMP:20260425T021210
CREATED:20260317T110251Z
LAST-MODIFIED:20260317T110251Z
UID:10000385-1774353600-1774355400@edih-hamburg.de
SUMMARY:ARIC Brown Bag: Insight: Neuromorphic Computing Part 1
DESCRIPTION:Exchange and insights into AI projects – practical experience from the community\n\n\nNeuromorphic principles in the development of artificial intelligence – This brown bag session provides a basic orientation to neuromorphic computing and its influences on AI; What is neuromorphic computing? Where does the technology stand? What makes its principles interesting for AI applications?   \n\n\nImportant information: From January 2026 you will find our ARIC Brown Bag announcements on Eventbrite. Don’t want to miss anything? Then follow us on Eventbrite or check our website regularly.   \n\n\nThis format is offered as part of the EDIH Hamburg\, with support from the European Union and the Hamburgische Investitions- und Förderbank. #EDIHHamburg
URL:https://edih-hamburg.de/en/event/aric-brown-bag-insight-neuromorphic-computing-part-1/
LOCATION:HH
ATTACH;FMTTYPE=image/jpeg:https://edih-hamburg.de/wp-content/uploads/2026/03/0d36d242e94835c5c56d57c8ff917414.jpg
END:VEVENT
BEGIN:VEVENT
DTSTART;TZID=Europe/Berlin:20260326T120000
DTEND;TZID=Europe/Berlin:20260326T123000
DTSTAMP:20260425T021211
CREATED:20260217T110907Z
LAST-MODIFIED:20260217T110907Z
UID:10000362-1774526400-1774528200@edih-hamburg.de
SUMMARY:ARIC Brown Bag Session: Hire or Fire: Who stays in the AI era?
DESCRIPTION:Exchange and insights into AI projects – practical experience from the community\n\n\nAI projects are no longer just about technology\, but also about decisions about people\, roles and skills. \nI share insights from practice and show how to classify changes in roles\, approach further development sensibly and make well-founded decisions for yourself and for teams. \n\n\nImportant information: From January 2026 you will find our ARIC Brown Bag announcements on Eventbrite. Don’t want to miss anything? Then follow us on Eventbrite or check our website regularly.   \n\n\nThis format is offered as part of the EDIH Hamburg\, with support from the European Union and the Hamburgische Investitions- und Förderbank. #EDIHHamburg
URL:https://edih-hamburg.de/en/event/aric-brown-bag-session-hire-or-fire-who-stays-in-the-ai-era/
LOCATION:HH
ATTACH;FMTTYPE=image/jpeg:https://edih-hamburg.de/wp-content/uploads/2026/02/bfbae721f343be1cd93126dc72b6b6f2.jpg
END:VEVENT
END:VCALENDAR