BEGIN:VCALENDAR
VERSION:2.0
PRODID:-//edih-hamburg - ECPv6.15.20//NONSGML v1.0//EN
CALSCALE:GREGORIAN
METHOD:PUBLISH
X-WR-CALNAME:edih-hamburg
X-ORIGINAL-URL:https://edih-hamburg.de/en/
X-WR-CALDESC:Events for edih-hamburg
REFRESH-INTERVAL;VALUE=DURATION:PT1H
X-Robots-Tag:noindex
X-PUBLISHED-TTL:PT1H
BEGIN:VTIMEZONE
TZID:Europe/Berlin
BEGIN:DAYLIGHT
TZOFFSETFROM:+0100
TZOFFSETTO:+0200
TZNAME:CEST
DTSTART:20250330T010000
END:DAYLIGHT
BEGIN:STANDARD
TZOFFSETFROM:+0200
TZOFFSETTO:+0100
TZNAME:CET
DTSTART:20251026T010000
END:STANDARD
BEGIN:DAYLIGHT
TZOFFSETFROM:+0100
TZOFFSETTO:+0200
TZNAME:CEST
DTSTART:20260329T010000
END:DAYLIGHT
BEGIN:STANDARD
TZOFFSETFROM:+0200
TZOFFSETTO:+0100
TZNAME:CET
DTSTART:20261025T010000
END:STANDARD
BEGIN:DAYLIGHT
TZOFFSETFROM:+0100
TZOFFSETTO:+0200
TZNAME:CEST
DTSTART:20270328T010000
END:DAYLIGHT
BEGIN:STANDARD
TZOFFSETFROM:+0200
TZOFFSETTO:+0100
TZNAME:CET
DTSTART:20271031T010000
END:STANDARD
END:VTIMEZONE
BEGIN:VEVENT
DTSTART;TZID=Europe/Berlin:20260413T150000
DTEND;TZID=Europe/Berlin:20260413T170000
DTSTAMP:20260424T200744
CREATED:20260123T231750Z
LAST-MODIFIED:20260126T152523Z
UID:10000323-1776092400-1776099600@edih-hamburg.de
SUMMARY:The basics of IT security in SMEs
DESCRIPTION:Learn how to protect your company digitally without any prior knowledge.\n\n\n💡Protect your company with simple IT security measures💡 \nThe workshop from 3S – Solution Support Service offers you a practical introduction to protection against cyber attacks for small and medium-sized enterprises (SMEs). \nWhat you can expect: \n– Insight into the threat situation for SMEs \n– Experience live hacking – how attackers proceed \n– Comprehensible explanations on IT security and correct reactions \n– Tips on e-mail\, download and web management \n– Importance and function of a backup \n– Practical everyday tips to protect your company \n  \n🗣️ Speakers:Bernd Hennig – IT-Specialist – HITeC e.V. – Hamburger Informatik Technologie-Center \nPhillip Warczak – IT Specialist – HITeC e.V. – Hamburger Informatik Technologie-Center \nAlexander Steffens – IT Specialist – HITeC e.V. – Hamburg Information Technology Center \nMatthias Kruspe – IT Specialist – HITeC e.V. – Hamburger Informatik Technologie-Center \n  \n🇩🇪 Language: German \n  \n🫵 Secure your place now! Places are limited.  \n  \nWe look forward to welcoming you to our workshop and getting to know the most important protective measures together! 🌟 \n  \nDisclaimer: This event is offered by HITeC e.V. as part of EDIH Hamburg. \nEDIH Hamburg is part of the European Digital Innovation Hub (EDIH) program.  The aim of the program is to equip small and medium-sized enterprises (SMEs)\, mid-sized companies and public sector organizations (PSOs) in the Hamburg metropolitan region in particular for the challenges of tomorrow. The requirements for critical infrastructures are changing and new solutions need to be evaluated and implemented – from general digitalization topics to cybersecurity issues\, artificial intelligence\, distributed infrastructure and high-performance computing.
URL:https://edih-hamburg.de/en/event/the-basics-of-it-security-in-smes-4/
LOCATION:Digital Hub Logistics Hamburg\, Am Sandtorkai 32\, Hamburg\, HH\, 20457\, Germany
ATTACH;FMTTYPE=image/png:https://edih-hamburg.de/wp-content/uploads/2026/01/IT-Sicherheit-in-KMU.png
END:VEVENT
BEGIN:VEVENT
DTSTART;TZID=Europe/Berlin:20260415T140000
DTEND;TZID=Europe/Berlin:20260415T160000
DTSTAMP:20260424T200744
CREATED:20260325T230250Z
LAST-MODIFIED:20260325T230250Z
UID:10000393-1776261600-1776268800@edih-hamburg.de
SUMMARY:NAS vs. server vs. cloud - secure data storage in SMEs
DESCRIPTION:Get a practical overview of modern data storage and secure access options for your company data.\n\n\n💡NAS\, server or cloud? The right storage strategy for your company 💡 \nWhere is your data stored most securely and how do you access it most efficiently? This workshop from 3S – Solution Support Service offers SME decision-makers and IT managers a practical comparison of modern storage solutions. We avoid unnecessarily complicated technical terms and instead find the right strategy for your requirements.   \nWhat you can expect: \n\nA direct comparison: strengths and weaknesses of NAS\, local server and cloud solutions put to the test.\nNAS in focus: How to use Network Attached Storage as a central\, cost-effective solution for small teams.\nFull control: When it pays to have your own server for maximum flexibility and individual configuration.\nUnlimited freedom: the advantages of cloud systems in terms of scalability and location-independent working.\nFocus on security: How to effectively protect your data from loss and unauthorized access with every solution.\nDecision-making aid: Clear criteria for correctly estimating hardware costs and administration costs.\n\n🗣️ Speaker: Alex Denzel – IT-Specialist – HITeC e.V. – Hamburger Informatik Technologie-Center \n \n🇩🇪 Language: German \n \n🫵 Secure your place now! Places are limited.  \n \nWe look forward to welcoming you to our workshop and getting to know the most important protective measures together! 🌟 \n \nDisclaimer: This event is offered by HITeC e.V. as part of EDIH Hamburg . \nEDIH Hamburg is  Part of the European Digital Innovation Hub (EDIH) program.  The aim of the program is to equip small and medium-sized enterprises (SMEs)\, mid-sized companies and public sector organizations (PSOs) in the Hamburg metropolitan region in particular for the challenges of tomorrow. The requirements for critical infrastructures are changing and new solutions need to be evaluated and implemented – from general digitalization topics to cybersecurity issues\, artificial intelligence\, distributed infrastructure and high-performance computing.
URL:https://edih-hamburg.de/en/event/nas-vs-server-vs-cloud-secure-data-storage-in-smes/
LOCATION:Digital Hub Logistics Hamburg\, Am Sandtorkai 32\, Hamburg\, HH\, 20457\, Germany
ATTACH;FMTTYPE=image/jpeg:https://edih-hamburg.de/wp-content/uploads/2026/03/fbe9249c84adf69d84bf3c42f43c39e0.jpg
END:VEVENT
END:VCALENDAR