BEGIN:VCALENDAR
VERSION:2.0
PRODID:-//edih-hamburg - ECPv6.15.20//NONSGML v1.0//EN
CALSCALE:GREGORIAN
METHOD:PUBLISH
X-ORIGINAL-URL:https://edih-hamburg.de/en/
X-WR-CALDESC:Events for edih-hamburg
REFRESH-INTERVAL;VALUE=DURATION:PT1H
X-Robots-Tag:noindex
X-PUBLISHED-TTL:PT1H
BEGIN:VTIMEZONE
TZID:Europe/Berlin
BEGIN:DAYLIGHT
TZOFFSETFROM:+0100
TZOFFSETTO:+0200
TZNAME:CEST
DTSTART:20250330T010000
END:DAYLIGHT
BEGIN:STANDARD
TZOFFSETFROM:+0200
TZOFFSETTO:+0100
TZNAME:CET
DTSTART:20251026T010000
END:STANDARD
BEGIN:DAYLIGHT
TZOFFSETFROM:+0100
TZOFFSETTO:+0200
TZNAME:CEST
DTSTART:20260329T010000
END:DAYLIGHT
BEGIN:STANDARD
TZOFFSETFROM:+0200
TZOFFSETTO:+0100
TZNAME:CET
DTSTART:20261025T010000
END:STANDARD
BEGIN:DAYLIGHT
TZOFFSETFROM:+0100
TZOFFSETTO:+0200
TZNAME:CEST
DTSTART:20270328T010000
END:DAYLIGHT
BEGIN:STANDARD
TZOFFSETFROM:+0200
TZOFFSETTO:+0100
TZNAME:CET
DTSTART:20271031T010000
END:STANDARD
END:VTIMEZONE
BEGIN:VEVENT
DTSTART;TZID=Europe/Berlin:20260512T170000
DTEND;TZID=Europe/Berlin:20260512T200000
DTSTAMP:20260424T224313
CREATED:20260205T234822Z
LAST-MODIFIED:20260205T234838Z
UID:10000343-1778605200-1778616000@edih-hamburg.de
SUMMARY:Prompt-a-thon: Understanding and trying out AI in the trade
DESCRIPTION:Experience generative AI in practice and use it for your own business\n\n\nWhat can artificial intelligence really achieve in everyday trade – between the workshop\, construction site and office? \nIn this prompt-a-thon\, you can try out Generative AI in practice. Without prior knowledge and without technical blah-blah. You will work in small teams on typical tasks from trade businesses and test how AI can help with offers\, customer communication\, organization or idea generation.   \n \nWhat is a prompt-a-thon? \nA prompt-a-thon is similar to a hackathon – but without the programming. Instead of machines or code\, it’s about the right inputs (“prompts”) for AI tools such as well-known language models. You will experience how results change\, how reliable AI is and where you need to look closely in the craft.   \n \nContents & procedure \n\nBrief introduction to generative AI\nPractical phase in small\, moderated groups\nWork on tasks from everyday life in the trade\nTest AI\, improve prompts and compare results\nJoint exchange and transfer to your own company\n\n \nWhat you take with you \n\nBasic understanding of generative AI\nSafety in dealing with AI tools\nConcrete ideas for use in your own company\nA realistic picture of opportunities and limitations\nExchange with other companies from the trade sector\n\n \n \nTarget group \nOwners of craft businesses and employees from the office\, site management\, planning or customer contact. \n \nSpeakers \n\nConstantin von Brackel\, University of Hamburg – IT Management & Consulting (ITMC)\nEmir Kučević\, University of Hamburg – IT Management & Consulting (ITMC)\nNiklas Soldwedel – AI Trainer\, Mittelstand-Digital Zentrum Hamburg\n\nModeration \nSandra Holm\, Mittelstand Digital Center Hamburg \n \n \nVenueParticipation only after confirmed registration! The number of participants is limited. \nA small snack and drinks will be provided. \n \nThe event is organized in cooperation with EDIH HH \nQuestions about the event? Handwerk4.0@hwk-hamburg.de  \n \nPlease note the following information: \n\nBy registering\, you confirm that you have taken note of the privacy policy(Privacy Policy – 2024 (digitalzentrum-hamburg.de) and legal information(Imprint – Mittelstand-Digital Zentrum Hamburg 2024 (digitalzentrum-hamburg.de)). Your data will not be used for advertising purposes. The data will be stored for the duration of the event and for evaluation purposes.  \n\n \nFunding from the BMWK enables us to offer you this event free of charge. \n \n \nYours sincerely \nYour Mittelstand Digital Center Hamburg team
URL:https://edih-hamburg.de/en/event/prompt-a-thon-understanding-and-trying-out-ai-in-the-trade/
LOCATION:Digital Hub Logistics & Commerce\, Am Sandtorkai 32\, Hamburg\, HH\, 20457\, Germany
ATTACH;FMTTYPE=image/jpeg:https://edih-hamburg.de/wp-content/uploads/2026/02/f61b1facc910bec760e7f3f9e90a951d.jpg
END:VEVENT
END:VCALENDAR