BEGIN:VCALENDAR
VERSION:2.0
PRODID:-//edih-hamburg - ECPv6.15.20//NONSGML v1.0//EN
CALSCALE:GREGORIAN
METHOD:PUBLISH
X-ORIGINAL-URL:https://edih-hamburg.de/en/
X-WR-CALDESC:Events for edih-hamburg
REFRESH-INTERVAL;VALUE=DURATION:PT1H
X-Robots-Tag:noindex
X-PUBLISHED-TTL:PT1H
BEGIN:VTIMEZONE
TZID:Europe/Berlin
BEGIN:DAYLIGHT
TZOFFSETFROM:+0100
TZOFFSETTO:+0200
TZNAME:CEST
DTSTART:20250330T010000
END:DAYLIGHT
BEGIN:STANDARD
TZOFFSETFROM:+0200
TZOFFSETTO:+0100
TZNAME:CET
DTSTART:20251026T010000
END:STANDARD
BEGIN:DAYLIGHT
TZOFFSETFROM:+0100
TZOFFSETTO:+0200
TZNAME:CEST
DTSTART:20260329T010000
END:DAYLIGHT
BEGIN:STANDARD
TZOFFSETFROM:+0200
TZOFFSETTO:+0100
TZNAME:CET
DTSTART:20261025T010000
END:STANDARD
BEGIN:DAYLIGHT
TZOFFSETFROM:+0100
TZOFFSETTO:+0200
TZNAME:CEST
DTSTART:20270328T010000
END:DAYLIGHT
BEGIN:STANDARD
TZOFFSETFROM:+0200
TZOFFSETTO:+0100
TZNAME:CET
DTSTART:20271031T010000
END:STANDARD
END:VTIMEZONE
BEGIN:VEVENT
DTSTART;TZID=Europe/Berlin:20260519T111500
DTEND;TZID=Europe/Berlin:20260519T120000
DTSTAMP:20260425T000145
CREATED:20260315T234745Z
LAST-MODIFIED:20260315T234745Z
UID:10000380-1779189300-1779192000@edih-hamburg.de
SUMMARY:Success factors in AI projects: Dealing with resistance
DESCRIPTION:Practical impetus for successful AI change projects\n\n\nArtificial intelligence offers great opportunities for small and medium-sized enterprises – but many projects fail not because of the technology\, but because of human resistance. In this online session\, you will learn why such resistance arises and how companies can deal with it constructively.  \n \nThe event provides a practical insight into the factors that influence the success of AI projects in companies. In addition to expert input from the Mittelstand-Digital Zentrum Hamburg\, an AI manager will report on her practical experience of introducing an AI project – including the challenges posed by human resistance and the most important lessons learned.  \n \nWhat you can expect \n\nExpert input on Success factor Dealing with resistance in AI change projects\nPractical report from a real AI project in the SME sector\nExperiential knowledge of typical human resistance to the introduction of AI\nExchange and discussion with all participants\n\n \n \nTarget group \nAll  AI enthusiastsfrom small and medium-sized companies who are involved in the introduction of AI – without the need for in-depth technical knowledge. \n \nSpeakers \n\nNiklas Soldwedel\, AI trainer\, Mittelstand-Digital Zentrum Hamburg\nChristine Mish\, Project Officer\, Mittelstand-Digital Zentrum Hamburg\n\n \nNote on the series of events \nThe event is part of the series “Selected success factors in AI change projects”\, designed by the SME Digital Centers Hamburg\, Kaiserslautern and Saarbrücken. \n \nPlease note the following information: \n\nBy registering\, you confirm that you have taken note of the privacy policy(Privacy Policy – 2024 (digitalzentrum-hamburg.de) and legal information(Imprint – Mittelstand-Digital Zentrum Hamburg 2024 (digitalzentrum-hamburg.de)). Your data will not be used for advertising purposes. The data will be stored for the duration of the event and for evaluation purposes.  \n\n \nFunding from the BMWK enables us to offer you this event free of charge. \n \nThe event is organized in cooperation with EDIH HH \nQuestions about the event? Handwerk4.0@hwk-hamburg.de  \n \nYours sincerely \nYour Mittelstand Digital Center Hamburg team
URL:https://edih-hamburg.de/en/event/success-factors-in-ai-projects-dealing-with-resistance/
LOCATION:HH
ATTACH;FMTTYPE=image/jpeg:https://edih-hamburg.de/wp-content/uploads/2026/03/3bab87988899a9e207d857a6582d7f8d.jpg
END:VEVENT
BEGIN:VEVENT
DTSTART;TZID=Europe/Berlin:20260521T120000
DTEND;TZID=Europe/Berlin:20260521T123000
DTSTAMP:20260425T000145
CREATED:20260317T110311Z
LAST-MODIFIED:20260317T110311Z
UID:10000391-1779364800-1779366600@edih-hamburg.de
SUMMARY:ARIC Brown Bag: Insight: Image literacy\, fake news and AI
DESCRIPTION:Exchange and insights into AI projects – practical experience from the community\n\n\nImage literacy has always been an important part of media literacy. With the increasing social penetration of AI technologies and in the context of fake news and disinformation\, this area is becoming more explosive. Since a great deal of political information is also communicated and received via images\, image literacy also makes an important contribution to the preservation of democracies.   \n\n\nImportant information: From January 2026 you will find our ARIC Brown Bag announcements on Eventbrite. Don’t want to miss anything? Then follow us on Eventbrite or check our website regularly.   \n\n\nThis format is offered as part of the EDIH Hamburg\, with support from the European Union and the Hamburgische Investitions- und Förderbank. #EDIHHamburg
URL:https://edih-hamburg.de/en/event/aric-brown-bag-insight-image-literacy-fake-news-and-ai/
LOCATION:HH
ATTACH;FMTTYPE=image/jpeg:https://edih-hamburg.de/wp-content/uploads/2026/03/db159af364b5ce73a4f44a9dca75202d.jpg
END:VEVENT
END:VCALENDAR