BEGIN:VCALENDAR
VERSION:2.0
PRODID:-//edih-hamburg - ECPv6.15.20//NONSGML v1.0//EN
CALSCALE:GREGORIAN
METHOD:PUBLISH
X-ORIGINAL-URL:https://edih-hamburg.de/en/
X-WR-CALDESC:Events for edih-hamburg
REFRESH-INTERVAL;VALUE=DURATION:PT1H
X-Robots-Tag:noindex
X-PUBLISHED-TTL:PT1H
BEGIN:VTIMEZONE
TZID:Europe/Berlin
BEGIN:DAYLIGHT
TZOFFSETFROM:+0100
TZOFFSETTO:+0200
TZNAME:CEST
DTSTART:20250330T010000
END:DAYLIGHT
BEGIN:STANDARD
TZOFFSETFROM:+0200
TZOFFSETTO:+0100
TZNAME:CET
DTSTART:20251026T010000
END:STANDARD
BEGIN:DAYLIGHT
TZOFFSETFROM:+0100
TZOFFSETTO:+0200
TZNAME:CEST
DTSTART:20260329T010000
END:DAYLIGHT
BEGIN:STANDARD
TZOFFSETFROM:+0200
TZOFFSETTO:+0100
TZNAME:CET
DTSTART:20261025T010000
END:STANDARD
BEGIN:DAYLIGHT
TZOFFSETFROM:+0100
TZOFFSETTO:+0200
TZNAME:CEST
DTSTART:20270328T010000
END:DAYLIGHT
BEGIN:STANDARD
TZOFFSETFROM:+0200
TZOFFSETTO:+0100
TZNAME:CET
DTSTART:20271031T010000
END:STANDARD
END:VTIMEZONE
BEGIN:VEVENT
DTSTART;TZID=Europe/Berlin:20260225T170000
DTEND;TZID=Europe/Berlin:20260225T193000
DTSTAMP:20260424T150542
CREATED:20260121T234803Z
LAST-MODIFIED:20260121T234803Z
UID:10000317-1772038800-1772047800@edih-hamburg.de
SUMMARY:#Werkstatt Talk: AI & images - what is already possible today
DESCRIPTION:Pictures say more than 1\,000 words – and with artificial intelligence (AI)\, they are now also becoming really practical for the trade.\n\n\nWhether documentation\, website\, social media or quality control: image AI can save you time\, improve processes and create new opportunities. \nIn the  The #Werkstatt Talk is all about real practice: together\, we will look at what image AI can really do for your business – and you can join in and try out your first applications. By the end\, you will know what makes sense for your business and how you can get started without too much effort.  \nFrom image to tool: AI makes it possible. \n \nContents \n\nWhat is the state of the art in  AI& images (short\, understandable\, practical)\nAI quiz: take part\, try it out\, collect aha moments\nAI image generation and processing: application ideas and examples\nImplementation project: “On the way to smart quality control”\nTrain AI yourself: what you need (data\, images\, effort\, tools)\nInterview & talk with the host craft business: digital AI projects in practice\nExchange of experience: What are other companies planning? What works quickly? Where are the problems?  \n\nEverything is compact\, easy to understand and tailored to small and medium-sized trade businesses. \n \nTarget group \nCraft businesses that want to get to know image AI in a practical way and take away ideas for their own business – from marketing to quality control. \n \nSpeakers \n\nNiklas Soldwedel – AI Trainer\, Mittelstand-Digital Zentrum Hamburg\nDennis Wohlers\, Mittelstand Digital Center Hamburg\n\nModeration \nSandra Holm\, Mittelstand Digital Center Hamburg \nVenueThe event will take place on February 25\, 2026 in a craft business in Hamburg-Groß Borstel. Participation only after confirmed registration. The number of participants is limited.   \nRefreshments and drinks will be provided. \n \nThe event is organized in cooperation with EDIH HH \nQuestions about the event? Handwerk4.0@hwk-hamburg.de  \n \nPlease note the following information: \n\nBy registering\, you confirm that you have taken note of the privacy policy(Privacy Policy – 2024 (digitalzentrum-hamburg.de) and legal information(Imprint – Mittelstand-Digital Zentrum Hamburg 2024 (digitalzentrum-hamburg.de)). Your data will not be used for advertising purposes. The data will be stored for the duration of the event and for evaluation purposes.  \n\n \nFunding from the BMWK enables us to offer you this event free of charge. \n \n \nYours sincerely \nYour Mittelstand Digital Center Hamburg team
URL:https://edih-hamburg.de/en/event/werkstatt-talk-ai-images-what-is-already-possible-today/
LOCATION:Borsteler Chaussee\, Borsteler Chaussee\, Hamburg\, HH\, 22453\, Germany
ATTACH;FMTTYPE=image/jpeg:https://edih-hamburg.de/wp-content/uploads/2026/01/cdd8e1820a4d89a8de872939d30fcb21.jpg
END:VEVENT
END:VCALENDAR