BEGIN:VCALENDAR
VERSION:2.0
PRODID:-//edih-hamburg - ECPv6.15.20//NONSGML v1.0//EN
CALSCALE:GREGORIAN
METHOD:PUBLISH
X-ORIGINAL-URL:https://edih-hamburg.de/en/
X-WR-CALDESC:Events for edih-hamburg
REFRESH-INTERVAL;VALUE=DURATION:PT1H
X-Robots-Tag:noindex
X-PUBLISHED-TTL:PT1H
BEGIN:VTIMEZONE
TZID:Europe/Berlin
BEGIN:DAYLIGHT
TZOFFSETFROM:+0100
TZOFFSETTO:+0200
TZNAME:CEST
DTSTART:20240331T010000
END:DAYLIGHT
BEGIN:STANDARD
TZOFFSETFROM:+0200
TZOFFSETTO:+0100
TZNAME:CET
DTSTART:20241027T010000
END:STANDARD
BEGIN:DAYLIGHT
TZOFFSETFROM:+0100
TZOFFSETTO:+0200
TZNAME:CEST
DTSTART:20250330T010000
END:DAYLIGHT
BEGIN:STANDARD
TZOFFSETFROM:+0200
TZOFFSETTO:+0100
TZNAME:CET
DTSTART:20251026T010000
END:STANDARD
BEGIN:DAYLIGHT
TZOFFSETFROM:+0100
TZOFFSETTO:+0200
TZNAME:CEST
DTSTART:20260329T010000
END:DAYLIGHT
BEGIN:STANDARD
TZOFFSETFROM:+0200
TZOFFSETTO:+0100
TZNAME:CET
DTSTART:20261025T010000
END:STANDARD
END:VTIMEZONE
BEGIN:VEVENT
DTSTART;TZID=Europe/Berlin:20250409T160000
DTEND;TZID=Europe/Berlin:20250409T190000
DTSTAMP:20260425T040829
CREATED:20250221T085836Z
LAST-MODIFIED:20250224T171207Z
UID:10000038-1744214400-1744225200@edih-hamburg.de
SUMMARY:Introduction to Threat Detection & Prevention
DESCRIPTION:Learn how to protect your business from Cyber Threats!\n\n\n🔒Learn how to protect your Business from Cyber Threats \nIn today’s technology-driven world\, it’s essential for small and medium-sized enterprises (SMEs) to actively monitor network security and recognize potential threats early to ensure the safety of their organizations. To safeguard your business\, all employees must develop a fundamental understanding of network vulnerabilities. \n \n🌍 What to Expect: \nYou will also be introduced to real-world scenarios and learn strategies for securing networks and implementing effective security measures. This workshop includes both theoretical insights and practical exercises. During this workshop\, we will focus on: \n \n\nUnderstanding enterprise network security 🔒\nEmerging network threats and attacks 🚨\nIntrusion detection and prevention techniques 🔍\nCommon tools used to identify and prevent threats 🛠️\nHands-on activities with an industry-leading tool. 🖐️\n\n \n🗣️Speaker: Dr. Anum Talpur – Research Associate at Research Group Computer Networks\, Department of Informatics\, University of Hamburg. \n \n🇬🇧Language: This workshop will be held in English. \n \n🫵 Secure your spot! Places are limited. We look forward to seeing you at our workshop and working together on the security of your business! 🌟 \n \n❗Disclaimer: \nThis event is offered by HITeC e.V. as part of EDIH Hamburg. \nEDIH Hamburg is part of the European Digital Innovation Hub (EDIH) program. The aim of the program is to equip small and medium-sized enterprises (SMEs)\, medium-sized companies and public administrations (PSOs) in the Hamburg metropolitan region in particular for the challenges of tomorrow. The requirements for critical infrastructures are changing and new solutions need to be evaluated and implemented – from general digitalization topics to cybersecurity issues\, artificial intelligence\, distributed infrastructure and high-performance computing.
URL:https://edih-hamburg.de/en/event/introduction-to-threat-detection-prevention/
LOCATION:Digital Hub Logistics & Commerce\, Am Sandtorkai 32\, Hamburg\, HH\, 20457\, Germany
ATTACH;FMTTYPE=image/jpeg:https://edih-hamburg.de/wp-content/uploads/2025/02/be565d11bb07cb369db84cd953a7c921-3.jpg
END:VEVENT
END:VCALENDAR