BEGIN:VCALENDAR
VERSION:2.0
PRODID:-//edih-hamburg - ECPv6.15.20//NONSGML v1.0//EN
CALSCALE:GREGORIAN
METHOD:PUBLISH
X-ORIGINAL-URL:https://edih-hamburg.de/en/
X-WR-CALDESC:Events for edih-hamburg
REFRESH-INTERVAL;VALUE=DURATION:PT1H
X-Robots-Tag:noindex
X-PUBLISHED-TTL:PT1H
BEGIN:VTIMEZONE
TZID:Europe/Berlin
BEGIN:DAYLIGHT
TZOFFSETFROM:+0100
TZOFFSETTO:+0200
TZNAME:CEST
DTSTART:20240331T010000
END:DAYLIGHT
BEGIN:STANDARD
TZOFFSETFROM:+0200
TZOFFSETTO:+0100
TZNAME:CET
DTSTART:20241027T010000
END:STANDARD
BEGIN:DAYLIGHT
TZOFFSETFROM:+0100
TZOFFSETTO:+0200
TZNAME:CEST
DTSTART:20250330T010000
END:DAYLIGHT
BEGIN:STANDARD
TZOFFSETFROM:+0200
TZOFFSETTO:+0100
TZNAME:CET
DTSTART:20251026T010000
END:STANDARD
BEGIN:DAYLIGHT
TZOFFSETFROM:+0100
TZOFFSETTO:+0200
TZNAME:CEST
DTSTART:20260329T010000
END:DAYLIGHT
BEGIN:STANDARD
TZOFFSETFROM:+0200
TZOFFSETTO:+0100
TZNAME:CET
DTSTART:20261025T010000
END:STANDARD
END:VTIMEZONE
BEGIN:VEVENT
DTSTART;TZID=Europe/Berlin:20250326T160000
DTEND;TZID=Europe/Berlin:20250326T180000
DTSTAMP:20260425T054632
CREATED:20250221T130042Z
LAST-MODIFIED:20250222T160421Z
UID:10000080-1743004800-1743012000@edih-hamburg.de
SUMMARY:Introduction to image generation with AI
DESCRIPTION:Get an insight into creating images with generative AI.\n\n\n\n                \n                💡Get an insight into generating images with AI💡\n               \nThe workshop offers an introduction to the creation of images with generative AI. \n\n                \n               \n\n                \n                What you can expect:\n               \n\nIntroduction to the basics\nPractical workflows\nPrompting for generating and transforming existing images\nSelection of neuronal models\nCreation of videos\n\n\n                \n               \n🗣️ Speaker: Dr. Matthias Kerzel – Knowledge Technology Engineer\, Department of Knowledge Technology and Knowledge Management (WTM)\, Department of Computer Science\, University of Hamburg. \n\n                \n               \n🇩🇪 Language: German \n\n                \n               \n🫵 Secure your place! Places are limited.  \n\n                \n               \nWe look forward to seeing you at our workshop and diving into the world of AI-generated imagery together! 🌟 \n\n                \n               \nDisclaimer: This event is offered by HITeC e.V. as part of EDIH Hamburg. \n\n                \n                EDIH Hamburg is  \n                \n                Part of the European Digital Innovation Hub (EDIH) program.  \n                \n                The aim of the program is to equip small and medium-sized enterprises (SMEs)\, mid-sized companies and public sector organizations (PSOs) in the Hamburg metropolitan region in particular for the challenges of tomorrow. The requirements for critical infrastructures are changing and new solutions need to be evaluated and implemented – from general digitalization topics to cybersecurity issues\, artificial intelligence\, distributed infrastructure and high-performance computing.
URL:https://edih-hamburg.de/en/event/introduction-to-image-generation-with-ai/
LOCATION:Digital Hub Logistics & Commerce\, Am Sandtorkai 32\, Hamburg\, HH\, 20457\, Germany
ATTACH;FMTTYPE=image/jpeg:https://edih-hamburg.de/wp-content/uploads/2025/02/1210fd57087c9e052ce7dae2bc20689a-3.jpg
END:VEVENT
BEGIN:VEVENT
DTSTART;TZID=Europe/Berlin:20250319T160000
DTEND;TZID=Europe/Berlin:20250319T180000
DTSTAMP:20260425T054632
CREATED:20250221T130219Z
LAST-MODIFIED:20250222T160420Z
UID:10000081-1742400000-1742407200@edih-hamburg.de
SUMMARY:AI for decision-makers
DESCRIPTION:Learn all the basics about AI and how you can successfully implement AI projects in your company.\n\n\n🔒Learn the basics about AI for your company \nYou are not a edeveloperand have no experience with AI or AI projects\, but want to participate in discussions about the use of AI in your company or decide on AI projects? \nHere you will learn the basic concepts of AI and machine learning\, in particular how machine learning works\, what is needed to implement successful AI projects and what data is needed to achieve good results. The workshop will give you the vocabulary you need to communicate with others and understand problems.  \n\n                \n               \n🌍 What you can expect \nThe workshop offers a comprehensive introduction to the world of artificial intelligence without getting lost in technical details. We explain the general procedure and introduce all the important terms.  \n\n                \n               \n\nTerms and concepts\nData-driven AI (machine learning)\nLearning processes of an AI\nAreas of application for AI\nData requirements\nSuccessful AI projects\n\n\n                \n               \n⚡️Target group \nThe workshop is explicitly aimed at non-computer scientists and especially decision-makers\, CEOs\, marketing experts\, or future users in general who want to know about the basic principles and procedures of machine learning and data-based AI. \n\n                \n               \n🗣️Speaker: Dr. Sven Magg – Postdoctoral Teaching Associate\, Knowledge Technology\, Department of Informatics\, University of Hamburg. \n\n                \n               \n🇩🇪 Language: This workshop will be held in German. \n\n                \n               \n❗️Disclaimer: This event is offered by HITeC e.V. as part of EDIH Hamburg. \n\n                \n                EDIH Hamburg is  \n                \n                Part of the European Digital Innovation Hub (EDIH) program.  \n                \n                The aim of the program is to equip small and medium-sized enterprises (SMEs)\, mid-sized companies and public sector organizations (PSOs) in the Hamburg metropolitan region in particular for the challenges of tomorrow. The requirements for critical infrastructures are changing and new solutions need to be evaluated and implemented – from general digitalization topics to cybersecurity issues\, artificial intelligence\, distributed infrastructure and high-performance computing.
URL:https://edih-hamburg.de/en/event/ai-for-decision-makers/
LOCATION:Digital Hub Logistics & Commerce\, Am Sandtorkai 32\, Hamburg\, HH\, 20457\, Germany
ATTACH;FMTTYPE=image/jpeg:https://edih-hamburg.de/wp-content/uploads/2025/02/672f00ee10be3555e9cebc708ad16926-2.jpg
END:VEVENT
END:VCALENDAR