BEGIN:VCALENDAR
VERSION:2.0
PRODID:-//edih-hamburg - ECPv6.15.20//NONSGML v1.0//EN
CALSCALE:GREGORIAN
METHOD:PUBLISH
X-WR-CALNAME:edih-hamburg
X-ORIGINAL-URL:https://edih-hamburg.de/en/
X-WR-CALDESC:Events for edih-hamburg
REFRESH-INTERVAL;VALUE=DURATION:PT1H
X-Robots-Tag:noindex
X-PUBLISHED-TTL:PT1H
BEGIN:VTIMEZONE
TZID:Europe/Berlin
BEGIN:DAYLIGHT
TZOFFSETFROM:+0100
TZOFFSETTO:+0200
TZNAME:CEST
DTSTART:20240331T010000
END:DAYLIGHT
BEGIN:STANDARD
TZOFFSETFROM:+0200
TZOFFSETTO:+0100
TZNAME:CET
DTSTART:20241027T010000
END:STANDARD
BEGIN:DAYLIGHT
TZOFFSETFROM:+0100
TZOFFSETTO:+0200
TZNAME:CEST
DTSTART:20250330T010000
END:DAYLIGHT
BEGIN:STANDARD
TZOFFSETFROM:+0200
TZOFFSETTO:+0100
TZNAME:CET
DTSTART:20251026T010000
END:STANDARD
BEGIN:DAYLIGHT
TZOFFSETFROM:+0100
TZOFFSETTO:+0200
TZNAME:CEST
DTSTART:20260329T010000
END:DAYLIGHT
BEGIN:STANDARD
TZOFFSETFROM:+0200
TZOFFSETTO:+0100
TZNAME:CET
DTSTART:20261025T010000
END:STANDARD
END:VTIMEZONE
BEGIN:VEVENT
DTSTART;TZID=Europe/Berlin:20250606T090000
DTEND;TZID=Europe/Berlin:20250606T130000
DTSTAMP:20260425T011300
CREATED:20250523T130642Z
LAST-MODIFIED:20250523T130642Z
UID:10000164-1749200400-1749214800@edih-hamburg.de
SUMMARY:3-part workshop series “Craftsmanship - getting better by doing things differently”
DESCRIPTION:From talking to doing – develop creative business models with artificial intelligence!\n\n\n\nAre you the owner\, founder\, transferee or (team) leader of a craft business or craft-related business in Hamburg and the surrounding area?\nWould you like to future-proof your company with innovative\, AI-supported business models?\nPhrases like “We’ve always done it this way” are not your motto?\n\n \nThen our 3-part workshop series is just right for you! \n \nWhat can you expect?\nIn these three practice-oriented workshops\, you will work with experts from the Mittelstand-Digital Zentrum to develop new business models for your company. We use creative methods to develop tailor-made solutions.  \n✔️ Analyze your current business model – Identify potential for innovation\, including through AI.✔️ Creative development of new business models – Use innovative methods to generate sustainable ideas and win the customer of tomorrow✔️  Implementation planning – Create concrete steps for implementing the new business models in your company. \n \nWhy AI in the skilled trades?\nArtificial intelligence offers a wide range of opportunities to transform traditional craft businesses and open up new areas of business. Together\, we develop ideas on how you can use AI:  \n\nOffer new services\nStrengthen your customer relationships or acquire new customers\nDesigning more efficient processes\n\n \nAn example of success: suitable for grandchildrenA Hamburg-based manufacturer of workwear has developed a completely new business model in the circular economy through the latest series of workshops. The aim is to make clothing more sustainable in order to make a contribution to the environment. Creative methods have resulted in a completely new service for transparency – a    score (similar to the NUTRI score)\, which evaluates the circularity of clothing – a real success story! Read more: Insta reel circular economy  \n \n \nBring reinforcements with you!\nFor successful implementation\, we recommend bringing along an employee from your company. Together you can better realize the ideas developed. This is necessary from the 2nd workshop at the latest.   \n \n \nDates:\n📌 June 6\, 2025 | June 27\, 2025 | July 18\, 2025 – from 9 a.m. to 1 p.m.📍  Hamburg Chamber of Crafts / Digital Hub Hamburg \n \n \nSpeakers:\n\nChristine Mish (Mittelstand-Digital Zentrum Hamburg)\nFriedemann Masur (Digitalization Consultant\, Hamburg Chamber of Skilled Crafts\, EDIH Hamburg)\nDavid Cassiel Trapp (Advisory Centre for Innovation and Technology\, focus on digitalization)\nSebastian Peter (Mittelstand Digital Center Berlin)\n\n \n \nFree of charge – but binding!\nParticipation is free of charge. However\, we expect a   Binding registration for all 3 dates in order to make optimum use of the limited places. Even after the Konvoi workshop series\, there are limited opportunities for further support with implementation.  \n \nPlaces are limited – register now and actively shape the future of your company! \n➡️ Secure your place today! \n \n————— \n \nPlease note the following information: \n\nBy registering\, you confirm that you have taken note of the privacy policy(Privacy Policy – 2024 (digitalzentrum-hamburg.de) and legal information(Imprint – Mittelstand-Digital Zentrum Hamburg 2024 (digitalzentrum-hamburg.de)). Your data will not be used for advertising purposes. The data will be stored for the duration of the event and for evaluation purposes.  \n\n \nFunding from the BMWK enables us to offer you this event free of charge. \n \n \nYours sincerely \nYour Mittelstand Digital Center Hamburg team
URL:https://edih-hamburg.de/en/event/3-part-workshop-series-craftsmanship-getting-better-by-doing-things-differently/
LOCATION:Digital Hub Logistics & Commerce\, Am Sandtorkai 32\, Hamburg\, HH\, 20457\, Germany
ATTACH;FMTTYPE=image/jpeg:https://edih-hamburg.de/wp-content/uploads/2025/03/c41b744c301b5d1a6f40bcb046ee5916.jpg
END:VEVENT
BEGIN:VEVENT
DTSTART;TZID=Europe/Berlin:20250429T133000
DTEND;TZID=Europe/Berlin:20250429T170000
DTSTAMP:20260425T011300
CREATED:20250523T130643Z
LAST-MODIFIED:20250523T130643Z
UID:10000166-1745933400-1745946000@edih-hamburg.de
SUMMARY:Successfully introducing AI: Overcoming challenges together
DESCRIPTION:The workshop shows how AI is introduced in the company and offers a roadmap based on the “AI Navigator” research project.\n\n\nArtificial intelligence can create added value in many areas of a company – from increasing efficiency by automating time-consuming processes to using generative AI as an assistant for daily tasks and opening up new business areas.The key question is no longer  when\, but  how AI should be introduced in your own company.To answer this question\, a roadmap for the introduction of AI will be presented in this workshop. Results from the “AI Navigator” research project will be prepared and adapted to the specific requirements of the participants.  \nThe focus is on taking your individual needs into account and offering practical solutions. \nWhat you can expect: \n\nKeynote speech: Artificial intelligence.\n\n\nUse cases: Concrete examples illustrate how AI can be used to make administrative processes more efficient.\n\n\nStrategies for introducing AI: We present you with a practice-oriented introduction concept that has been specially developed for small and medium-sized companies. You will learn step by step how to introduce AI. \n\n\nDiscussion: Bring in your questions and ideas to develop solutions together.\n\n\nPlease note the following information: \n\nBy registering\, you confirm that you have taken note of the privacy policy(Privacy Policy – 2024 (digitalzentrum-hamburg.de) and legal information(Imprint – Mittelstand-Digital Zentrum Hamburg 2024 (digitalzentrum-hamburg.de)). Your data will not be used for advertising purposes. The data will be stored for the duration of the event and for evaluation purposes.  \n\nFunding from the BMWK enables us to offer you this event free of charge.This event is being held in cooperation with the EDIH. \n \nYours sincerelyYour Mittelstand-Digital Zentrum Hamburg-Team
URL:https://edih-hamburg.de/en/event/successfully-introducing-ai-overcoming-challenges-together-2/
LOCATION:Digital Hub Logistics & Commerce\, Am Sandtorkai 32\, Hamburg\, HH\, 20457\, Germany
ATTACH;FMTTYPE=image/jpeg:https://edih-hamburg.de/wp-content/uploads/2025/02/5e7c56c32ba5fab4ac6f025894147178.jpg
END:VEVENT
END:VCALENDAR