BEGIN:VCALENDAR
VERSION:2.0
PRODID:-//edih-hamburg - ECPv6.15.20//NONSGML v1.0//EN
CALSCALE:GREGORIAN
METHOD:PUBLISH
X-ORIGINAL-URL:https://edih-hamburg.de/en/
X-WR-CALDESC:Events for edih-hamburg
REFRESH-INTERVAL;VALUE=DURATION:PT1H
X-Robots-Tag:noindex
X-PUBLISHED-TTL:PT1H
BEGIN:VTIMEZONE
TZID:Europe/Berlin
BEGIN:DAYLIGHT
TZOFFSETFROM:+0100
TZOFFSETTO:+0200
TZNAME:CEST
DTSTART:20250330T010000
END:DAYLIGHT
BEGIN:STANDARD
TZOFFSETFROM:+0200
TZOFFSETTO:+0100
TZNAME:CET
DTSTART:20251026T010000
END:STANDARD
BEGIN:DAYLIGHT
TZOFFSETFROM:+0100
TZOFFSETTO:+0200
TZNAME:CEST
DTSTART:20260329T010000
END:DAYLIGHT
BEGIN:STANDARD
TZOFFSETFROM:+0200
TZOFFSETTO:+0100
TZNAME:CET
DTSTART:20261025T010000
END:STANDARD
BEGIN:DAYLIGHT
TZOFFSETFROM:+0100
TZOFFSETTO:+0200
TZNAME:CEST
DTSTART:20270328T010000
END:DAYLIGHT
BEGIN:STANDARD
TZOFFSETFROM:+0200
TZOFFSETTO:+0100
TZNAME:CET
DTSTART:20271031T010000
END:STANDARD
END:VTIMEZONE
BEGIN:VEVENT
DTSTART;TZID=Europe/Berlin:20260423T140000
DTEND;TZID=Europe/Berlin:20260423T180000
DTSTAMP:20260420T083722
CREATED:20260226T233359Z
LAST-MODIFIED:20260226T233412Z
UID:10000376-1776952800-1776967200@edih-hamburg.de
SUMMARY:A breath of fresh air for workflows & processes
DESCRIPTION:Digitalization meets process optimization: How craft businesses work smarter with AI.\n\n\nBetween the workshop\, customers and time wastersTackling digitalization often means adapting existing workflows and processes. Why not discover and optimize the potential of workflow/process optimization in the skilled trades right away? Increase the efficiency and quality of your trade business in the long term.   \nThe aim of the workshop is to provide you with practical tools and methods that you can use to make your workflows and work processes more efficient. Artificial intelligence can be a helpful tool here.  \n \n \nIn interactive sessions we will work together: \n\nAnalyze workflows/processes and identify potential for optimization\,\nGet to know methods for improving processes and develop practical solutions using case studies.\ndevelop practical solutions on the basis of case studies.\nUse AI tools: Document results\, carry out error analyses and communicate clearly.\nCreate a simple process as automation to make the potential of digital and AI-supported process automation tangible.\n\n \n \nThe workshop also offers you a great opportunity to network and exchange experiences with other trade professionals. \n \n \nContents \n\nDigitization and processes – why do they belong together?\nProcess optimization basics\, methods and goals\nIdentification of bottlenecks and waste\nAnalysis and improvement of own work processes\nImplementation strategies for change\nUse of AI tools in process optimization\n\n \n \nOutlook: As part of the workshop\, we are offering free implementation support for a trade business in the form of a half-day workshop. \n \n \nSpeaker \n\nDaniel Pieper\, Carpenter & Process Manager\nNiklas Soldwedel\, Mittelstand Digital Center Hamburg\n\n \n \nModeration \n\nSandra Holm\, Mittelstand Digital Center Hamburg\n\n \n \nVenue ELBCAMPUS Hamburg\, Zum Handwerkszentrum 1\, 21079 Hamburg.   \nParticipation only after confirmed registration. The number of participants is limited. \n \n \nRefreshments and drinks will be provided. \n \n \nTarget group: Employees\, managing directors\, owners\, tradespeople from the skilled trades sector \n \n \nThe event is organized in cooperation with EDIH HH \nQuestions about the event? Handwerk4.0@hwk-hamburg.de  \n \n \n \n \nPlease note the following information: \n\nBy registering\, you confirm that you have taken note of the privacy policy(Privacy Policy – 2024 (digitalzentrum-hamburg.de) and legal information(Imprint – Mittelstand-Digital Zentrum Hamburg 2024 (digitalzentrum-hamburg.de)). Your data will not be used for advertising purposes. The data will be stored for the duration of the event and for evaluation purposes.  \n\n \n \nFunding from the BMWK enables us to offer you this event free of charge. \n \n \n \n \nYours sincerely \nYour Mittelstand Digital Center Hamburg team
URL:https://edih-hamburg.de/en/event/a-breath-of-fresh-air-for-workflows-processes-3/
LOCATION:ELBCAMPUS Hamburg\, To the craft center 1\, Hamburg\, HH\, 21079\, Germany
ATTACH;FMTTYPE=image/jpeg:https://edih-hamburg.de/wp-content/uploads/2025/05/bd8997bd8b0d30e7ee6e5f3f7c136c42.jpg
END:VEVENT
END:VCALENDAR